BEGIN:VCALENDAR
VERSION:2.0
PRODID:-//Waterfront District BIA - ECPv6.15.20//NONSGML v1.0//EN
CALSCALE:GREGORIAN
METHOD:PUBLISH
X-WR-CALNAME:Waterfront District BIA
X-ORIGINAL-URL:https://www.waterfrontdistrict.ca
X-WR-CALDESC:Events for Waterfront District BIA
REFRESH-INTERVAL;VALUE=DURATION:PT1H
X-Robots-Tag:noindex
X-PUBLISHED-TTL:PT1H
BEGIN:VTIMEZONE
TZID:America/Halifax
BEGIN:DAYLIGHT
TZOFFSETFROM:-0400
TZOFFSETTO:-0300
TZNAME:ADT
DTSTART:20250309T060000
END:DAYLIGHT
BEGIN:STANDARD
TZOFFSETFROM:-0300
TZOFFSETTO:-0400
TZNAME:AST
DTSTART:20251102T050000
END:STANDARD
BEGIN:DAYLIGHT
TZOFFSETFROM:-0400
TZOFFSETTO:-0300
TZNAME:ADT
DTSTART:20260308T060000
END:DAYLIGHT
BEGIN:STANDARD
TZOFFSETFROM:-0300
TZOFFSETTO:-0400
TZNAME:AST
DTSTART:20261101T050000
END:STANDARD
BEGIN:DAYLIGHT
TZOFFSETFROM:-0400
TZOFFSETTO:-0300
TZNAME:ADT
DTSTART:20270314T060000
END:DAYLIGHT
BEGIN:STANDARD
TZOFFSETFROM:-0300
TZOFFSETTO:-0400
TZNAME:AST
DTSTART:20271107T050000
END:STANDARD
END:VTIMEZONE
BEGIN:VEVENT
DTSTART;TZID=America/Halifax:20260423T183000
DTEND;TZID=America/Halifax:20260423T183000
DTSTAMP:20260423T030123
CREATED:20260421T041319Z
LAST-MODIFIED:20260421T041407Z
UID:8654-1776969000-1776969000@www.waterfrontdistrict.ca
SUMMARY:Candle Class
DESCRIPTION:Candle Class – During this 60-90 minute fragrance experience\, you will test and create your own signature scent using high quality fragrance oils\, pour yourself two 8oz candles\, choose font and design elements for your label\, make a room spray in one of our most popular scents\, and shop our collection with your exclusive 10% discount. Feel free to stop by Woodside Bar\, located inside the building\, to grab yourself something to sip on during class.
URL:https://www.waterfrontdistrict.ca/event/candle-class/
LOCATION:Peace & Quiet Candle Co @ Goods & Co. Market\, 251 Red River Rd\, Thunder Bay
END:VEVENT
BEGIN:VEVENT
DTSTART;TZID=America/Halifax:20260423T210000
DTEND;TZID=America/Halifax:20260423T210000
DTSTAMP:20260423T030123
CREATED:20260408T155638Z
LAST-MODIFIED:20260408T155723Z
UID:8561-1776978000-1776978000@www.waterfrontdistrict.ca
SUMMARY:JORDAN & NICK WARREN
DESCRIPTION:
URL:https://www.waterfrontdistrict.ca/event/jordan-nick-warren/
LOCATION:The Foundry\, 242 Red River Road\, Thunder Bay\, Ontario\, p7b1a6\, Canada
END:VEVENT
END:VCALENDAR