BEGIN:VCALENDAR
VERSION:2.0
PRODID:-//Waterfront District BIA - ECPv6.15.20//NONSGML v1.0//EN
CALSCALE:GREGORIAN
METHOD:PUBLISH
X-WR-CALNAME:Waterfront District BIA
X-ORIGINAL-URL:https://www.waterfrontdistrict.ca
X-WR-CALDESC:Events for Waterfront District BIA
REFRESH-INTERVAL;VALUE=DURATION:PT1H
X-Robots-Tag:noindex
X-PUBLISHED-TTL:PT1H
BEGIN:VTIMEZONE
TZID:America/Halifax
BEGIN:DAYLIGHT
TZOFFSETFROM:-0400
TZOFFSETTO:-0300
TZNAME:ADT
DTSTART:20240310T060000
END:DAYLIGHT
BEGIN:STANDARD
TZOFFSETFROM:-0300
TZOFFSETTO:-0400
TZNAME:AST
DTSTART:20241103T050000
END:STANDARD
BEGIN:DAYLIGHT
TZOFFSETFROM:-0400
TZOFFSETTO:-0300
TZNAME:ADT
DTSTART:20250309T060000
END:DAYLIGHT
BEGIN:STANDARD
TZOFFSETFROM:-0300
TZOFFSETTO:-0400
TZNAME:AST
DTSTART:20251102T050000
END:STANDARD
BEGIN:DAYLIGHT
TZOFFSETFROM:-0400
TZOFFSETTO:-0300
TZNAME:ADT
DTSTART:20260308T060000
END:DAYLIGHT
BEGIN:STANDARD
TZOFFSETFROM:-0300
TZOFFSETTO:-0400
TZNAME:AST
DTSTART:20261101T050000
END:STANDARD
END:VTIMEZONE
BEGIN:VEVENT
DTSTART;TZID=America/Halifax:20250717T190000
DTEND;TZID=America/Halifax:20250717T220000
DTSTAMP:20260422T192012
CREATED:20250716T133225Z
LAST-MODIFIED:20250716T133225Z
UID:6732-1752778800-1752789600@www.waterfrontdistrict.ca
SUMMARY:Open Mic Night
DESCRIPTION:What’s Open Mic Night all about? Fresh beer\, delicious food\, local talent\, and good vibes.🙌 \nDiscover new local talent every Thursday from 7:30-10pm in the taproom or sign up at the bar and perform for a free beverage! \nNo experience needed\, we’re here to cheer you on. \nTaproom open 4pm-11pm Thursday!🍻 \n**All ages / guardian supervision is mandatory for minors
URL:https://www.waterfrontdistrict.ca/event/open-mic-night-3/
LOCATION:Lakehead Beer Co\, 206 Park Ave\, Thunder Bay
CATEGORIES:Concert,Food,Kids
END:VEVENT
BEGIN:VEVENT
DTSTART;TZID=America/Halifax:20250717T200000
DTEND;TZID=America/Halifax:20250717T233000
DTSTAMP:20260422T192012
CREATED:20250716T133857Z
LAST-MODIFIED:20250716T133857Z
UID:6736-1752782400-1752795000@www.waterfrontdistrict.ca
SUMMARY:Ethereal Tomb W/Mile End & Smuther
DESCRIPTION:BPP is proud to present the Unified By Demise Tour on Thursday\, July 17th! \nAll Ages showcase featuring: \nETHEREAL TOMB (Barrie\, ON)\nMILE END (Brampton\, ON)\nSMUTHER (Vancouver \,BC)\nLocals Support TBA \nAll Ages/Licensed\n8pm Doors\, 830pm Show\n$20/PWYC at the door
URL:https://www.waterfrontdistrict.ca/event/ethereal-tomb-w-mile-end-smuther/
LOCATION:Black Pirates Pub\, 215 Red River Rd\, Suite 101\, Thunder Bay\, ON\, Canada
CATEGORIES:Concert,Kids
END:VEVENT
BEGIN:VEVENT
DTSTART;TZID=America/Halifax:20250718T180000
DTEND;TZID=America/Halifax:20250718T210000
DTSTAMP:20260422T192012
CREATED:20250716T140212Z
LAST-MODIFIED:20250716T140212Z
UID:6746-1752861600-1752872400@www.waterfrontdistrict.ca
SUMMARY:Jazz and Old Fashioned Fridays Ft. Mood Indigo
DESCRIPTION:Don’t miss the spectacular scenery\, smooth jazz and incredibly crafted cocktails and food at Anchor & Ore in The Delta Hotel with Mood Indigo!
URL:https://www.waterfrontdistrict.ca/event/jazz-and-old-fashioned-fridays-ft-mood-indigo-2/
LOCATION:Anchor & Ore\, 2240 Sleeping Giant Pkwy\, Thunder Bay\, ON\, Canada
CATEGORIES:Concert,Food
END:VEVENT
BEGIN:VEVENT
DTSTART;TZID=America/Halifax:20250719T150000
DTEND;TZID=America/Halifax:20250719T200000
DTSTAMP:20260422T192012
CREATED:20250513T153622Z
LAST-MODIFIED:20250513T153622Z
UID:6405-1752937200-1752955200@www.waterfrontdistrict.ca
SUMMARY:Festival of India
DESCRIPTION:Experience the rhythm of Indian beats\, indulge in delicious Indian cuisine\, and witness mesmerizing performances that will transport you to the heart of India!
URL:https://www.waterfrontdistrict.ca/event/festival-of-india-2/
LOCATION:Marina Park\, Thunder Bay\, ON\, Canada
CATEGORIES:Concert,Event
END:VEVENT
BEGIN:VEVENT
DTSTART;TZID=America/Halifax:20250720T150000
DTEND;TZID=America/Halifax:20250720T190000
DTSTAMP:20260422T192012
CREATED:20250513T153931Z
LAST-MODIFIED:20250513T153931Z
UID:6407-1753023600-1753038000@www.waterfrontdistrict.ca
SUMMARY:Festival of Colours
DESCRIPTION:Participants play\, chase and colour each other with dry powder. There will be Interactive Dance\, Live Kirtan Bands\, DJs\, Yoga\, Cuisine\, Colours\, and… Lots of Fun.
URL:https://www.waterfrontdistrict.ca/event/festival-of-colours-2/
LOCATION:Marina Park\, Thunder Bay\, ON\, Canada
CATEGORIES:Concert,Event
END:VEVENT
BEGIN:VEVENT
DTSTART;TZID=America/Halifax:20250723T180000
DTEND;TZID=America/Halifax:20250723T210000
DTSTAMP:20260422T192012
CREATED:20250513T154543Z
LAST-MODIFIED:20250513T154549Z
UID:6411-1753293600-1753304400@www.waterfrontdistrict.ca
SUMMARY:Live on the Waterfront Wednesdays
DESCRIPTION:Live on the Waterfront is a highly anticipated 8-part concert series that takes place every Wednesday evening during the summer season at Prince Arthur’s Landing\, Marina Park that featuring an impressive lineup of musical acts! Come out every Wednesday this summer at Marina Park\, starting on July 16th till August 20th. PLUS the Summer Send Off\, two back-to-back days\, August 27 and 28\, at Marina Park.
URL:https://www.waterfrontdistrict.ca/event/live-on-the-waterfront-wednesdays-2/
LOCATION:Marina Park\, Thunder Bay\, ON\, Canada
CATEGORIES:Concert,Event
END:VEVENT
BEGIN:VEVENT
DTSTART;TZID=America/Halifax:20250730T180000
DTEND;TZID=America/Halifax:20250730T210000
DTSTAMP:20260422T192012
CREATED:20250513T154630Z
LAST-MODIFIED:20250513T154630Z
UID:6413-1753898400-1753909200@www.waterfrontdistrict.ca
SUMMARY:Live on the Waterfront Wednesdays
DESCRIPTION:Live on the Waterfront is a highly anticipated 8-part concert series that takes place every Wednesday evening during the summer season at Prince Arthur’s Landing\, Marina Park that featuring an impressive lineup of musical acts! Come out every Wednesday this summer at Marina Park\, starting on July 16th till August 20th. PLUS the Summer Send Off\, two back-to-back days\, August 27 and 28\, at Marina Park.
URL:https://www.waterfrontdistrict.ca/event/live-on-the-waterfront-wednesdays-3/
LOCATION:Marina Park\, Thunder Bay\, ON\, Canada
CATEGORIES:Concert,Event
END:VEVENT
BEGIN:VEVENT
DTSTART;TZID=America/Halifax:20250806T180000
DTEND;TZID=America/Halifax:20250806T210000
DTSTAMP:20260422T192012
CREATED:20250513T154659Z
LAST-MODIFIED:20250513T154659Z
UID:6415-1754503200-1754514000@www.waterfrontdistrict.ca
SUMMARY:Live on the Waterfront Wednesdays
DESCRIPTION:Live on the Waterfront is a highly anticipated 8-part concert series that takes place every Wednesday evening during the summer season at Prince Arthur’s Landing\, Marina Park that featuring an impressive lineup of musical acts! Come out every Wednesday this summer at Marina Park\, starting on July 16th till August 20th. PLUS the Summer Send Off\, two back-to-back days\, August 27 and 28\, at Marina Park.
URL:https://www.waterfrontdistrict.ca/event/live-on-the-waterfront-wednesdays-4/
LOCATION:Marina Park\, Thunder Bay\, ON\, Canada
CATEGORIES:Concert,Event
END:VEVENT
BEGIN:VEVENT
DTSTART;TZID=America/Halifax:20250813T180000
DTEND;TZID=America/Halifax:20250813T210000
DTSTAMP:20260422T192012
CREATED:20250513T154744Z
LAST-MODIFIED:20250513T154744Z
UID:6417-1755108000-1755118800@www.waterfrontdistrict.ca
SUMMARY:Live on the Waterfront Wednesdays
DESCRIPTION:Live on the Waterfront is a highly anticipated 8-part concert series that takes place every Wednesday evening during the summer season at Prince Arthur’s Landing\, Marina Park that featuring an impressive lineup of musical acts! Come out every Wednesday this summer at Marina Park\, starting on July 16th till August 20th. PLUS the Summer Send Off\, two back-to-back days\, August 27 and 28\, at Marina Park.
URL:https://www.waterfrontdistrict.ca/event/live-on-the-waterfront-wednesdays-5/
LOCATION:Marina Park\, Thunder Bay\, ON\, Canada
CATEGORIES:Concert,Event
END:VEVENT
BEGIN:VEVENT
DTSTART;TZID=America/Halifax:20250820T180000
DTEND;TZID=America/Halifax:20250820T210000
DTSTAMP:20260422T192012
CREATED:20250513T154815Z
LAST-MODIFIED:20250513T154815Z
UID:6419-1755712800-1755723600@www.waterfrontdistrict.ca
SUMMARY:Live on the Waterfront Wednesdays
DESCRIPTION:Live on the Waterfront is a highly anticipated 8-part concert series that takes place every Wednesday evening during the summer season at Prince Arthur’s Landing\, Marina Park that featuring an impressive lineup of musical acts! Come out every Wednesday this summer at Marina Park\, starting on July 16th till August 20th. PLUS the Summer Send Off\, two back-to-back days\, August 27 and 28\, at Marina Park.
URL:https://www.waterfrontdistrict.ca/event/live-on-the-waterfront-wednesdays-6/
LOCATION:Marina Park\, Thunder Bay\, ON\, Canada
CATEGORIES:Concert,Event
END:VEVENT
BEGIN:VEVENT
DTSTART;TZID=America/Halifax:20250827T180000
DTEND;TZID=America/Halifax:20250827T210000
DTSTAMP:20260422T192012
CREATED:20250513T154918Z
LAST-MODIFIED:20250513T154918Z
UID:6421-1756317600-1756328400@www.waterfrontdistrict.ca
SUMMARY:Live on the Waterfront Wednesdays Summer Send Off
DESCRIPTION:PLUS the Summer Send Off\, two back-to-back days\, August 27 and 28\, at Marina Park.
URL:https://www.waterfrontdistrict.ca/event/live-on-the-waterfront-wednesdays-summer-send-off/
LOCATION:Marina Park\, Thunder Bay\, ON\, Canada
CATEGORIES:Concert,Event
END:VEVENT
BEGIN:VEVENT
DTSTART;TZID=America/Halifax:20250828T180000
DTEND;TZID=America/Halifax:20250828T210000
DTSTAMP:20260422T192012
CREATED:20250513T154938Z
LAST-MODIFIED:20250513T154938Z
UID:6423-1756404000-1756414800@www.waterfrontdistrict.ca
SUMMARY:Live on the Waterfront Wednesdays Summer Send Off
DESCRIPTION:PLUS the Summer Send Off\, two back-to-back days\, August 27 and 28\, at Marina Park.
URL:https://www.waterfrontdistrict.ca/event/live-on-the-waterfront-wednesdays-summer-send-off-2/
LOCATION:Marina Park\, Thunder Bay\, ON\, Canada
CATEGORIES:Concert,Event
END:VEVENT
BEGIN:VEVENT
DTSTART;TZID=America/Halifax:20250906T110000
DTEND;TZID=America/Halifax:20250906T110000
DTSTAMP:20260422T192012
CREATED:20250513T160002Z
LAST-MODIFIED:20250513T160027Z
UID:6433-1757156400-1757156400@www.waterfrontdistrict.ca
SUMMARY:Wake the Giant
DESCRIPTION:Wake the Giant is a cultural awareness project aimed at creating a more welcoming and inclusive city for Indigenous people\, youth and their communities. The music festival is a celebration of all cultures with a focus on Indigenous artists and musicians.
URL:https://www.waterfrontdistrict.ca/event/wake-the-giant-2/
LOCATION:Marina Park\, Thunder Bay\, ON\, Canada
CATEGORIES:Concert,Event
END:VEVENT
END:VCALENDAR