BEGIN:VCALENDAR
VERSION:2.0
PRODID:-//Waterfront District BIA - ECPv6.15.20//NONSGML v1.0//EN
CALSCALE:GREGORIAN
METHOD:PUBLISH
X-ORIGINAL-URL:https://www.waterfrontdistrict.ca
X-WR-CALDESC:Events for Waterfront District BIA
REFRESH-INTERVAL;VALUE=DURATION:PT1H
X-Robots-Tag:noindex
X-PUBLISHED-TTL:PT1H
BEGIN:VTIMEZONE
TZID:America/Halifax
BEGIN:DAYLIGHT
TZOFFSETFROM:-0400
TZOFFSETTO:-0300
TZNAME:ADT
DTSTART:20240310T060000
END:DAYLIGHT
BEGIN:STANDARD
TZOFFSETFROM:-0300
TZOFFSETTO:-0400
TZNAME:AST
DTSTART:20241103T050000
END:STANDARD
BEGIN:DAYLIGHT
TZOFFSETFROM:-0400
TZOFFSETTO:-0300
TZNAME:ADT
DTSTART:20250309T060000
END:DAYLIGHT
BEGIN:STANDARD
TZOFFSETFROM:-0300
TZOFFSETTO:-0400
TZNAME:AST
DTSTART:20251102T050000
END:STANDARD
BEGIN:DAYLIGHT
TZOFFSETFROM:-0400
TZOFFSETTO:-0300
TZNAME:ADT
DTSTART:20260308T060000
END:DAYLIGHT
BEGIN:STANDARD
TZOFFSETFROM:-0300
TZOFFSETTO:-0400
TZNAME:AST
DTSTART:20261101T050000
END:STANDARD
END:VTIMEZONE
BEGIN:VEVENT
DTSTART;TZID=America/Halifax:20250522T193000
DTEND;TZID=America/Halifax:20250522T193000
DTSTAMP:20260422T132320
CREATED:20250522T175414Z
LAST-MODIFIED:20250523T163948Z
UID:6505-1747942200-1747942200@www.waterfrontdistrict.ca
SUMMARY:Spongebob Musical
DESCRIPTION:All ages 
URL:https://www.waterfrontdistrict.ca/event/paramount-live/
LOCATION:Paramount Live\, 24 Court St S\, Thunder Bay
CATEGORIES:Event,Kids
END:VEVENT
BEGIN:VEVENT
DTSTART;TZID=America/Halifax:20250523T190000
DTEND;TZID=America/Halifax:20250523T190000
DTSTAMP:20260422T132320
CREATED:20250522T180327Z
LAST-MODIFIED:20250523T163923Z
UID:6522-1748026800-1748026800@www.waterfrontdistrict.ca
SUMMARY:Spongebob Musical
DESCRIPTION:All ages
URL:https://www.waterfrontdistrict.ca/event/paramount-live-2/
LOCATION:Paramount Live\, 24 Court St S\, Thunder Bay
CATEGORIES:Event,Kids
END:VEVENT
BEGIN:VEVENT
DTSTART;TZID=America/Halifax:20250524T190000
DTEND;TZID=America/Halifax:20250524T190000
DTSTAMP:20260422T132320
CREATED:20250522T181726Z
LAST-MODIFIED:20250522T181726Z
UID:6541-1748113200-1748113200@www.waterfrontdistrict.ca
SUMMARY:The Spongebob Musical
DESCRIPTION:All ages
URL:https://www.waterfrontdistrict.ca/event/the-spongebob-musical/
LOCATION:Paramount Live\, 24 Court St S\, Thunder Bay
CATEGORIES:Event,Kids
END:VEVENT
BEGIN:VEVENT
DTSTART;TZID=America/Halifax:20250529T190000
DTEND;TZID=America/Halifax:20250529T190000
DTSTAMP:20260422T132320
CREATED:20250528T174737Z
LAST-MODIFIED:20250528T175515Z
UID:6591-1748545200-1748545200@www.waterfrontdistrict.ca
SUMMARY:Legally Blonde Jr.
DESCRIPTION:All Ages
URL:https://www.waterfrontdistrict.ca/event/legally-blonde-jr/
LOCATION:Trinity Chruch\, 30 Algoma St S\, Thunder Bay
CATEGORIES:Event,Kids
END:VEVENT
BEGIN:VEVENT
DTSTART;TZID=America/Halifax:20250530T190000
DTEND;TZID=America/Halifax:20250530T190000
DTSTAMP:20260422T132320
CREATED:20250528T175305Z
LAST-MODIFIED:20250528T175305Z
UID:6599-1748631600-1748631600@www.waterfrontdistrict.ca
SUMMARY:Legally Blonde Jr.
DESCRIPTION:All Ages
URL:https://www.waterfrontdistrict.ca/event/legally-blonde-jr-2/
LOCATION:Trinity Chruch\, 30 Algoma St S\, Thunder Bay
CATEGORIES:Event,Kids
END:VEVENT
BEGIN:VEVENT
DTSTART;TZID=America/Halifax:20250531T190000
DTEND;TZID=America/Halifax:20250531T190000
DTSTAMP:20260422T132320
CREATED:20250528T175611Z
LAST-MODIFIED:20250528T175611Z
UID:6603-1748718000-1748718000@www.waterfrontdistrict.ca
SUMMARY:Legally Blonde Jr.
DESCRIPTION:All Ages
URL:https://www.waterfrontdistrict.ca/event/legally-blonde-jr-4/
LOCATION:Trinity Chruch\, 30 Algoma St S\, Thunder Bay
CATEGORIES:Event,Kids
END:VEVENT
END:VCALENDAR