BEGIN:VCALENDAR
VERSION:2.0
PRODID:-//Waterfront District BIA - ECPv6.15.20//NONSGML v1.0//EN
CALSCALE:GREGORIAN
METHOD:PUBLISH
X-ORIGINAL-URL:https://www.waterfrontdistrict.ca
X-WR-CALDESC:Events for Waterfront District BIA
REFRESH-INTERVAL;VALUE=DURATION:PT1H
X-Robots-Tag:noindex
X-PUBLISHED-TTL:PT1H
BEGIN:VTIMEZONE
TZID:America/Halifax
BEGIN:DAYLIGHT
TZOFFSETFROM:-0400
TZOFFSETTO:-0300
TZNAME:ADT
DTSTART:20230312T060000
END:DAYLIGHT
BEGIN:STANDARD
TZOFFSETFROM:-0300
TZOFFSETTO:-0400
TZNAME:AST
DTSTART:20231105T050000
END:STANDARD
BEGIN:DAYLIGHT
TZOFFSETFROM:-0400
TZOFFSETTO:-0300
TZNAME:ADT
DTSTART:20240310T060000
END:DAYLIGHT
BEGIN:STANDARD
TZOFFSETFROM:-0300
TZOFFSETTO:-0400
TZNAME:AST
DTSTART:20241103T050000
END:STANDARD
BEGIN:DAYLIGHT
TZOFFSETFROM:-0400
TZOFFSETTO:-0300
TZNAME:ADT
DTSTART:20250309T060000
END:DAYLIGHT
BEGIN:STANDARD
TZOFFSETFROM:-0300
TZOFFSETTO:-0400
TZNAME:AST
DTSTART:20251102T050000
END:STANDARD
BEGIN:DAYLIGHT
TZOFFSETFROM:-0400
TZOFFSETTO:-0300
TZNAME:ADT
DTSTART:20260308T060000
END:DAYLIGHT
BEGIN:STANDARD
TZOFFSETFROM:-0300
TZOFFSETTO:-0400
TZNAME:AST
DTSTART:20261101T050000
END:STANDARD
END:VTIMEZONE
BEGIN:VEVENT
DTSTART;TZID=America/Halifax:20250522T193000
DTEND;TZID=America/Halifax:20250522T193000
DTSTAMP:20260419T220730
CREATED:20250522T175414Z
LAST-MODIFIED:20250523T163948Z
UID:6505-1747942200-1747942200@www.waterfrontdistrict.ca
SUMMARY:Spongebob Musical
DESCRIPTION:All ages 
URL:https://www.waterfrontdistrict.ca/event/paramount-live/
LOCATION:Paramount Live\, 24 Court St S\, Thunder Bay
CATEGORIES:Event,Kids
END:VEVENT
BEGIN:VEVENT
DTSTART;TZID=America/Halifax:20241026T100000
DTEND;TZID=America/Halifax:20241026T140000
DTSTAMP:20260419T220730
CREATED:20241016T194333Z
LAST-MODIFIED:20241016T194333Z
UID:6149-1729936800-1729951200@www.waterfrontdistrict.ca
SUMMARY:Trick or Treat in the BIA
DESCRIPTION:Check out our social media to discover this year’s participating businesses!
URL:https://www.waterfrontdistrict.ca/event/trick-or-treat-in-the-bia/
LOCATION:Ontario
CATEGORIES:Kids
END:VEVENT
BEGIN:VEVENT
DTSTART;TZID=America/Halifax:20240830T140000
DTEND;TZID=America/Halifax:20240830T160000
DTSTAMP:20260419T220730
CREATED:20240801T183303Z
LAST-MODIFIED:20240801T183303Z
UID:5922-1725026400-1725033600@www.waterfrontdistrict.ca
SUMMARY:Friday Fun Day
DESCRIPTION:256 Red River Rd (Outside of the former BMO)
URL:https://www.waterfrontdistrict.ca/event/friday-fun-day-5/
LOCATION:Ontario
CATEGORIES:Kids
END:VEVENT
BEGIN:VEVENT
DTSTART;TZID=America/Halifax:20240823T140000
DTEND;TZID=America/Halifax:20240823T160000
DTSTAMP:20260419T220730
CREATED:20240801T183217Z
LAST-MODIFIED:20240801T183217Z
UID:5920-1724421600-1724428800@www.waterfrontdistrict.ca
SUMMARY:Friday Fun Day
DESCRIPTION:256 Red River Rd (Outside of the former BMO)
URL:https://www.waterfrontdistrict.ca/event/friday-fun-day-4/
LOCATION:Ontario
CATEGORIES:Kids
END:VEVENT
BEGIN:VEVENT
DTSTART;TZID=America/Halifax:20240818T140000
DTEND;TZID=America/Halifax:20240818T150000
DTSTAMP:20260419T220730
CREATED:20240801T184013Z
LAST-MODIFIED:20240801T184013Z
UID:5927-1723989600-1723993200@www.waterfrontdistrict.ca
SUMMARY:Science North Workshop: Critters Chat Workshop
DESCRIPTION:251 Red River Rd
URL:https://www.waterfrontdistrict.ca/event/science-north-workshop-critters-chat-workshop/
LOCATION:Goods and co\, 251 Red River Rd\, Thunder Bay\, Ontario\, P7B 1A7\, Canada
CATEGORIES:Kids
END:VEVENT
BEGIN:VEVENT
DTSTART;TZID=America/Halifax:20240816T140000
DTEND;TZID=America/Halifax:20240816T160000
DTSTAMP:20260419T220730
CREATED:20240801T183119Z
LAST-MODIFIED:20240801T183119Z
UID:5918-1723816800-1723824000@www.waterfrontdistrict.ca
SUMMARY:Friday Fun Day
DESCRIPTION:256 Red River Rd (Outside of the former BMO)
URL:https://www.waterfrontdistrict.ca/event/friday-fun-day-3/
LOCATION:Ontario
CATEGORIES:Kids
END:VEVENT
BEGIN:VEVENT
DTSTART;TZID=America/Halifax:20240813T100000
DTEND;TZID=America/Halifax:20240813T120000
DTSTAMP:20260419T220730
CREATED:20240801T174445Z
LAST-MODIFIED:20240801T174445Z
UID:5908-1723543200-1723550400@www.waterfrontdistrict.ca
SUMMARY:Tonka Tuesday
DESCRIPTION:24 Court St S
URL:https://www.waterfrontdistrict.ca/event/tonka-tuesday-2/
LOCATION:Maple Tops\, 24 Court St S\, Thunder Bay\, Ontario\, Canada
CATEGORIES:Kids
END:VEVENT
BEGIN:VEVENT
DTSTART;TZID=America/Halifax:20240809T140000
DTEND;TZID=America/Halifax:20240809T160000
DTSTAMP:20260419T220730
CREATED:20240801T183031Z
LAST-MODIFIED:20240801T183031Z
UID:5916-1723212000-1723219200@www.waterfrontdistrict.ca
SUMMARY:Friday Fun Day
DESCRIPTION:256 Red River Rd (Outside of the former BMO)
URL:https://www.waterfrontdistrict.ca/event/friday-fun-day-2/
LOCATION:Ontario
CATEGORIES:Kids
END:VEVENT
BEGIN:VEVENT
DTSTART;TZID=America/Halifax:20240807T110000
DTEND;TZID=America/Halifax:20240807T110000
DTSTAMP:20260419T220730
CREATED:20240801T183557Z
LAST-MODIFIED:20240801T183716Z
UID:5924-1723028400-1723028400@www.waterfrontdistrict.ca
SUMMARY:CEDC Pop-up Market
DESCRIPTION:251 Red River Rd
URL:https://www.waterfrontdistrict.ca/event/cedc-pop-up-market/
LOCATION:Goods and co\, 251 Red River Rd\, Thunder Bay\, Ontario\, P7B 1A7\, Canada
CATEGORIES:Kids
END:VEVENT
BEGIN:VEVENT
DTSTART;TZID=America/Halifax:20240802T140000
DTEND;TZID=America/Halifax:20240802T160000
DTSTAMP:20260419T220730
CREATED:20240801T182849Z
LAST-MODIFIED:20240801T182849Z
UID:5914-1722607200-1722614400@www.waterfrontdistrict.ca
SUMMARY:Friday Fun Day
DESCRIPTION:256 Red River Rd (Outside of the former BMO)
URL:https://www.waterfrontdistrict.ca/event/friday-fun-day/
LOCATION:Ontario
CATEGORIES:Kids
END:VEVENT
END:VCALENDAR