BEGIN:VCALENDAR
VERSION:2.0
PRODID:-//Waterfront District BIA - ECPv6.15.20//NONSGML v1.0//EN
CALSCALE:GREGORIAN
METHOD:PUBLISH
X-WR-CALNAME:Waterfront District BIA
X-ORIGINAL-URL:https://www.waterfrontdistrict.ca
X-WR-CALDESC:Events for Waterfront District BIA
REFRESH-INTERVAL;VALUE=DURATION:PT1H
X-Robots-Tag:noindex
X-PUBLISHED-TTL:PT1H
BEGIN:VTIMEZONE
TZID:America/Halifax
BEGIN:DAYLIGHT
TZOFFSETFROM:-0400
TZOFFSETTO:-0300
TZNAME:ADT
DTSTART:20240310T060000
END:DAYLIGHT
BEGIN:STANDARD
TZOFFSETFROM:-0300
TZOFFSETTO:-0400
TZNAME:AST
DTSTART:20241103T050000
END:STANDARD
BEGIN:DAYLIGHT
TZOFFSETFROM:-0400
TZOFFSETTO:-0300
TZNAME:ADT
DTSTART:20250309T060000
END:DAYLIGHT
BEGIN:STANDARD
TZOFFSETFROM:-0300
TZOFFSETTO:-0400
TZNAME:AST
DTSTART:20251102T050000
END:STANDARD
BEGIN:DAYLIGHT
TZOFFSETFROM:-0400
TZOFFSETTO:-0300
TZNAME:ADT
DTSTART:20260308T060000
END:DAYLIGHT
BEGIN:STANDARD
TZOFFSETFROM:-0300
TZOFFSETTO:-0400
TZNAME:AST
DTSTART:20261101T050000
END:STANDARD
END:VTIMEZONE
BEGIN:VEVENT
DTSTART;TZID=America/Halifax:20251113T203000
DTEND;TZID=America/Halifax:20251113T203000
DTSTAMP:20260420T201704
CREATED:20251113T204121Z
LAST-MODIFIED:20251113T204133Z
UID:7598-1763065800-1763065800@www.waterfrontdistrict.ca
SUMMARY:PocketChange Not Your Grandmas Bingo Night
DESCRIPTION:
URL:https://www.waterfrontdistrict.ca/event/pocketchange-not-your-grandmas-bingo-night/
LOCATION:Pocketchange Bar\, 234 Red River Rd\, Thunder Bay\, ON\, P7B 1A6\, Canada
END:VEVENT
BEGIN:VEVENT
DTSTART;TZID=America/Halifax:20251114T110000
DTEND;TZID=America/Halifax:20251114T110000
DTSTAMP:20260420T201704
CREATED:20251113T211759Z
LAST-MODIFIED:20251113T211834Z
UID:7616-1763118000-1763118000@www.waterfrontdistrict.ca
SUMMARY:Dilico & C.A.S Christmas Tree Lighting Market
DESCRIPTION:
URL:https://www.waterfrontdistrict.ca/event/dilico-c-a-s-christmas-tree-lighting-market/
LOCATION:Goods and co\, 251 Red River Rd\, Thunder Bay\, Ontario\, P7B 1A7\, Canada
END:VEVENT
BEGIN:VEVENT
DTSTART;TZID=America/Halifax:20251114T180000
DTEND;TZID=America/Halifax:20251114T210000
DTSTAMP:20260420T201704
CREATED:20251113T212328Z
LAST-MODIFIED:20251113T212347Z
UID:7620-1763143200-1763154000@www.waterfrontdistrict.ca
SUMMARY:Jazz & Old Fashioned Fridays Ft Mood Indigo
DESCRIPTION:
URL:https://www.waterfrontdistrict.ca/event/jazz-old-fashioned-fridays-ft-mood-indigo/
LOCATION:Anchor & Ore\, 2240 Sleeping Giant Pkwy\, Thunder Bay\, ON\, Canada
END:VEVENT
BEGIN:VEVENT
DTSTART;TZID=America/Halifax:20251114T193000
DTEND;TZID=America/Halifax:20251114T193000
DTSTAMP:20260420T201704
CREATED:20251114T153227Z
LAST-MODIFIED:20251114T153318Z
UID:7623-1763148600-1763148600@www.waterfrontdistrict.ca
SUMMARY:Chase The Ace By Mark Crawford
DESCRIPTION:
URL:https://www.waterfrontdistrict.ca/event/chase-the-ace-by-mark-crawford-2/
LOCATION:Magnus Theatre\, 10 Algoma St S\, Thunder Bay\, Ontario\, P7B 3A7\, Canada
END:VEVENT
BEGIN:VEVENT
DTSTART;TZID=America/Halifax:20251114T200000
DTEND;TZID=America/Halifax:20251114T220000
DTSTAMP:20260420T201704
CREATED:20251114T153622Z
LAST-MODIFIED:20251114T153622Z
UID:7625-1763150400-1763157600@www.waterfrontdistrict.ca
SUMMARY:Drag Open Stage
DESCRIPTION:
URL:https://www.waterfrontdistrict.ca/event/drag-open-stage/
LOCATION:Howl at The Moon Dry Bar\, 8 Cumberland st S\, Thunder Bay
END:VEVENT
BEGIN:VEVENT
DTSTART;TZID=America/Halifax:20251114T210000
DTEND;TZID=America/Halifax:20251114T210000
DTSTAMP:20260420T201704
CREATED:20251113T210824Z
LAST-MODIFIED:20251113T210836Z
UID:7612-1763154000-1763154000@www.waterfrontdistrict.ca
SUMMARY:Autopilot
DESCRIPTION:
URL:https://www.waterfrontdistrict.ca/event/autopilot/
LOCATION:Black Pirates Pub\, 215 Red River Rd\, Suite 101\, Thunder Bay\, ON\, Canada
END:VEVENT
BEGIN:VEVENT
DTSTART;TZID=America/Halifax:20251114T220000
DTEND;TZID=America/Halifax:20251114T220000
DTSTAMP:20260420T201704
CREATED:20251113T210537Z
LAST-MODIFIED:20251113T210654Z
UID:7610-1763157600-1763157600@www.waterfrontdistrict.ca
SUMMARY:DJ Sugarman
DESCRIPTION:
URL:https://www.waterfrontdistrict.ca/event/dj-sugarman-2/
LOCATION:Nortenos Cantina\, 235 Red River Rd\, Thunder Bay\, ON\, Canada
END:VEVENT
BEGIN:VEVENT
DTSTART;TZID=America/Halifax:20251114T220000
DTEND;TZID=America/Halifax:20251114T220000
DTSTAMP:20260420T201704
CREATED:20251113T210958Z
LAST-MODIFIED:20251113T211011Z
UID:7614-1763157600-1763157600@www.waterfrontdistrict.ca
SUMMARY:4Pillar DJs
DESCRIPTION:
URL:https://www.waterfrontdistrict.ca/event/4pillar-djs-2/
LOCATION:The Foundry\, 242 Red River Road\, Thunder Bay\, Ontario\, p7b1a6\, Canada
END:VEVENT
BEGIN:VEVENT
DTSTART;TZID=America/Halifax:20251114T220000
DTEND;TZID=America/Halifax:20251114T220000
DTSTAMP:20260420T201704
CREATED:20251113T212022Z
LAST-MODIFIED:20251113T212037Z
UID:7618-1763157600-1763157600@www.waterfrontdistrict.ca
SUMMARY:Jersey Night
DESCRIPTION:
URL:https://www.waterfrontdistrict.ca/event/jersey-night/
LOCATION:NV Music Hall\, 228 Red River Rd\, Thunder Bay\, ON\, Canada
END:VEVENT
BEGIN:VEVENT
DTSTART;TZID=America/Halifax:20251115T140000
DTEND;TZID=America/Halifax:20251115T193000
DTSTAMP:20260420T201704
CREATED:20251114T162053Z
LAST-MODIFIED:20251114T162053Z
UID:7641-1763215200-1763235000@www.waterfrontdistrict.ca
SUMMARY:Chase The Ace By Mark Crawford
DESCRIPTION:
URL:https://www.waterfrontdistrict.ca/event/chase-the-ace-by-mark-crawford-3/
LOCATION:Magnus Theatre\, 10 Algoma St S\, Thunder Bay\, Ontario\, P7B 3A7\, Canada
END:VEVENT
BEGIN:VEVENT
DTSTART;TZID=America/Halifax:20251115T190000
DTEND;TZID=America/Halifax:20251115T220000
DTSTAMP:20260420T201704
CREATED:20251114T161109Z
LAST-MODIFIED:20251114T161140Z
UID:7637-1763233200-1763244000@www.waterfrontdistrict.ca
SUMMARY:Walleye Art Opening + DJ Love In Woodside
DESCRIPTION:
URL:https://www.waterfrontdistrict.ca/event/walleye-art-opening-dj-love-in-woodside/
LOCATION:Goods and co\, 251 Red River Rd\, Thunder Bay\, Ontario\, P7B 1A7\, Canada
END:VEVENT
BEGIN:VEVENT
DTSTART;TZID=America/Halifax:20251115T210000
DTEND;TZID=America/Halifax:20251115T210000
DTSTAMP:20260420T201704
CREATED:20251114T155017Z
LAST-MODIFIED:20251114T155214Z
UID:7633-1763240400-1763240400@www.waterfrontdistrict.ca
SUMMARY:The Cover Show XXXII Encore
DESCRIPTION:
URL:https://www.waterfrontdistrict.ca/event/the-cover-show-xxxii-encore/
LOCATION:Black Pirates Pub\, 215 Red River Rd\, Suite 101\, Thunder Bay\, ON\, Canada
END:VEVENT
BEGIN:VEVENT
DTSTART;TZID=America/Halifax:20251115T210000
DTEND;TZID=America/Halifax:20251115T210000
DTSTAMP:20260420T201704
CREATED:20251114T161700Z
LAST-MODIFIED:20251114T161723Z
UID:7639-1763240400-1763240400@www.waterfrontdistrict.ca
SUMMARY:Live Band Karaoke With Bill Murray & The ZEDMORES
DESCRIPTION:
URL:https://www.waterfrontdistrict.ca/event/live-band-karaoke-with-bill-murray-the-zedmores/
LOCATION:Red Lion Smokehouse\, 16 Cumberland St S\, Thunder Bay\, ON\, 16 Cumberland St S\, Canada
END:VEVENT
BEGIN:VEVENT
DTSTART;TZID=America/Halifax:20251115T220000
DTEND;TZID=America/Halifax:20251115T220000
DTSTAMP:20260420T201704
CREATED:20251114T154146Z
LAST-MODIFIED:20251114T154211Z
UID:7627-1763244000-1763244000@www.waterfrontdistrict.ca
SUMMARY:Pocket Goes Country
DESCRIPTION:
URL:https://www.waterfrontdistrict.ca/event/pocket-goes-country/
LOCATION:Pocketchange Bar\, 234 Red River Rd\, Thunder Bay\, ON\, P7B 1A6\, Canada
END:VEVENT
BEGIN:VEVENT
DTSTART;TZID=America/Halifax:20251115T220000
DTEND;TZID=America/Halifax:20251115T220000
DTSTAMP:20260420T201704
CREATED:20251114T154441Z
LAST-MODIFIED:20251114T154505Z
UID:7629-1763244000-1763244000@www.waterfrontdistrict.ca
SUMMARY:LOVE ME JEJE AN AFRO-RNB EXPERIENCE
DESCRIPTION:
URL:https://www.waterfrontdistrict.ca/event/love-me-jeje-an-afro-rnb-experience/
LOCATION:Bloom Bar and Lounge\, 213 Red River Road\, Thunder Bay\, Ontario\, Canada
END:VEVENT
BEGIN:VEVENT
DTSTART;TZID=America/Halifax:20251115T220000
DTEND;TZID=America/Halifax:20251115T220000
DTSTAMP:20260420T201704
CREATED:20251114T154759Z
LAST-MODIFIED:20251114T154811Z
UID:7631-1763244000-1763244000@www.waterfrontdistrict.ca
SUMMARY:DJ Pura Vida
DESCRIPTION:
URL:https://www.waterfrontdistrict.ca/event/dj-pura-vida-6/
LOCATION:Nortenos Cantina\, 235 Red River Rd\, Thunder Bay\, ON\, Canada
END:VEVENT
BEGIN:VEVENT
DTSTART;TZID=America/Halifax:20251115T220000
DTEND;TZID=America/Halifax:20251115T220000
DTSTAMP:20260420T201704
CREATED:20251114T160714Z
LAST-MODIFIED:20251114T160800Z
UID:7635-1763244000-1763244000@www.waterfrontdistrict.ca
SUMMARY:Mother Of Wolves
DESCRIPTION:
URL:https://www.waterfrontdistrict.ca/event/mother-of-wolves/
LOCATION:The Foundry\, 242 Red River Road\, Thunder Bay\, Ontario\, p7b1a6\, Canada
END:VEVENT
BEGIN:VEVENT
DTSTART;TZID=America/Halifax:20251116T100000
DTEND;TZID=America/Halifax:20251116T150000
DTSTAMP:20260420T201704
CREATED:20251114T162220Z
LAST-MODIFIED:20251114T162220Z
UID:7643-1763287200-1763305200@www.waterfrontdistrict.ca
SUMMARY:Holiday Market
DESCRIPTION:
URL:https://www.waterfrontdistrict.ca/event/holiday-market/
LOCATION:Anchor & Ore\, 2240 Sleeping Giant Pkwy\, Thunder Bay\, ON\, Canada
END:VEVENT
BEGIN:VEVENT
DTSTART;TZID=America/Halifax:20251120T183000
DTEND;TZID=America/Halifax:20251120T203000
DTSTAMP:20260420T201704
CREATED:20251120T185606Z
LAST-MODIFIED:20251120T185606Z
UID:7648-1763663400-1763670600@www.waterfrontdistrict.ca
SUMMARY:Wicked Kids Event
DESCRIPTION:
URL:https://www.waterfrontdistrict.ca/event/wicked-kids-event/
LOCATION:Goods and co\, 251 Red River Rd\, Thunder Bay\, Ontario\, P7B 1A7\, Canada
END:VEVENT
BEGIN:VEVENT
DTSTART;TZID=America/Halifax:20251120T190000
DTEND;TZID=America/Halifax:20251120T190000
DTSTAMP:20260420T201704
CREATED:20251120T200142Z
LAST-MODIFIED:20251120T200204Z
UID:7689-1763665200-1763665200@www.waterfrontdistrict.ca
SUMMARY:Open Mic Night
DESCRIPTION:
URL:https://www.waterfrontdistrict.ca/event/open-mic-night-7/
LOCATION:Lakehead Beer Co\, 206 Park Ave\, Thunder Bay
END:VEVENT
BEGIN:VEVENT
DTSTART;TZID=America/Halifax:20251120T200000
DTEND;TZID=America/Halifax:20251120T200000
DTSTAMP:20260420T201704
CREATED:20251120T185929Z
LAST-MODIFIED:20251120T185949Z
UID:7652-1763668800-1763668800@www.waterfrontdistrict.ca
SUMMARY:Celtic Night
DESCRIPTION:
URL:https://www.waterfrontdistrict.ca/event/celtic-night/
LOCATION:Red Lion Smokehouse\, 16 Cumberland St S\, Thunder Bay\, ON\, 16 Cumberland St S\, Canada
END:VEVENT
BEGIN:VEVENT
DTSTART;TZID=America/Halifax:20251120T203000
DTEND;TZID=America/Halifax:20251120T203000
DTSTAMP:20260420T201704
CREATED:20251120T200330Z
LAST-MODIFIED:20251120T200345Z
UID:7691-1763670600-1763670600@www.waterfrontdistrict.ca
SUMMARY:Sober Karaoke
DESCRIPTION:
URL:https://www.waterfrontdistrict.ca/event/sober-karaoke-13/
LOCATION:Howl at The Moon Dry Bar\, 8 Cumberland st S\, Thunder Bay
END:VEVENT
BEGIN:VEVENT
DTSTART;TZID=America/Halifax:20251120T210000
DTEND;TZID=America/Halifax:20251120T210000
DTSTAMP:20260420T201704
CREATED:20251120T185800Z
LAST-MODIFIED:20251120T185814Z
UID:7650-1763672400-1763672400@www.waterfrontdistrict.ca
SUMMARY:Karaoke At The Cantina
DESCRIPTION:
URL:https://www.waterfrontdistrict.ca/event/karaoke-at-the-cantina/
LOCATION:Nortenos Cantina\, 235 Red River Rd\, Thunder Bay\, ON\, Canada
END:VEVENT
BEGIN:VEVENT
DTSTART;TZID=America/Halifax:20251120T220000
DTEND;TZID=America/Halifax:20251120T220000
DTSTAMP:20260420T201704
CREATED:20251120T200525Z
LAST-MODIFIED:20251120T200541Z
UID:7693-1763676000-1763676000@www.waterfrontdistrict.ca
SUMMARY:Karaoke
DESCRIPTION:
URL:https://www.waterfrontdistrict.ca/event/karaoke-20/
LOCATION:Waterhouse\, 9 Cumberland St S\, Thunder Bay\, ON\, P7B 2T1
END:VEVENT
BEGIN:VEVENT
DTSTART;TZID=America/Halifax:20251121T180000
DTEND;TZID=America/Halifax:20251121T210000
DTSTAMP:20260420T201704
CREATED:20251120T191740Z
LAST-MODIFIED:20251120T191754Z
UID:7665-1763748000-1763758800@www.waterfrontdistrict.ca
SUMMARY:Jazz & Old Fashioned Fridays
DESCRIPTION:
URL:https://www.waterfrontdistrict.ca/event/jazz-old-fashioned-fridays/
LOCATION:Anchor & Ore\, 2240 Sleeping Giant Pkwy\, Thunder Bay\, ON\, Canada
END:VEVENT
BEGIN:VEVENT
DTSTART;TZID=America/Halifax:20251121T200000
DTEND;TZID=America/Halifax:20251121T200000
DTSTAMP:20260420T201704
CREATED:20251120T190133Z
LAST-MODIFIED:20251120T190159Z
UID:7654-1763755200-1763755200@www.waterfrontdistrict.ca
SUMMARY:Duelling Pianos
DESCRIPTION:
URL:https://www.waterfrontdistrict.ca/event/duelling-pianos/
LOCATION:NV Music Hall\, 228 Red River Rd\, Thunder Bay\, ON\, Canada
END:VEVENT
BEGIN:VEVENT
DTSTART;TZID=America/Halifax:20251121T200000
DTEND;TZID=America/Halifax:20251121T200000
DTSTAMP:20260420T201704
CREATED:20251120T191332Z
LAST-MODIFIED:20251120T191413Z
UID:7660-1763755200-1763755200@www.waterfrontdistrict.ca
SUMMARY:Culturally Inappropriate Comedy + DJ Pura Vida
DESCRIPTION:Comedy at 8pm\, \nDJ at 10pm
URL:https://www.waterfrontdistrict.ca/event/culturally-inappropriate-comedy-dj-pura-vida/
LOCATION:Nortenos Cantina\, 235 Red River Rd\, Thunder Bay\, ON\, Canada
END:VEVENT
BEGIN:VEVENT
DTSTART;TZID=America/Halifax:20251121T210000
DTEND;TZID=America/Halifax:20251121T210000
DTSTAMP:20260420T201704
CREATED:20251120T190509Z
LAST-MODIFIED:20251120T190532Z
UID:7656-1763758800-1763758800@www.waterfrontdistrict.ca
SUMMARY:EZRA With Travis Trush\, Katherine Nemec
DESCRIPTION:
URL:https://www.waterfrontdistrict.ca/event/ezra-with-travis-trush-katherine-nemec/
LOCATION:Bloom Bar and Lounge\, 213 Red River Road\, Thunder Bay\, Ontario\, Canada
END:VEVENT
BEGIN:VEVENT
DTSTART;TZID=America/Halifax:20251121T210000
DTEND;TZID=America/Halifax:20251121T210000
DTSTAMP:20260420T201704
CREATED:20251120T190957Z
LAST-MODIFIED:20251120T191017Z
UID:7658-1763758800-1763758800@www.waterfrontdistrict.ca
SUMMARY:MICROMOON Shoegaze/Dream Pop Night
DESCRIPTION:
URL:https://www.waterfrontdistrict.ca/event/micromoon-shoegaze-dream-pop-night/
LOCATION:Black Pirates Pub\, 215 Red River Rd\, Suite 101\, Thunder Bay\, ON\, Canada
END:VEVENT
BEGIN:VEVENT
DTSTART;TZID=America/Halifax:20251121T210000
DTEND;TZID=America/Halifax:20251121T210000
DTSTAMP:20260420T201704
CREATED:20251120T191939Z
LAST-MODIFIED:20251120T191957Z
UID:7667-1763758800-1763758800@www.waterfrontdistrict.ca
SUMMARY:Music Bingo
DESCRIPTION:
URL:https://www.waterfrontdistrict.ca/event/music-bingo-3/
LOCATION:Red Lion Smokehouse\, 16 Cumberland St S\, Thunder Bay\, ON\, 16 Cumberland St S\, Canada
END:VEVENT
END:VCALENDAR