BEGIN:VCALENDAR
VERSION:2.0
PRODID:-//Waterfront District BIA - ECPv6.15.20//NONSGML v1.0//EN
CALSCALE:GREGORIAN
METHOD:PUBLISH
X-WR-CALNAME:Waterfront District BIA
X-ORIGINAL-URL:https://www.waterfrontdistrict.ca
X-WR-CALDESC:Events for Waterfront District BIA
REFRESH-INTERVAL;VALUE=DURATION:PT1H
X-Robots-Tag:noindex
X-PUBLISHED-TTL:PT1H
BEGIN:VTIMEZONE
TZID:America/Halifax
BEGIN:DAYLIGHT
TZOFFSETFROM:-0400
TZOFFSETTO:-0300
TZNAME:ADT
DTSTART:20240310T060000
END:DAYLIGHT
BEGIN:STANDARD
TZOFFSETFROM:-0300
TZOFFSETTO:-0400
TZNAME:AST
DTSTART:20241103T050000
END:STANDARD
BEGIN:DAYLIGHT
TZOFFSETFROM:-0400
TZOFFSETTO:-0300
TZNAME:ADT
DTSTART:20250309T060000
END:DAYLIGHT
BEGIN:STANDARD
TZOFFSETFROM:-0300
TZOFFSETTO:-0400
TZNAME:AST
DTSTART:20251102T050000
END:STANDARD
BEGIN:DAYLIGHT
TZOFFSETFROM:-0400
TZOFFSETTO:-0300
TZNAME:ADT
DTSTART:20260308T060000
END:DAYLIGHT
BEGIN:STANDARD
TZOFFSETFROM:-0300
TZOFFSETTO:-0400
TZNAME:AST
DTSTART:20261101T050000
END:STANDARD
BEGIN:DAYLIGHT
TZOFFSETFROM:-0400
TZOFFSETTO:-0300
TZNAME:ADT
DTSTART:20270314T060000
END:DAYLIGHT
BEGIN:STANDARD
TZOFFSETFROM:-0300
TZOFFSETTO:-0400
TZNAME:AST
DTSTART:20271107T050000
END:STANDARD
END:VTIMEZONE
BEGIN:VEVENT
DTSTART;TZID=America/Halifax:20251220T110000
DTEND;TZID=America/Halifax:20251220T140000
DTSTAMP:20260420T201716
CREATED:20251219T182808Z
LAST-MODIFIED:20251219T182827Z
UID:7866-1766228400-1766239200@www.waterfrontdistrict.ca
SUMMARY:Photos With The Mean Green Guy
DESCRIPTION:
URL:https://www.waterfrontdistrict.ca/event/photos-with-the-mean-green-guy/
LOCATION:Red Lion Smokehouse\, 16 Cumberland St S\, Thunder Bay\, ON\, 16 Cumberland St S\, Canada
END:VEVENT
BEGIN:VEVENT
DTSTART;TZID=America/Halifax:20251220T170000
DTEND;TZID=America/Halifax:20251220T170000
DTSTAMP:20260420T201716
CREATED:20251219T174231Z
LAST-MODIFIED:20251219T180229Z
UID:7862-1766250000-1766250000@www.waterfrontdistrict.ca
SUMMARY:Baddie Santa Bash
DESCRIPTION:
URL:https://www.waterfrontdistrict.ca/event/baddie-santa-bash/
LOCATION:Pocketchange Bar\, 234 Red River Rd\, Thunder Bay\, ON\, P7B 1A6\, Canada
END:VEVENT
BEGIN:VEVENT
DTSTART;TZID=America/Halifax:20251220T200000
DTEND;TZID=America/Halifax:20251220T200000
DTSTAMP:20260420T201716
CREATED:20251219T183905Z
LAST-MODIFIED:20251219T183923Z
UID:7868-1766260800-1766260800@www.waterfrontdistrict.ca
SUMMARY:Christmas Sing-A-Long
DESCRIPTION:
URL:https://www.waterfrontdistrict.ca/event/christmas-sing-a-long/
LOCATION:Red Lion Smokehouse\, 16 Cumberland St S\, Thunder Bay\, ON\, 16 Cumberland St S\, Canada
END:VEVENT
BEGIN:VEVENT
DTSTART;TZID=America/Halifax:20251220T210000
DTEND;TZID=America/Halifax:20251220T210000
DTSTAMP:20260420T201716
CREATED:20251219T170034Z
LAST-MODIFIED:20251219T170054Z
UID:7858-1766264400-1766264400@www.waterfrontdistrict.ca
SUMMARY:EGGNOGGER
DESCRIPTION:
URL:https://www.waterfrontdistrict.ca/event/eggnogger/
LOCATION:The Foundry\, 242 Red River Road\, Thunder Bay\, Ontario\, p7b1a6\, Canada
END:VEVENT
BEGIN:VEVENT
DTSTART;TZID=America/Halifax:20251220T210000
DTEND;TZID=America/Halifax:20251220T210000
DTSTAMP:20260420T201716
CREATED:20251219T170351Z
LAST-MODIFIED:20251219T170406Z
UID:7860-1766264400-1766264400@www.waterfrontdistrict.ca
SUMMARY:Mean & Green Holiday Talent Show
DESCRIPTION:
URL:https://www.waterfrontdistrict.ca/event/mean-green-holiday-talent-show/
LOCATION:Black Pirates Pub\, 215 Red River Rd\, Suite 101\, Thunder Bay\, ON\, Canada
END:VEVENT
BEGIN:VEVENT
DTSTART;TZID=America/Halifax:20251220T220000
DTEND;TZID=America/Halifax:20251220T220000
DTSTAMP:20260420T201716
CREATED:20251219T165818Z
LAST-MODIFIED:20251219T165853Z
UID:7856-1766268000-1766268000@www.waterfrontdistrict.ca
SUMMARY:Winter Whiteout
DESCRIPTION:
URL:https://www.waterfrontdistrict.ca/event/winter-whiteout/
LOCATION:NV Music Hall\, 228 Red River Rd\, Thunder Bay\, ON\, Canada
END:VEVENT
BEGIN:VEVENT
DTSTART;TZID=America/Halifax:20251221T100000
DTEND;TZID=America/Halifax:20251221T160000
DTSTAMP:20260420T201716
CREATED:20251219T212454Z
LAST-MODIFIED:20251219T212454Z
UID:7874-1766311200-1766332800@www.waterfrontdistrict.ca
SUMMARY:Holiday Market Pop Ups
DESCRIPTION:
URL:https://www.waterfrontdistrict.ca/event/holiday-market-pop-ups-6/
LOCATION:Goods and co\, 251 Red River Rd\, Thunder Bay\, Ontario\, P7B 1A7\, Canada
END:VEVENT
BEGIN:VEVENT
DTSTART;TZID=America/Halifax:20251221T110000
DTEND;TZID=America/Halifax:20251221T130000
DTSTAMP:20260420T201716
CREATED:20251219T212700Z
LAST-MODIFIED:20251219T212700Z
UID:7876-1766314800-1766322000@www.waterfrontdistrict.ca
SUMMARY:"Home For The Holidays" Morning Concert FAE ALEXANDER
DESCRIPTION:
URL:https://www.waterfrontdistrict.ca/event/home-for-the-holidays-morning-concert-fae-alexander/
LOCATION:Goods and co\, 251 Red River Rd\, Thunder Bay\, Ontario\, P7B 1A7\, Canada
END:VEVENT
BEGIN:VEVENT
DTSTART;TZID=America/Halifax:20251221T130000
DTEND;TZID=America/Halifax:20251221T130000
DTSTAMP:20260420T201716
CREATED:20251219T212825Z
LAST-MODIFIED:20251219T212845Z
UID:7878-1766322000-1766322000@www.waterfrontdistrict.ca
SUMMARY:Dungeons & Dragons Open Drop-In Session
DESCRIPTION:
URL:https://www.waterfrontdistrict.ca/event/dungeons-dragons-open-drop-in-session/
LOCATION:Red Lion Smokehouse\, 16 Cumberland St S\, Thunder Bay\, ON\, 16 Cumberland St S\, Canada
END:VEVENT
BEGIN:VEVENT
DTSTART;TZID=America/Halifax:20251221T200000
DTEND;TZID=America/Halifax:20251221T200000
DTSTAMP:20260420T201716
CREATED:20251219T212247Z
LAST-MODIFIED:20251219T212345Z
UID:7872-1766347200-1766347200@www.waterfrontdistrict.ca
SUMMARY:Punkmas
DESCRIPTION:
URL:https://www.waterfrontdistrict.ca/event/punkmas/
LOCATION:Black Pirates Pub\, 215 Red River Rd\, Suite 101\, Thunder Bay\, ON\, Canada
END:VEVENT
BEGIN:VEVENT
DTSTART;TZID=America/Halifax:20260108T170000
DTEND;TZID=America/Halifax:20260108T170000
DTSTAMP:20260420T201716
CREATED:20260108T202315Z
LAST-MODIFIED:20260108T202331Z
UID:7896-1767891600-1767891600@www.waterfrontdistrict.ca
SUMMARY:1/2 Off Wine Night
DESCRIPTION:
URL:https://www.waterfrontdistrict.ca/event/1-2-off-wine-night-3/
LOCATION:Pocketchange Bar\, 234 Red River Rd\, Thunder Bay\, ON\, P7B 1A6\, Canada
END:VEVENT
BEGIN:VEVENT
DTSTART;TZID=America/Halifax:20260108T170000
DTEND;TZID=America/Halifax:20260108T230000
DTSTAMP:20260420T201716
CREATED:20260108T202704Z
LAST-MODIFIED:20260108T202704Z
UID:7898-1767891600-1767913200@www.waterfrontdistrict.ca
SUMMARY:Dumpling Club
DESCRIPTION:
URL:https://www.waterfrontdistrict.ca/event/dumpling-club/
LOCATION:Pocketchange Bar\, 234 Red River Rd\, Thunder Bay\, ON\, P7B 1A6\, Canada
END:VEVENT
BEGIN:VEVENT
DTSTART;TZID=America/Halifax:20260108T193000
DTEND;TZID=America/Halifax:20260108T193000
DTSTAMP:20260420T201716
CREATED:20260108T200958Z
LAST-MODIFIED:20260108T201021Z
UID:7888-1767900600-1767900600@www.waterfrontdistrict.ca
SUMMARY:Open Mic Night
DESCRIPTION:
URL:https://www.waterfrontdistrict.ca/event/open-mic-night-10/
LOCATION:Lakehead Beer Co\, 206 Park Ave\, Thunder Bay
END:VEVENT
BEGIN:VEVENT
DTSTART;TZID=America/Halifax:20260108T203000
DTEND;TZID=America/Halifax:20260108T203000
DTSTAMP:20260420T201716
CREATED:20260108T201324Z
LAST-MODIFIED:20260108T201340Z
UID:7890-1767904200-1767904200@www.waterfrontdistrict.ca
SUMMARY:Sober Karaoke
DESCRIPTION:
URL:https://www.waterfrontdistrict.ca/event/sober-karaoke-18/
LOCATION:Howl at The Moon Dry Bar\, 8 Cumberland st S\, Thunder Bay
END:VEVENT
BEGIN:VEVENT
DTSTART;TZID=America/Halifax:20260108T210000
DTEND;TZID=America/Halifax:20260108T210000
DTSTAMP:20260420T201716
CREATED:20260108T201617Z
LAST-MODIFIED:20260108T201645Z
UID:7892-1767906000-1767906000@www.waterfrontdistrict.ca
SUMMARY:Karaoke
DESCRIPTION:
URL:https://www.waterfrontdistrict.ca/event/karaoke-27/
LOCATION:Nortenos Cantina\, 235 Red River Rd\, Thunder Bay\, ON\, Canada
END:VEVENT
BEGIN:VEVENT
DTSTART;TZID=America/Halifax:20260108T210000
DTEND;TZID=America/Halifax:20260108T210000
DTSTAMP:20260420T201716
CREATED:20260108T202931Z
LAST-MODIFIED:20260108T202952Z
UID:7900-1767906000-1767906000@www.waterfrontdistrict.ca
SUMMARY:Loughlin
DESCRIPTION:
URL:https://www.waterfrontdistrict.ca/event/loughlin/
LOCATION:The Foundry\, 242 Red River Road\, Thunder Bay\, Ontario\, p7b1a6\, Canada
END:VEVENT
BEGIN:VEVENT
DTSTART;TZID=America/Halifax:20260108T220000
DTEND;TZID=America/Halifax:20260108T220000
DTSTAMP:20260420T201716
CREATED:20260108T201926Z
LAST-MODIFIED:20260108T201946Z
UID:7894-1767909600-1767909600@www.waterfrontdistrict.ca
SUMMARY:Karaoke
DESCRIPTION:
URL:https://www.waterfrontdistrict.ca/event/karaoke-28/
LOCATION:Waterhouse\, 9 Cumberland St S\, Thunder Bay\, ON\, P7B 2T1
END:VEVENT
BEGIN:VEVENT
DTSTART;TZID=America/Halifax:20260109T210000
DTEND;TZID=America/Halifax:20260109T210000
DTSTAMP:20260420T201716
CREATED:20260108T204105Z
LAST-MODIFIED:20260108T204119Z
UID:7904-1767992400-1767992400@www.waterfrontdistrict.ca
SUMMARY:90s Throwback Dance Party
DESCRIPTION:
URL:https://www.waterfrontdistrict.ca/event/90s-throwback-dance-party/
LOCATION:Black Pirates Pub\, 215 Red River Rd\, Suite 101\, Thunder Bay\, ON\, Canada
END:VEVENT
BEGIN:VEVENT
DTSTART;TZID=America/Halifax:20260109T210000
DTEND;TZID=America/Halifax:20260109T210000
DTSTAMP:20260420T201716
CREATED:20260108T204935Z
LAST-MODIFIED:20260108T204952Z
UID:7910-1767992400-1767992400@www.waterfrontdistrict.ca
SUMMARY:The Gin Tonics
DESCRIPTION:
URL:https://www.waterfrontdistrict.ca/event/the-gin-tonics-2/
LOCATION:The Foundry\, 242 Red River Road\, Thunder Bay\, Ontario\, p7b1a6\, Canada
END:VEVENT
BEGIN:VEVENT
DTSTART;TZID=America/Halifax:20260109T220000
DTEND;TZID=America/Halifax:20260109T220000
DTSTAMP:20260420T201716
CREATED:20260108T203747Z
LAST-MODIFIED:20260108T203806Z
UID:7902-1767996000-1767996000@www.waterfrontdistrict.ca
SUMMARY:Fusion Friday
DESCRIPTION:
URL:https://www.waterfrontdistrict.ca/event/fusion-friday/
LOCATION:NV Music Hall\, 228 Red River Rd\, Thunder Bay\, ON\, Canada
END:VEVENT
BEGIN:VEVENT
DTSTART;TZID=America/Halifax:20260109T220000
DTEND;TZID=America/Halifax:20260109T220000
DTSTAMP:20260420T201716
CREATED:20260108T204520Z
LAST-MODIFIED:20260108T204536Z
UID:7906-1767996000-1767996000@www.waterfrontdistrict.ca
SUMMARY:Karaoke
DESCRIPTION:
URL:https://www.waterfrontdistrict.ca/event/karaoke-29/
LOCATION:Waterhouse\, 9 Cumberland St S\, Thunder Bay\, ON\, P7B 2T1
END:VEVENT
BEGIN:VEVENT
DTSTART;TZID=America/Halifax:20260109T220000
DTEND;TZID=America/Halifax:20260109T220000
DTSTAMP:20260420T201716
CREATED:20260108T204700Z
LAST-MODIFIED:20260108T204716Z
UID:7908-1767996000-1767996000@www.waterfrontdistrict.ca
SUMMARY:DJ Sugarman
DESCRIPTION:
URL:https://www.waterfrontdistrict.ca/event/dj-sugarman-6/
LOCATION:Nortenos Cantina\, 235 Red River Rd\, Thunder Bay\, ON\, Canada
END:VEVENT
BEGIN:VEVENT
DTSTART;TZID=America/Halifax:20260110T203000
DTEND;TZID=America/Halifax:20260110T203000
DTSTAMP:20260420T201716
CREATED:20260108T205535Z
LAST-MODIFIED:20260108T205609Z
UID:7914-1768077000-1768077000@www.waterfrontdistrict.ca
SUMMARY:Karaoke
DESCRIPTION:
URL:https://www.waterfrontdistrict.ca/event/karaoke-30/
LOCATION:Howl at The Moon Dry Bar\, 8 Cumberland st S\, Thunder Bay
END:VEVENT
BEGIN:VEVENT
DTSTART;TZID=America/Halifax:20260110T210000
DTEND;TZID=America/Halifax:20260110T210000
DTSTAMP:20260420T201716
CREATED:20260108T205758Z
LAST-MODIFIED:20260108T205811Z
UID:7916-1768078800-1768078800@www.waterfrontdistrict.ca
SUMMARY:Freakshow
DESCRIPTION:
URL:https://www.waterfrontdistrict.ca/event/freakshow/
LOCATION:Black Pirates Pub\, 215 Red River Rd\, Suite 101\, Thunder Bay\, ON\, Canada
END:VEVENT
BEGIN:VEVENT
DTSTART;TZID=America/Halifax:20260110T220000
DTEND;TZID=America/Halifax:20260110T220000
DTSTAMP:20260420T201716
CREATED:20260108T210015Z
LAST-MODIFIED:20260108T210029Z
UID:7918-1768082400-1768082400@www.waterfrontdistrict.ca
SUMMARY:DJ Supa
DESCRIPTION:
URL:https://www.waterfrontdistrict.ca/event/dj-supa-3/
LOCATION:Nortenos Cantina\, 235 Red River Rd\, Thunder Bay\, ON\, Canada
END:VEVENT
BEGIN:VEVENT
DTSTART;TZID=America/Halifax:20260110T220000
DTEND;TZID=America/Halifax:20260111T020000
DTSTAMP:20260420T201716
CREATED:20260108T205326Z
LAST-MODIFIED:20260108T205340Z
UID:7912-1768082400-1768096800@www.waterfrontdistrict.ca
SUMMARY:Pocket After Dark
DESCRIPTION:
URL:https://www.waterfrontdistrict.ca/event/pocket-after-dark-35/
LOCATION:Pocketchange Bar\, 234 Red River Rd\, Thunder Bay\, ON\, P7B 1A6\, Canada
END:VEVENT
BEGIN:VEVENT
DTSTART;TZID=America/Halifax:20260111T160000
DTEND;TZID=America/Halifax:20260111T160000
DTSTAMP:20260420T201716
CREATED:20260108T210527Z
LAST-MODIFIED:20260108T210539Z
UID:7920-1768147200-1768147200@www.waterfrontdistrict.ca
SUMMARY:Movie Night
DESCRIPTION:
URL:https://www.waterfrontdistrict.ca/event/movie-night-8/
LOCATION:Paramount Live\, 24 Court St S\, Thunder Bay
END:VEVENT
BEGIN:VEVENT
DTSTART;TZID=America/Halifax:20260115T170000
DTEND;TZID=America/Halifax:20260115T170000
DTSTAMP:20260420T201716
CREATED:20260115T213424Z
LAST-MODIFIED:20260115T213457Z
UID:7928-1768496400-1768496400@www.waterfrontdistrict.ca
SUMMARY:1/2 Off Wine Night
DESCRIPTION:
URL:https://www.waterfrontdistrict.ca/event/1-2-off-wine-night-4/
LOCATION:Pocketchange Bar\, 234 Red River Rd\, Thunder Bay\, ON\, P7B 1A6\, Canada
END:VEVENT
BEGIN:VEVENT
DTSTART;TZID=America/Halifax:20260115T170000
DTEND;TZID=America/Halifax:20260115T230000
DTSTAMP:20260420T201716
CREATED:20260115T213235Z
LAST-MODIFIED:20260115T213235Z
UID:7926-1768496400-1768518000@www.waterfrontdistrict.ca
SUMMARY:Pocket Dumpling Club
DESCRIPTION:
URL:https://www.waterfrontdistrict.ca/event/pocket-dumpling-club/
LOCATION:Pocketchange Bar\, 234 Red River Rd\, Thunder Bay\, ON\, P7B 1A6\, Canada
END:VEVENT
BEGIN:VEVENT
DTSTART;TZID=America/Halifax:20260115T193000
DTEND;TZID=America/Halifax:20260115T193000
DTSTAMP:20260420T201716
CREATED:20260115T213649Z
LAST-MODIFIED:20260115T213707Z
UID:7930-1768505400-1768505400@www.waterfrontdistrict.ca
SUMMARY:Irish Pub Night
DESCRIPTION:
URL:https://www.waterfrontdistrict.ca/event/irish-pub-night-2/
LOCATION:The Foundry\, 242 Red River Road\, Thunder Bay\, Ontario\, p7b1a6\, Canada
END:VEVENT
END:VCALENDAR