BEGIN:VCALENDAR
VERSION:2.0
PRODID:-//Waterfront District BIA - ECPv6.15.20//NONSGML v1.0//EN
CALSCALE:GREGORIAN
METHOD:PUBLISH
X-WR-CALNAME:Waterfront District BIA
X-ORIGINAL-URL:https://www.waterfrontdistrict.ca
X-WR-CALDESC:Events for Waterfront District BIA
REFRESH-INTERVAL;VALUE=DURATION:PT1H
X-Robots-Tag:noindex
X-PUBLISHED-TTL:PT1H
BEGIN:VTIMEZONE
TZID:America/Halifax
BEGIN:DAYLIGHT
TZOFFSETFROM:-0400
TZOFFSETTO:-0300
TZNAME:ADT
DTSTART:20240310T060000
END:DAYLIGHT
BEGIN:STANDARD
TZOFFSETFROM:-0300
TZOFFSETTO:-0400
TZNAME:AST
DTSTART:20241103T050000
END:STANDARD
BEGIN:DAYLIGHT
TZOFFSETFROM:-0400
TZOFFSETTO:-0300
TZNAME:ADT
DTSTART:20250309T060000
END:DAYLIGHT
BEGIN:STANDARD
TZOFFSETFROM:-0300
TZOFFSETTO:-0400
TZNAME:AST
DTSTART:20251102T050000
END:STANDARD
BEGIN:DAYLIGHT
TZOFFSETFROM:-0400
TZOFFSETTO:-0300
TZNAME:ADT
DTSTART:20260308T060000
END:DAYLIGHT
BEGIN:STANDARD
TZOFFSETFROM:-0300
TZOFFSETTO:-0400
TZNAME:AST
DTSTART:20261101T050000
END:STANDARD
END:VTIMEZONE
BEGIN:VEVENT
DTSTART;TZID=America/Halifax:20251010T210000
DTEND;TZID=America/Halifax:20251010T210000
DTSTAMP:20260420T174138
CREATED:20251009T183141Z
LAST-MODIFIED:20251009T183202Z
UID:7394-1760130000-1760130000@www.waterfrontdistrict.ca
SUMMARY:B!tches Be Funny Presents Megan Phillips Making Friends
DESCRIPTION:Come out for a lot of laughs from Megan Phillips plus opening acts! \nTICKETS HERE
URL:https://www.waterfrontdistrict.ca/event/btches-be-funny-presents-megan-phillips-making-friends/
LOCATION:Red Lion Smokehouse\, 16 Cumberland St S\, Thunder Bay\, ON\, 16 Cumberland St S\, Canada
END:VEVENT
BEGIN:VEVENT
DTSTART;TZID=America/Halifax:20251010T210000
DTEND;TZID=America/Halifax:20251010T210000
DTSTAMP:20260420T174138
CREATED:20251009T183811Z
LAST-MODIFIED:20251009T183843Z
UID:7396-1760130000-1760130000@www.waterfrontdistrict.ca
SUMMARY:Bubble Bash + Glow Party at Bloom
DESCRIPTION:We’re back at it in a week!!!\nFriday October 10th and Saturday October 11th\nBUBBLE BASH & GLOW PARTY!!! \n***Signature cocktail menu***\n***Featured themed drinks***\n***Prizes and giveaways***\nAnd much much more!!!!!!!!!!! \nThe strip will be live as always so be sure to check out our neighbors this weekend ✌️
URL:https://www.waterfrontdistrict.ca/event/bubble-bash-glow-party-at-bloom/
LOCATION:Bloom Bar and Lounge\, 213 Red River Road\, Thunder Bay\, Ontario\, Canada
END:VEVENT
BEGIN:VEVENT
DTSTART;TZID=America/Halifax:20251010T220000
DTEND;TZID=America/Halifax:20251010T220000
DTSTAMP:20260420T174138
CREATED:20251009T184238Z
LAST-MODIFIED:20251009T184248Z
UID:7399-1760133600-1760133600@www.waterfrontdistrict.ca
SUMMARY:Karaoke live at The Waterhouse
DESCRIPTION:Karaoke every Thursday and Friday night at the Waterhouse!
URL:https://www.waterfrontdistrict.ca/event/karaoke-live-at-the-waterhouse-18/
LOCATION:Waterhouse\, 9 Cumberland St S\, Thunder Bay\, ON\, P7B 2T1
END:VEVENT
BEGIN:VEVENT
DTSTART;TZID=America/Halifax:20251010T220000
DTEND;TZID=America/Halifax:20251010T220000
DTSTAMP:20260420T174138
CREATED:20251009T184451Z
LAST-MODIFIED:20251009T184505Z
UID:7401-1760133600-1760133600@www.waterfrontdistrict.ca
SUMMARY:The Foundry Presents The Gin Tonics
DESCRIPTION:The Gin Tonics are back at The Foundry for a night of classic rock and top 40 hits with an acoustic twist Friday Oct 10th.\n** 10pm – $5 cover – 19+ **
URL:https://www.waterfrontdistrict.ca/event/the-foundry-presents-the-gin-tonics/
LOCATION:The Foundry\, 242 Red River Road\, Thunder Bay\, Ontario\, p7b1a6\, Canada
END:VEVENT
BEGIN:VEVENT
DTSTART;TZID=America/Halifax:20251010T220000
DTEND;TZID=America/Halifax:20251010T220000
DTSTAMP:20260420T174138
CREATED:20251009T184646Z
LAST-MODIFIED:20251009T184710Z
UID:7403-1760133600-1760133600@www.waterfrontdistrict.ca
SUMMARY:Latin Fusion at NV Music Hall
DESCRIPTION:🌟 LATIN FUSION 🌟\nJoin us for a special night in support of ALAS LU. \nCelebrate Latin music\, culture\, and community while supporting a meaningful cause. 💃✨ Get ready for a night where Latin vibes meet Dancehall\, Afrobeats & Club Anthems 🎶💃🏽🕺🏽 \nThis is more than just a party — it’s a night of connection and celebration. \n✨ Event Details:\n🕙 Doors open 10PM sharp\n🎟️ 10 Cover at the Door\n🍹 $5 drink specials all night long\n🎶 Sounds by: DJ Pura Vida & DJ SUPA
URL:https://www.waterfrontdistrict.ca/event/latin-fusion-at-nv-music-hall/
LOCATION:NV Music Hall\, 228 Red River Rd\, Thunder Bay\, ON\, Canada
END:VEVENT
BEGIN:VEVENT
DTSTART;TZID=America/Halifax:20251010T220000
DTEND;TZID=America/Halifax:20251010T220000
DTSTAMP:20260420T174138
CREATED:20251009T185110Z
LAST-MODIFIED:20251009T185125Z
UID:7405-1760133600-1760133600@www.waterfrontdistrict.ca
SUMMARY:Deejay Dizzle live at Nortenos Cantina
DESCRIPTION:
URL:https://www.waterfrontdistrict.ca/event/deejay-dizzle-live-at-nortenos-cantina-2/
LOCATION:Nortenos Cantina\, 235 Red River Rd\, Thunder Bay\, ON\, Canada
END:VEVENT
BEGIN:VEVENT
DTSTART;TZID=America/Halifax:20251010T230000
DTEND;TZID=America/Halifax:20251010T230000
DTSTAMP:20260420T174138
CREATED:20251009T185535Z
LAST-MODIFIED:20251009T185548Z
UID:7407-1760137200-1760137200@www.waterfrontdistrict.ca
SUMMARY:Witches Walk at Pocketchange
DESCRIPTION:✨ Pocketchange Welcomes This Years Downtown Witch Walk ✨\nWe’re thrilled to be one of your stops October 10th! \nBewitching cocktails (with a dash of Children! for that secret potion twist 🧪)\nA live DJ spinning wicked beats all night \nVibes straight out of Hocus Pocus — because we put a spell on you\, and now you’re ours… 😈 \nSo grab your broom\, your coven\, and your wicked self — and come sip\, dance\, and cackle with us under the downtown moon. 🌙
URL:https://www.waterfrontdistrict.ca/event/witches-walk-at-pocketchange/
LOCATION:Pocketchange Bar\, 234 Red River Rd\, Thunder Bay\, ON\, P7B 1A6\, Canada
END:VEVENT
BEGIN:VEVENT
DTSTART;TZID=America/Halifax:20251011T100000
DTEND;TZID=America/Halifax:20251011T100000
DTSTAMP:20260420T174138
CREATED:20251009T193704Z
LAST-MODIFIED:20251009T193721Z
UID:7431-1760176800-1760176800@www.waterfrontdistrict.ca
SUMMARY:Shop The Closet
DESCRIPTION:
URL:https://www.waterfrontdistrict.ca/event/shop-the-closet/
LOCATION:Goods and co\, 251 Red River Rd\, Thunder Bay\, Ontario\, P7B 1A7\, Canada
END:VEVENT
BEGIN:VEVENT
DTSTART;TZID=America/Halifax:20251011T100000
DTEND;TZID=America/Halifax:20251011T160000
DTSTAMP:20260420T174138
CREATED:20251009T193103Z
LAST-MODIFIED:20251009T193143Z
UID:7429-1760176800-1760198400@www.waterfrontdistrict.ca
SUMMARY:The 2nd Annual Lakehead Record Revival
DESCRIPTION:The 2nd Annual Lakehead Record Revival.\nThanksgiving Saturday October 1110 AM – 4 PM at Red Lion Smokehouse\, Thunder Bay\, ON.\nThanksgiving is for family\, football\, and… crates of vinyl. Before you settle in for the turkey coma\, come spend a few hours flipping through records\, cassettes\, CDs\, and pop-culture memorabilia with six vendors\, over 11 tables all bringing you the good stuff.\nThis year we’re teaming up with our neighbours at Red Lion Smokehouse\, taking over half their space for one day only.\nGood beer. Great food. And piles of music.\nBeer + records… probably the best way to make bad decisions.\nMake it part of your Thanksgiving weekend tradition — music first\, turkey later.\n Saturday\, Oct 11 Red Lion Smokehouse 10 AM – 4 PM
URL:https://www.waterfrontdistrict.ca/event/the-2nd-annual-lakehead-record-revival/
LOCATION:Red Lion Smokehouse\, 16 Cumberland St S\, Thunder Bay\, ON\, 16 Cumberland St S\, Canada
END:VEVENT
BEGIN:VEVENT
DTSTART;TZID=America/Halifax:20251011T150000
DTEND;TZID=America/Halifax:20251011T210000
DTSTAMP:20260420T174138
CREATED:20251009T190023Z
LAST-MODIFIED:20251009T190023Z
UID:7409-1760194800-1760216400@www.waterfrontdistrict.ca
SUMMARY:Vinyl Saturdays at Red Lion Smokehouse
DESCRIPTION:Dust off your records ’cause every Saturday you can be your own DJ and spin your favourite tunes on Red Lion Smokehouse’s house record player for “Bring Your Own Vinyl Saturday” \nDon’t have a record? Peruse the house crate and take the playlist into your own hands\, or better yet\, pop over to The Vinyl Frontier located right next door to Red Lion and start your own collection.
URL:https://www.waterfrontdistrict.ca/event/vinyl-saturdays-at-red-lion-smokehouse-9/
LOCATION:Red Lion Smokehouse\, 16 Cumberland St S\, Thunder Bay\, ON\, 16 Cumberland St S\, Canada
END:VEVENT
BEGIN:VEVENT
DTSTART;TZID=America/Halifax:20251011T190000
DTEND;TZID=America/Halifax:20251011T190000
DTSTAMP:20260420T174138
CREATED:20251009T190220Z
LAST-MODIFIED:20251009T190233Z
UID:7411-1760209200-1760209200@www.waterfrontdistrict.ca
SUMMARY:Hallo-Wheelies Roller Rink
DESCRIPTION:🎃🛼 Hallo-Wheelies is back to roll you into spooky season! 🛼🎃 \nOn Saturday\, October 11th from 7 PM – 12 AM\, we’re turning up the volume and lacing up the skates for the ultimate Halloween roller party. \n✨ All ages until 9 PM — so bring the whole coven (yes\, kids too!) \n✨ After 9\, the floor is strictly 19+ — with drink specials at Woodside to keep the night flowing. \n✨ $10 tickets — grab yours online or at the door (if you dare). \n🦇 Featuring DJ LUV spinning all night — think spooky beats\, throwback jams\, and floor-shaking tracks that’ll keep your wheels moving. \n🦇 Costume contest — bring your boldest\, baddest\, or freakiest looks for a chance to snag the prize. \n🦇 Roller skates + blades welcome (no scooters\, witches).\nSo dust off your skates\, summon your squad\, and roll into a night of thrills\, chills\, and disco balls. This is the Halloween party on wheels — don’t ghost it. 👻 \nTICKETS HERE
URL:https://www.waterfrontdistrict.ca/event/hallo-wheelies-roller-rink/
LOCATION:Goods and co\, 251 Red River Rd\, Thunder Bay\, Ontario\, P7B 1A7\, Canada
END:VEVENT
BEGIN:VEVENT
DTSTART;TZID=America/Halifax:20251011T203000
DTEND;TZID=America/Halifax:20251011T203000
DTSTAMP:20260420T174138
CREATED:20251009T190414Z
LAST-MODIFIED:20251009T190423Z
UID:7413-1760214600-1760214600@www.waterfrontdistrict.ca
SUMMARY:Sober Karaoke Night at Howl at the Moon
DESCRIPTION:Karaoke Tuesdays\, Thursdays\, and Saturdays at Howl! \n830pm to midnight\n$5 cover
URL:https://www.waterfrontdistrict.ca/event/sober-karaoke-night-at-howl-at-the-moon-10/
LOCATION:Howl at The Moon Dry Bar\, 8 Cumberland st S\, Thunder Bay
END:VEVENT
BEGIN:VEVENT
DTSTART;TZID=America/Halifax:20251011T210000
DTEND;TZID=America/Halifax:20251011T210000
DTSTAMP:20260420T174138
CREATED:20251009T190616Z
LAST-MODIFIED:20251009T190631Z
UID:7415-1760216400-1760216400@www.waterfrontdistrict.ca
SUMMARY:Small Town Bad live at the Foundry
DESCRIPTION:Don’t miss Small Town Bad live at the Foundry!
URL:https://www.waterfrontdistrict.ca/event/small-town-bad-live-at-the-foundry/
LOCATION:The Foundry\, 242 Red River Road\, Thunder Bay\, Ontario\, p7b1a6\, Canada
END:VEVENT
BEGIN:VEVENT
DTSTART;TZID=America/Halifax:20251011T210000
DTEND;TZID=America/Halifax:20251011T210000
DTSTAMP:20260420T174138
CREATED:20251009T190809Z
LAST-MODIFIED:20251009T190822Z
UID:7417-1760216400-1760216400@www.waterfrontdistrict.ca
SUMMARY:Ivy Gardens w/ Vape Dealer & Loudtooth
DESCRIPTION:BPP is proud to welcome IVY GARDENS from Niagara Falls. Sludge/Stoner Rock 3 piece that you don’t want to miss \nLocal Support from VAPE DEALER and LOUDTOOTH \n$15 at the door\, 19+ \nDoors at 9pm\, Show at 10pm \n\nTICKETS HERE
URL:https://www.waterfrontdistrict.ca/event/ivy-gardens-w-vape-dealer-loudtooth/
LOCATION:Black Pirates Pub\, 215 Red River Rd\, Suite 101\, Thunder Bay\, ON\, Canada
END:VEVENT
BEGIN:VEVENT
DTSTART;TZID=America/Halifax:20251011T210000
DTEND;TZID=America/Halifax:20251011T210000
DTSTAMP:20260420T174138
CREATED:20251009T191009Z
LAST-MODIFIED:20251009T191020Z
UID:7419-1760216400-1760216400@www.waterfrontdistrict.ca
SUMMARY:Bubble Bash + Glow Party at Bloom
DESCRIPTION:We’re back at it in a week!!!\nFriday October 10th and Saturday October 11th\nBUBBLE BASH & GLOW PARTY!!! \n***Signature cocktail menu***\n***Featured themed drinks***\n***Prizes and giveaways***\nAnd much much more!!!!!!!!!!! \nThe strip will be live as always so be sure to check out our neighbors this weekend ✌️
URL:https://www.waterfrontdistrict.ca/event/bubble-bash-glow-party-at-bloom-2/
LOCATION:Bloom Bar and Lounge\, 213 Red River Road\, Thunder Bay\, Ontario\, Canada
END:VEVENT
BEGIN:VEVENT
DTSTART;TZID=America/Halifax:20251011T220000
DTEND;TZID=America/Halifax:20251011T220000
DTSTAMP:20260420T174138
CREATED:20251009T191219Z
LAST-MODIFIED:20251009T191313Z
UID:7421-1760220000-1760220000@www.waterfrontdistrict.ca
SUMMARY:Ladies Night Saturdays ft DJ Mo at NV Music Hall
DESCRIPTION:
URL:https://www.waterfrontdistrict.ca/event/ladies-night-saturdays-ft-dj-mo-at-nv-music-hall-2/
LOCATION:NV Music Hall\, 228 Red River Rd\, Thunder Bay\, ON\, Canada
END:VEVENT
BEGIN:VEVENT
DTSTART;TZID=America/Halifax:20251011T220000
DTEND;TZID=America/Halifax:20251011T220000
DTSTAMP:20260420T174138
CREATED:20251009T191426Z
LAST-MODIFIED:20251009T191441Z
UID:7423-1760220000-1760220000@www.waterfrontdistrict.ca
SUMMARY:DJ Supa live at Nortenos Cantina
DESCRIPTION:
URL:https://www.waterfrontdistrict.ca/event/dj-supa-live-at-nortenos-cantina/
LOCATION:Nortenos Cantina\, 235 Red River Rd\, Thunder Bay\, ON\, Canada
END:VEVENT
BEGIN:VEVENT
DTSTART;TZID=America/Halifax:20251011T230000
DTEND;TZID=America/Halifax:20251011T230000
DTSTAMP:20260420T174138
CREATED:20251009T191759Z
LAST-MODIFIED:20251009T191814Z
UID:7425-1760223600-1760223600@www.waterfrontdistrict.ca
SUMMARY:Pocket After Dark
DESCRIPTION:No Cover // 19+
URL:https://www.waterfrontdistrict.ca/event/pocket-after-dark-29/
LOCATION:Pocketchange Bar\, 234 Red River Rd\, Thunder Bay\, ON\, P7B 1A6\, Canada
END:VEVENT
BEGIN:VEVENT
DTSTART;TZID=America/Halifax:20251012T160000
DTEND;TZID=America/Halifax:20251012T160000
DTSTAMP:20260420T174138
CREATED:20251009T194506Z
LAST-MODIFIED:20251009T194528Z
UID:7435-1760284800-1760284800@www.waterfrontdistrict.ca
SUMMARY:Paramount Movie Night
DESCRIPTION:Free Admission To Park After The Movie!
URL:https://www.waterfrontdistrict.ca/event/paramount-movie-night-2/
LOCATION:Paramount Live\, 24 Court St S\, Thunder Bay
END:VEVENT
BEGIN:VEVENT
DTSTART;TZID=America/Halifax:20251012T193000
DTEND;TZID=America/Halifax:20251012T210000
DTSTAMP:20260420T174138
CREATED:20251009T194218Z
LAST-MODIFIED:20251009T194218Z
UID:7433-1760297400-1760302800@www.waterfrontdistrict.ca
SUMMARY:Jeff Dye at the Paramount Theatre
DESCRIPTION:Headliner Bio \nJEFF DYE: Jeff Dye is a nationally touring comedian\, actor and host known for his unfiltered and unapologetic style. Jeff is a recurring guest on “The Joe Rogan Experience” podcast\, has had multiple appearance on “The Tonight Show with Jimmy Fallon” and has had his own “Comedy Central Presents” special. Jeff has had two Billboard Top-10 charting comedy albums “Dumb is Gooder” and “Live From Madison” before releasing “Last Cowboy in LA” in late 2024. \nJeff has filmed over 100 episodes of the Fox gameshow “What the Bleep is That?”\, starred in NBC’s comedy adventure series “Better Late Than Never” and can be seen on episodes of “I Can See Your Voice” and “The Masked Singer” on Fox. In previous years\, he has starred on numerous TV projects\, including “Money from Strangers“\, “Girl Code“\, “Extreme Makeover: Home Edition“\, NBC’s “I Can Do That“\, “Better Late Than Never”\, “That Awkward Game Show” and numerous other shows. \nJeff is also a recurring guest on The Greg Gutfeld show\, where he has received praise for his raw unfiltered comedic viewpoint\, bringing a new style of edge and honesty. Dye’s passion is bringing love and positivity through laughter while maintaining truth to everyone he encounters. \nPlus Opening Act \nHosted By: Mark Menei \nSponsors: \nOn The Links\nMatt Carr Repair \nDoors open @ 7PM \nShow starts @ 730PM \nRecommended for mature audiences due to adult content. 18+ \nFor event updates follow Campfire Comedy on social media or visit us at www.campfirecomedy.ca
URL:https://www.waterfrontdistrict.ca/event/jeff-dye-at-the-paramount-theatre/
LOCATION:Paramount Live\, 24 Court St S\, Thunder Bay
END:VEVENT
BEGIN:VEVENT
DTSTART;TZID=America/Halifax:20251016T180000
DTEND;TZID=America/Halifax:20251016T180000
DTSTAMP:20260420T174138
CREATED:20251016T174052Z
LAST-MODIFIED:20251016T174153Z
UID:7438-1760637600-1760637600@www.waterfrontdistrict.ca
SUMMARY:Lake Superior Paranormal Convention (ParaCon)
DESCRIPTION:Join us at the Lake Superior Paracon for a weekend of paranormal exploration\, featuring expert guest speakers\, interactive workshops\, vendors\, psychics\, paranormal investigations\, and more! \nThe Lake Superior Paracon is an annual event that brings together a community of paranormal experts\, researchers\, journalists\, and enthusiasts to share thier knowledge and experiences related to topics like hauntings\, spirits\, psychic abilities\, UFOs/UAPs\, and cryptozoology. \nWhy attend the Lake Superior Paracon? \nMeet paranormal experts & investigators\nShare stories & evidence of paranormal encounters\nEngage in hands-on invesigations & workshops\nConnect with like-minded people\nExplore unique vendors & memorabilia \nBook your discounted room at the Delta hotel for your stay!\nPlease call the hotel directly for alternative room nights and types – 807-285-9336. \n  \nWhether you’re a seasoned investigator or just curious about the unknown\, the Lake Superior Paracon promises thrilling discoveries and unforgettable experiences! Find all the info you need at www.lakesuperiorparacon.com \nFEATURING\n– Shawn Leonard | Indigenous (Mi’kmaq) Spirit Talker\n– Jason Kenzie | Sasquatch filmmaker and photojournalist\n– Mike Ricksecker | Paranormal Researcher and Author\n– SNIPE | Six Nations Investigating Paranormal Encounters\n– Kerrilynn Shellhorn | Internationally respected Psychic Medium\n– Beyond the Haunting | Paranormal Investigators\n– Elliot Van Dusen | Parapsychology Expert and Author\n– Brian Baker | Paranormal and Pop-culture Journalist\n– Chris Rutkowski | UFO/UAP Expert and Author\n– Kim Christine | Paranormal Investigator and Reiki Master\n– Katherine Keeping | Reiki Master and Crystal Healing Surgeon\nSCHEDULE\n(subject to change) \nThursday\, October 16 – ADD-ON EVENT\nSasquatch Expedition with Jason Kenzie – Two timeslots – 6:00pm and 8:15pm\nLocation – Pick up expedition package at Delta Hotels (to undisclosed outdoor location)\nNOTE: participants may be required to walk up to 2 km on uneven or rough terrain\, dress for the great outdoors! \nFriday\, October 17\nGhost Stories by the Fire with Celebrity Guests – 6:30pm to 10:00pm\nLocation – Fort William Historical Park\nNOTE: This is an indoor and outdoor event\, dress for the weather \nSaturday\, October 18\nLake Superior Paranormal Convention (Day 1) – Doors Open – 9:00am to 6:30pm\nLocation – Delta Hotels Thunder Bay\n– Shawn Leonard\, Spirit Talker presenation and book signing (Saturday Only) \nSaturday\, October 18\nAfter Hours Paranormal Investigation – 8:30pm to 12:30am\nLocation – Thunder Bay Museum \nSunday\, October 19\nLake Superior Paranormal Convention (Day 2) – Doors Open – 9:00am to 6:00pm\nLocation – Delta Hotels Thunder Bay\nADD-ON EVENT – Kerrilyn Shellhorn Psychic Gallery Reading (Sunday Only) at the Delta Hotel – 12:00pm
URL:https://www.waterfrontdistrict.ca/event/lake-superior-paranormal-convention-paracon/
LOCATION:Anchor & Ore\, 2240 Sleeping Giant Pkwy\, Thunder Bay\, ON\, Canada
END:VEVENT
BEGIN:VEVENT
DTSTART;TZID=America/Halifax:20251016T183000
DTEND;TZID=America/Halifax:20251016T233000
DTSTAMP:20260420T174138
CREATED:20251016T174827Z
LAST-MODIFIED:20251016T174827Z
UID:7440-1760639400-1760657400@www.waterfrontdistrict.ca
SUMMARY:9th Annual Terror in the Bay Film Festival
DESCRIPTION:Get ready for a frightful descent into cinematic terror as the world renowned Terror in the Bay Film Festival returns for its highly anticipated 9th year! From October 15th to 18th\, the historic Paramount Theatre in Thunder Bay\, Ontario\, Canada\, will transform into a hub of spine-tingling excitement\, inviting horror enthusiasts to experience four nights of curated independent horror films from across the globe. \nThe festival will also feature blood-red carpet photos\, local vendors selling horror-themed merchandise\, as well as a variety of popcorn and snacks to satisfy your cravings. Attendees will also have the opportunity to engage with the filmmakers themselves – through Q&A sessions\, and to make the experience even more exciting\, there will be prizes for Best Costume and Best Couples’ Costume on Saturday\, October 18th! \nThis annual must-attend event promises to push the boundaries of fear and excitement\, showcasing a diverse lineup ranging from psychological thrillers to supernatural scares\, ensuring a truly immersive and unforgettable experience for every horror fan.
URL:https://www.waterfrontdistrict.ca/event/9th-annual-terror-in-the-bay-film-festival/
LOCATION:Paramount Live\, 24 Court St S\, Thunder Bay
END:VEVENT
BEGIN:VEVENT
DTSTART;TZID=America/Halifax:20251016T190000
DTEND;TZID=America/Halifax:20251016T220000
DTSTAMP:20260420T174138
CREATED:20251016T175722Z
LAST-MODIFIED:20251016T175722Z
UID:7442-1760641200-1760652000@www.waterfrontdistrict.ca
SUMMARY:Open Mic Night at Lakehead Beer Co
DESCRIPTION:What’s Open Mic Night all about? Fresh beer\, delicious food\, local talent\, and good vibes.🙌 \nDiscover new local talent every Thursday from 7:30-10pm in the taproom or sign up at the bar and perform for a free beverage! \nNo experience needed\, we’re here to cheer you on. \nTaproom open 4pm-11pm Thursday!🍻 \n**All ages / guardian supervision is mandatory for minors
URL:https://www.waterfrontdistrict.ca/event/open-mic-night-at-lakehead-beer-co-9/
LOCATION:Lakehead Beer Co\, 206 Park Ave\, Thunder Bay
END:VEVENT
BEGIN:VEVENT
DTSTART;TZID=America/Halifax:20251016T200000
DTEND;TZID=America/Halifax:20251016T213000
DTSTAMP:20260420T174138
CREATED:20251016T180629Z
LAST-MODIFIED:20251016T180629Z
UID:7445-1760644800-1760650200@www.waterfrontdistrict.ca
SUMMARY:Fiona O’Brien Comedy at the Foundry
DESCRIPTION:FIONA O’BRIEN: After emigrating from Dublin\, Ireland to Toronto\, Canada in 2012\, Fiona began a quest to stamp out the racism that the Irish face … one lucky charm at a time. Fiona quickly established herself by winning over audiences at festivals like Funny Women UK\, the Halifax\, Boston\, and Winnipeg Comedy Festivals. \nO’Brien is featured on CBC’s Laugh Out Loud\, Because News\, Just For Laughs\, and She’s So Funny on Sirius XM\, and Yuk Yuks. Opens for Gerry Dee on tour. Her comedy album ‘Magically Malicious’ is now on iTunes and Spotify. After providing the world with three future taxpayers\, Fiona decided to dedicate her life to making people laugh with her no restraint\, provocative\, and unique humour. \nPLUS SEVERAL OPENING ACTS
URL:https://www.waterfrontdistrict.ca/event/fiona-obrien-comedy-at-the-foundry/
LOCATION:The Foundry\, 242 Red River Road\, Thunder Bay\, Ontario\, p7b1a6\, Canada
END:VEVENT
BEGIN:VEVENT
DTSTART;TZID=America/Halifax:20251016T203000
DTEND;TZID=America/Halifax:20251016T203000
DTSTAMP:20260420T174138
CREATED:20251016T180958Z
LAST-MODIFIED:20251016T181931Z
UID:7454-1760646600-1760646600@www.waterfrontdistrict.ca
SUMMARY:Sober Karaoke Night at Howl at the Moon
DESCRIPTION:Karaoke Tuesdays\, Thursdays\, and Saturdays at Howl! \n830pm to midnight\n$5 cover
URL:https://www.waterfrontdistrict.ca/event/sober-karaoke-night-at-howl-at-the-moon-11/
LOCATION:Howl at The Moon Dry Bar\, 8 Cumberland st S\, Thunder Bay
END:VEVENT
BEGIN:VEVENT
DTSTART;TZID=America/Halifax:20251016T210000
DTEND;TZID=America/Halifax:20251016T210000
DTSTAMP:20260420T174138
CREATED:20251016T182442Z
LAST-MODIFIED:20251016T182456Z
UID:7461-1760648400-1760648400@www.waterfrontdistrict.ca
SUMMARY:Karaoke live at Nortenos Cantina
DESCRIPTION:Karaoke at the Cantina Every Thursday night.\nNo cover. \nShow Starts 9PM at Nortenos Cantina.
URL:https://www.waterfrontdistrict.ca/event/karaoke-live-at-nortenos-cantina-10/
LOCATION:Nortenos Cantina\, 235 Red River Rd\, Thunder Bay\, ON\, Canada
END:VEVENT
BEGIN:VEVENT
DTSTART;TZID=America/Halifax:20251016T220000
DTEND;TZID=America/Halifax:20251016T220000
DTSTAMP:20260420T174138
CREATED:20251016T183055Z
LAST-MODIFIED:20251016T183108Z
UID:7463-1760652000-1760652000@www.waterfrontdistrict.ca
SUMMARY:Karaoke live at The Waterhouse
DESCRIPTION:
URL:https://www.waterfrontdistrict.ca/event/karaoke-live-at-the-waterhouse-19/
LOCATION:Waterhouse\, 9 Cumberland St S\, Thunder Bay\, ON\, P7B 2T1
END:VEVENT
BEGIN:VEVENT
DTSTART;TZID=America/Halifax:20251017T180000
DTEND;TZID=America/Halifax:20251017T210000
DTSTAMP:20260420T174138
CREATED:20251016T183438Z
LAST-MODIFIED:20251016T183438Z
UID:7465-1760724000-1760734800@www.waterfrontdistrict.ca
SUMMARY:Jazz and Old Fashioned Fridays ft. Mood Indigo
DESCRIPTION:Don’t miss the spectacular scenery\, smooth jazz and incredibly crafted cocktails and food at Anchor & Ore in The Delta Hotel with Mood Indigo!
URL:https://www.waterfrontdistrict.ca/event/jazz-and-old-fashioned-fridays-ft-mood-indigo-15/
LOCATION:Anchor & Ore\, 2240 Sleeping Giant Pkwy\, Thunder Bay\, ON\, Canada
END:VEVENT
BEGIN:VEVENT
DTSTART;TZID=America/Halifax:20251017T180000
DTEND;TZID=America/Halifax:20251017T220000
DTSTAMP:20260420T174138
CREATED:20251016T192053Z
LAST-MODIFIED:20251016T192249Z
UID:7485-1760724000-1760738400@www.waterfrontdistrict.ca
SUMMARY:AANIKOOBIDOON II Art Opening
DESCRIPTION:
URL:https://www.waterfrontdistrict.ca/event/aanikoobidoon-ii-art-opening/
LOCATION:Goods and co\, 251 Red River Rd\, Thunder Bay\, Ontario\, P7B 1A7\, Canada
END:VEVENT
BEGIN:VEVENT
DTSTART;TZID=America/Halifax:20251017T183000
DTEND;TZID=America/Halifax:20251017T220000
DTSTAMP:20260420T174138
CREATED:20251016T183918Z
LAST-MODIFIED:20251016T183918Z
UID:7467-1760725800-1760738400@www.waterfrontdistrict.ca
SUMMARY:Lake Superior Paranormal Convention (ParaCon)
DESCRIPTION:Join us at the Lake Superior Paracon for a weekend of paranormal exploration\, featuring expert guest speakers\, interactive workshops\, vendors\, psychics\, paranormal investigations\, and more! \nThe Lake Superior Paracon is an annual event that brings together a community of paranormal experts\, researchers\, journalists\, and enthusiasts to share thier knowledge and experiences related to topics like hauntings\, spirits\, psychic abilities\, UFOs/UAPs\, and cryptozoology. \nWhy attend the Lake Superior Paracon? \nMeet paranormal experts & investigators\nShare stories & evidence of paranormal encounters\nEngage in hands-on invesigations & workshops\nConnect with like-minded people\nExplore unique vendors & memorabilia \nBook your discounted room at the Delta hotel for your stay!\nPlease call the hotel directly for alternative room nights and types – 807-285-9336. \n  \nWhether you’re a seasoned investigator or just curious about the unknown\, the Lake Superior Paracon promises thrilling discoveries and unforgettable experiences! Find all the info you need at www.lakesuperiorparacon.com \nFEATURING\n– Shawn Leonard | Indigenous (Mi’kmaq) Spirit Talker\n– Jason Kenzie | Sasquatch filmmaker and photojournalist\n– Mike Ricksecker | Paranormal Researcher and Author\n– SNIPE | Six Nations Investigating Paranormal Encounters\n– Kerrilynn Shellhorn | Internationally respected Psychic Medium\n– Beyond the Haunting | Paranormal Investigators\n– Elliot Van Dusen | Parapsychology Expert and Author\n– Brian Baker | Paranormal and Pop-culture Journalist\n– Chris Rutkowski | UFO/UAP Expert and Author\n– Kim Christine | Paranormal Investigator and Reiki Master\n– Katherine Keeping | Reiki Master and Crystal Healing Surgeon\nSCHEDULE\n(subject to change) \nThursday\, October 16 – ADD-ON EVENT\nSasquatch Expedition with Jason Kenzie – Two timeslots – 6:00pm and 8:15pm\nLocation – Pick up expedition package at Delta Hotels (to undisclosed outdoor location)\nNOTE: participants may be required to walk up to 2 km on uneven or rough terrain\, dress for the great outdoors! \nFriday\, October 17\nGhost Stories by the Fire with Celebrity Guests – 6:30pm to 10:00pm\nLocation – Fort William Historical Park\nNOTE: This is an indoor and outdoor event\, dress for the weather \nSaturday\, October 18\nLake Superior Paranormal Convention (Day 1) – Doors Open – 9:00am to 6:30pm\nLocation – Delta Hotels Thunder Bay\n– Shawn Leonard\, Spirit Talker presenation and book signing (Saturday Only) \nSaturday\, October 18\nAfter Hours Paranormal Investigation – 8:30pm to 12:30am\nLocation – Thunder Bay Museum \nSunday\, October 19\nLake Superior Paranormal Convention (Day 2) – Doors Open – 9:00am to 6:00pm\nLocation – Delta Hotels Thunder Bay\nADD-ON EVENT – Kerrilyn Shellhorn Psychic Gallery Reading (Sunday Only) at the Delta Hotel – 12:00pm
URL:https://www.waterfrontdistrict.ca/event/lake-superior-paranormal-convention-paracon-2/
LOCATION:Anchor & Ore\, 2240 Sleeping Giant Pkwy\, Thunder Bay\, ON\, Canada
END:VEVENT
END:VCALENDAR