BEGIN:VCALENDAR
VERSION:2.0
PRODID:-//Waterfront District BIA - ECPv6.15.20//NONSGML v1.0//EN
CALSCALE:GREGORIAN
METHOD:PUBLISH
X-ORIGINAL-URL:https://www.waterfrontdistrict.ca
X-WR-CALDESC:Events for Waterfront District BIA
REFRESH-INTERVAL;VALUE=DURATION:PT1H
X-Robots-Tag:noindex
X-PUBLISHED-TTL:PT1H
BEGIN:VTIMEZONE
TZID:America/Halifax
BEGIN:DAYLIGHT
TZOFFSETFROM:-0400
TZOFFSETTO:-0300
TZNAME:ADT
DTSTART:20250309T060000
END:DAYLIGHT
BEGIN:STANDARD
TZOFFSETFROM:-0300
TZOFFSETTO:-0400
TZNAME:AST
DTSTART:20251102T050000
END:STANDARD
BEGIN:DAYLIGHT
TZOFFSETFROM:-0400
TZOFFSETTO:-0300
TZNAME:ADT
DTSTART:20260308T060000
END:DAYLIGHT
BEGIN:STANDARD
TZOFFSETFROM:-0300
TZOFFSETTO:-0400
TZNAME:AST
DTSTART:20261101T050000
END:STANDARD
BEGIN:DAYLIGHT
TZOFFSETFROM:-0400
TZOFFSETTO:-0300
TZNAME:ADT
DTSTART:20270314T060000
END:DAYLIGHT
BEGIN:STANDARD
TZOFFSETFROM:-0300
TZOFFSETTO:-0400
TZNAME:AST
DTSTART:20271107T050000
END:STANDARD
END:VTIMEZONE
BEGIN:VEVENT
DTSTART;TZID=America/Halifax:20260110T220000
DTEND;TZID=America/Halifax:20260110T220000
DTSTAMP:20260420T233021
CREATED:20260108T210015Z
LAST-MODIFIED:20260108T210029Z
UID:7918-1768082400-1768082400@www.waterfrontdistrict.ca
SUMMARY:DJ Supa
DESCRIPTION:
URL:https://www.waterfrontdistrict.ca/event/dj-supa-3/
LOCATION:Nortenos Cantina\, 235 Red River Rd\, Thunder Bay\, ON\, Canada
END:VEVENT
BEGIN:VEVENT
DTSTART;TZID=America/Halifax:20260110T220000
DTEND;TZID=America/Halifax:20260111T020000
DTSTAMP:20260420T233021
CREATED:20260108T205326Z
LAST-MODIFIED:20260108T205340Z
UID:7912-1768082400-1768096800@www.waterfrontdistrict.ca
SUMMARY:Pocket After Dark
DESCRIPTION:
URL:https://www.waterfrontdistrict.ca/event/pocket-after-dark-35/
LOCATION:Pocketchange Bar\, 234 Red River Rd\, Thunder Bay\, ON\, P7B 1A6\, Canada
END:VEVENT
BEGIN:VEVENT
DTSTART;TZID=America/Halifax:20260111T160000
DTEND;TZID=America/Halifax:20260111T160000
DTSTAMP:20260420T233021
CREATED:20260108T210527Z
LAST-MODIFIED:20260108T210539Z
UID:7920-1768147200-1768147200@www.waterfrontdistrict.ca
SUMMARY:Movie Night
DESCRIPTION:
URL:https://www.waterfrontdistrict.ca/event/movie-night-8/
LOCATION:Paramount Live\, 24 Court St S\, Thunder Bay
END:VEVENT
BEGIN:VEVENT
DTSTART;TZID=America/Halifax:20260115T170000
DTEND;TZID=America/Halifax:20260115T170000
DTSTAMP:20260420T233021
CREATED:20260115T213424Z
LAST-MODIFIED:20260115T213457Z
UID:7928-1768496400-1768496400@www.waterfrontdistrict.ca
SUMMARY:1/2 Off Wine Night
DESCRIPTION:
URL:https://www.waterfrontdistrict.ca/event/1-2-off-wine-night-4/
LOCATION:Pocketchange Bar\, 234 Red River Rd\, Thunder Bay\, ON\, P7B 1A6\, Canada
END:VEVENT
BEGIN:VEVENT
DTSTART;TZID=America/Halifax:20260115T170000
DTEND;TZID=America/Halifax:20260115T230000
DTSTAMP:20260420T233021
CREATED:20260115T213235Z
LAST-MODIFIED:20260115T213235Z
UID:7926-1768496400-1768518000@www.waterfrontdistrict.ca
SUMMARY:Pocket Dumpling Club
DESCRIPTION:
URL:https://www.waterfrontdistrict.ca/event/pocket-dumpling-club/
LOCATION:Pocketchange Bar\, 234 Red River Rd\, Thunder Bay\, ON\, P7B 1A6\, Canada
END:VEVENT
BEGIN:VEVENT
DTSTART;TZID=America/Halifax:20260115T193000
DTEND;TZID=America/Halifax:20260115T193000
DTSTAMP:20260420T233021
CREATED:20260115T213649Z
LAST-MODIFIED:20260115T213707Z
UID:7930-1768505400-1768505400@www.waterfrontdistrict.ca
SUMMARY:Irish Pub Night
DESCRIPTION:
URL:https://www.waterfrontdistrict.ca/event/irish-pub-night-2/
LOCATION:The Foundry\, 242 Red River Road\, Thunder Bay\, Ontario\, p7b1a6\, Canada
END:VEVENT
BEGIN:VEVENT
DTSTART;TZID=America/Halifax:20260115T193000
DTEND;TZID=America/Halifax:20260115T193000
DTSTAMP:20260420T233021
CREATED:20260115T213856Z
LAST-MODIFIED:20260115T213912Z
UID:7932-1768505400-1768505400@www.waterfrontdistrict.ca
SUMMARY:Celtic Night Launch
DESCRIPTION:
URL:https://www.waterfrontdistrict.ca/event/celtic-night-launch/
LOCATION:Red Lion Smokehouse\, 16 Cumberland St S\, Thunder Bay\, ON\, 16 Cumberland St S\, Canada
END:VEVENT
BEGIN:VEVENT
DTSTART;TZID=America/Halifax:20260115T193000
DTEND;TZID=America/Halifax:20260115T193000
DTSTAMP:20260420T233021
CREATED:20260115T214706Z
LAST-MODIFIED:20260115T214723Z
UID:7940-1768505400-1768505400@www.waterfrontdistrict.ca
SUMMARY:Open Mic Night
DESCRIPTION:
URL:https://www.waterfrontdistrict.ca/event/open-mic-night-11/
LOCATION:Lakehead Beer Co\, 206 Park Ave\, Thunder Bay
END:VEVENT
BEGIN:VEVENT
DTSTART;TZID=America/Halifax:20260115T203000
DTEND;TZID=America/Halifax:20260115T203000
DTSTAMP:20260420T233021
CREATED:20260115T214518Z
LAST-MODIFIED:20260115T214528Z
UID:7938-1768509000-1768509000@www.waterfrontdistrict.ca
SUMMARY:Sober Karaoke
DESCRIPTION:
URL:https://www.waterfrontdistrict.ca/event/sober-karaoke-19/
LOCATION:Howl at The Moon Dry Bar\, 8 Cumberland st S\, Thunder Bay
END:VEVENT
BEGIN:VEVENT
DTSTART;TZID=America/Halifax:20260115T210000
DTEND;TZID=America/Halifax:20260115T210000
DTSTAMP:20260420T233021
CREATED:20260115T214042Z
LAST-MODIFIED:20260115T214100Z
UID:7934-1768510800-1768510800@www.waterfrontdistrict.ca
SUMMARY:Karaoke At The Cantina
DESCRIPTION:
URL:https://www.waterfrontdistrict.ca/event/karaoke-at-the-cantina-2/
LOCATION:Nortenos Cantina\, 235 Red River Rd\, Thunder Bay\, ON\, Canada
END:VEVENT
BEGIN:VEVENT
DTSTART;TZID=America/Halifax:20260115T220000
DTEND;TZID=America/Halifax:20260115T220000
DTSTAMP:20260420T233021
CREATED:20260115T214315Z
LAST-MODIFIED:20260115T214334Z
UID:7936-1768514400-1768514400@www.waterfrontdistrict.ca
SUMMARY:Karaoke
DESCRIPTION:
URL:https://www.waterfrontdistrict.ca/event/karaoke-31/
LOCATION:Waterhouse\, 9 Cumberland St S\, Thunder Bay\, ON\, P7B 2T1
END:VEVENT
BEGIN:VEVENT
DTSTART;TZID=America/Halifax:20260116T180000
DTEND;TZID=America/Halifax:20260116T210000
DTSTAMP:20260420T233021
CREATED:20260115T223823Z
LAST-MODIFIED:20260115T223823Z
UID:7957-1768586400-1768597200@www.waterfrontdistrict.ca
SUMMARY:Art Opening Betty Carpick & Julie Cosgrove
DESCRIPTION:
URL:https://www.waterfrontdistrict.ca/event/art-opening-betty-carpick-julie-cosgrove/
LOCATION:Co. Lab Gallery\, 251 Red River Road\, Thunder Bay\, ON\, P7B 1A7\, Canada
END:VEVENT
BEGIN:VEVENT
DTSTART;TZID=America/Halifax:20260116T200000
DTEND;TZID=America/Halifax:20260116T200000
DTSTAMP:20260420T233021
CREATED:20260115T223453Z
LAST-MODIFIED:20260115T223606Z
UID:7955-1768593600-1768593600@www.waterfrontdistrict.ca
SUMMARY:Live & Local
DESCRIPTION:
URL:https://www.waterfrontdistrict.ca/event/live-local/
LOCATION:Red Lion Smokehouse\, 16 Cumberland St S\, Thunder Bay\, ON\, 16 Cumberland St S\, Canada
END:VEVENT
BEGIN:VEVENT
DTSTART;TZID=America/Halifax:20260116T210000
DTEND;TZID=America/Halifax:20260116T210000
DTSTAMP:20260420T233021
CREATED:20260115T223114Z
LAST-MODIFIED:20260115T223138Z
UID:7944-1768597200-1768597200@www.waterfrontdistrict.ca
SUMMARY:Brazen Bull Double Birthday Bash
DESCRIPTION:
URL:https://www.waterfrontdistrict.ca/event/brazen-bull-double-birthday-bash/
LOCATION:Black Pirates Pub\, 215 Red River Rd\, Suite 101\, Thunder Bay\, ON\, Canada
END:VEVENT
BEGIN:VEVENT
DTSTART;TZID=America/Halifax:20260116T210000
DTEND;TZID=America/Halifax:20260116T210000
DTSTAMP:20260420T233021
CREATED:20260115T223307Z
LAST-MODIFIED:20260115T223323Z
UID:7953-1768597200-1768597200@www.waterfrontdistrict.ca
SUMMARY:V3nom
DESCRIPTION:
URL:https://www.waterfrontdistrict.ca/event/v3nom-2/
LOCATION:The Foundry\, 242 Red River Road\, Thunder Bay\, Ontario\, p7b1a6\, Canada
END:VEVENT
BEGIN:VEVENT
DTSTART;TZID=America/Halifax:20260116T220000
DTEND;TZID=America/Halifax:20260116T220000
DTSTAMP:20260420T233021
CREATED:20260115T214926Z
LAST-MODIFIED:20260115T215759Z
UID:7942-1768600800-1768600800@www.waterfrontdistrict.ca
SUMMARY:DJ Pura Vida
DESCRIPTION:
URL:https://www.waterfrontdistrict.ca/event/dj-pura-vida-8/
LOCATION:Nortenos Cantina\, 235 Red River Rd\, Thunder Bay\, ON\, Canada
END:VEVENT
BEGIN:VEVENT
DTSTART;TZID=America/Halifax:20260116T220000
DTEND;TZID=America/Halifax:20260116T220000
DTSTAMP:20260420T233021
CREATED:20260115T224103Z
LAST-MODIFIED:20260115T224117Z
UID:7959-1768600800-1768600800@www.waterfrontdistrict.ca
SUMMARY:Karaoke
DESCRIPTION:
URL:https://www.waterfrontdistrict.ca/event/karaoke-32/
LOCATION:Waterhouse\, 9 Cumberland St S\, Thunder Bay\, ON\, P7B 2T1
END:VEVENT
BEGIN:VEVENT
DTSTART;TZID=America/Halifax:20260117T170000
DTEND;TZID=America/Halifax:20260117T170000
DTSTAMP:20260420T233021
CREATED:20260115T224609Z
LAST-MODIFIED:20260115T224718Z
UID:7963-1768669200-1768669200@www.waterfrontdistrict.ca
SUMMARY:Apres-Ski Party
DESCRIPTION:
URL:https://www.waterfrontdistrict.ca/event/apres-ski-party/
LOCATION:Pocketchange Bar\, 234 Red River Rd\, Thunder Bay\, ON\, P7B 1A6\, Canada
END:VEVENT
BEGIN:VEVENT
DTSTART;TZID=America/Halifax:20260117T203000
DTEND;TZID=America/Halifax:20260117T203000
DTSTAMP:20260420T233021
CREATED:20260115T225217Z
LAST-MODIFIED:20260115T225245Z
UID:7969-1768681800-1768681800@www.waterfrontdistrict.ca
SUMMARY:Sober Karaoke
DESCRIPTION:
URL:https://www.waterfrontdistrict.ca/event/sober-karaoke-20/
LOCATION:Howl at The Moon Dry Bar\, 8 Cumberland st S\, Thunder Bay
END:VEVENT
BEGIN:VEVENT
DTSTART;TZID=America/Halifax:20260117T210000
DTEND;TZID=America/Halifax:20260117T210000
DTSTAMP:20260420T233021
CREATED:20260115T225050Z
LAST-MODIFIED:20260115T225120Z
UID:7967-1768683600-1768683600@www.waterfrontdistrict.ca
SUMMARY:Cartwrights & Friends
DESCRIPTION:
URL:https://www.waterfrontdistrict.ca/event/cartwrights-friends/
LOCATION:Black Pirates Pub\, 215 Red River Rd\, Suite 101\, Thunder Bay\, ON\, Canada
END:VEVENT
BEGIN:VEVENT
DTSTART;TZID=America/Halifax:20260117T220000
DTEND;TZID=America/Halifax:20260117T220000
DTSTAMP:20260420T233021
CREATED:20260115T224310Z
LAST-MODIFIED:20260115T224325Z
UID:7961-1768687200-1768687200@www.waterfrontdistrict.ca
SUMMARY:DJ Big D Dance Party
DESCRIPTION:
URL:https://www.waterfrontdistrict.ca/event/dj-big-d-dance-party/
LOCATION:Nortenos Cantina\, 235 Red River Rd\, Thunder Bay\, ON\, Canada
END:VEVENT
BEGIN:VEVENT
DTSTART;TZID=America/Halifax:20260117T220000
DTEND;TZID=America/Halifax:20260117T220000
DTSTAMP:20260420T233021
CREATED:20260115T224915Z
LAST-MODIFIED:20260115T224929Z
UID:7965-1768687200-1768687200@www.waterfrontdistrict.ca
SUMMARY:Meet Me Under The Disco Ball
DESCRIPTION:
URL:https://www.waterfrontdistrict.ca/event/meet-me-under-the-disco-ball/
LOCATION:Lakehead Beer Co\, 206 Park Ave\, Thunder Bay
END:VEVENT
BEGIN:VEVENT
DTSTART;TZID=America/Halifax:20260118T120000
DTEND;TZID=America/Halifax:20260118T150000
DTSTAMP:20260420T233021
CREATED:20260115T225628Z
LAST-MODIFIED:20260115T225628Z
UID:7975-1768737600-1768748400@www.waterfrontdistrict.ca
SUMMARY:Bottomless Mimosas
DESCRIPTION:
URL:https://www.waterfrontdistrict.ca/event/bottomless-mimosas/
LOCATION:Red Lion Smokehouse\, 16 Cumberland St S\, Thunder Bay\, ON\, 16 Cumberland St S\, Canada
END:VEVENT
BEGIN:VEVENT
DTSTART;TZID=America/Halifax:20260118T130000
DTEND;TZID=America/Halifax:20260118T130000
DTSTAMP:20260420T233021
CREATED:20260115T225516Z
LAST-MODIFIED:20260115T225525Z
UID:7973-1768741200-1768741200@www.waterfrontdistrict.ca
SUMMARY:Dungeons and Dragons
DESCRIPTION:
URL:https://www.waterfrontdistrict.ca/event/dungeons-and-dragons/
LOCATION:Red Lion Smokehouse\, 16 Cumberland St S\, Thunder Bay\, ON\, 16 Cumberland St S\, Canada
END:VEVENT
BEGIN:VEVENT
DTSTART;TZID=America/Halifax:20260118T160000
DTEND;TZID=America/Halifax:20260118T160000
DTSTAMP:20260420T233021
CREATED:20260115T225348Z
LAST-MODIFIED:20260115T225400Z
UID:7971-1768752000-1768752000@www.waterfrontdistrict.ca
SUMMARY:Movie Night
DESCRIPTION:
URL:https://www.waterfrontdistrict.ca/event/movie-night-9/
LOCATION:Paramount Live\, 24 Court St S\, Thunder Bay
END:VEVENT
BEGIN:VEVENT
DTSTART;TZID=America/Halifax:20260122T193000
DTEND;TZID=America/Halifax:20260122T193000
DTSTAMP:20260420T233021
CREATED:20260118T201020Z
LAST-MODIFIED:20260118T201058Z
UID:8042-1769110200-1769110200@www.waterfrontdistrict.ca
SUMMARY:Open Mic Night
DESCRIPTION:
URL:https://www.waterfrontdistrict.ca/event/open-mic-night-12/
LOCATION:Lakehead Beer Co\, 206 Park Ave\, Thunder Bay
END:VEVENT
BEGIN:VEVENT
DTSTART;TZID=America/Halifax:20260122T203000
DTEND;TZID=America/Halifax:20260122T203000
DTSTAMP:20260420T233021
CREATED:20260118T201231Z
LAST-MODIFIED:20260118T201243Z
UID:8044-1769113800-1769113800@www.waterfrontdistrict.ca
SUMMARY:Sober Karaoke
DESCRIPTION:
URL:https://www.waterfrontdistrict.ca/event/sober-karaoke-22/
LOCATION:Howl at The Moon Dry Bar\, 8 Cumberland st S\, Thunder Bay
END:VEVENT
BEGIN:VEVENT
DTSTART;TZID=America/Halifax:20260122T210000
DTEND;TZID=America/Halifax:20260122T210000
DTSTAMP:20260420T233021
CREATED:20260116T200557Z
LAST-MODIFIED:20260116T200610Z
UID:8006-1769115600-1769115600@www.waterfrontdistrict.ca
SUMMARY:Karaoke At The Cantina
DESCRIPTION:
URL:https://www.waterfrontdistrict.ca/event/karaoke-at-the-cantina-3/
LOCATION:Nortenos Cantina\, 235 Red River Rd\, Thunder Bay\, ON\, Canada
END:VEVENT
BEGIN:VEVENT
DTSTART;TZID=America/Halifax:20260122T210000
DTEND;TZID=America/Halifax:20260122T210000
DTSTAMP:20260420T233021
CREATED:20260116T200815Z
LAST-MODIFIED:20260116T200830Z
UID:8008-1769115600-1769115600@www.waterfrontdistrict.ca
SUMMARY:Fraudulents & Impostrophe
DESCRIPTION:
URL:https://www.waterfrontdistrict.ca/event/fraudulents-impostrophe/
LOCATION:The Foundry\, 242 Red River Road\, Thunder Bay\, Ontario\, p7b1a6\, Canada
END:VEVENT
BEGIN:VEVENT
DTSTART;TZID=America/Halifax:20260122T210000
DTEND;TZID=America/Halifax:20260122T230000
DTSTAMP:20260420T233021
CREATED:20260118T194657Z
LAST-MODIFIED:20260118T194657Z
UID:8028-1769115600-1769122800@www.waterfrontdistrict.ca
SUMMARY:Not Your Grandmas Bingo Night
DESCRIPTION:
URL:https://www.waterfrontdistrict.ca/event/not-your-grandmas-bingo-night-2/
LOCATION:Pocketchange Bar\, 234 Red River Rd\, Thunder Bay\, ON\, P7B 1A6\, Canada
END:VEVENT
END:VCALENDAR