BEGIN:VCALENDAR
VERSION:2.0
PRODID:-//Waterfront District BIA - ECPv6.15.20//NONSGML v1.0//EN
CALSCALE:GREGORIAN
METHOD:PUBLISH
X-ORIGINAL-URL:https://www.waterfrontdistrict.ca
X-WR-CALDESC:Events for Waterfront District BIA
REFRESH-INTERVAL;VALUE=DURATION:PT1H
X-Robots-Tag:noindex
X-PUBLISHED-TTL:PT1H
BEGIN:VTIMEZONE
TZID:America/Halifax
BEGIN:DAYLIGHT
TZOFFSETFROM:-0400
TZOFFSETTO:-0300
TZNAME:ADT
DTSTART:20240310T060000
END:DAYLIGHT
BEGIN:STANDARD
TZOFFSETFROM:-0300
TZOFFSETTO:-0400
TZNAME:AST
DTSTART:20241103T050000
END:STANDARD
BEGIN:DAYLIGHT
TZOFFSETFROM:-0400
TZOFFSETTO:-0300
TZNAME:ADT
DTSTART:20250309T060000
END:DAYLIGHT
BEGIN:STANDARD
TZOFFSETFROM:-0300
TZOFFSETTO:-0400
TZNAME:AST
DTSTART:20251102T050000
END:STANDARD
BEGIN:DAYLIGHT
TZOFFSETFROM:-0400
TZOFFSETTO:-0300
TZNAME:ADT
DTSTART:20260308T060000
END:DAYLIGHT
BEGIN:STANDARD
TZOFFSETFROM:-0300
TZOFFSETTO:-0400
TZNAME:AST
DTSTART:20261101T050000
END:STANDARD
END:VTIMEZONE
BEGIN:VEVENT
DTSTART;TZID=America/Halifax:20250822T230000
DTEND;TZID=America/Halifax:20250822T230000
DTSTAMP:20260420T170155
CREATED:20250818T162140Z
LAST-MODIFIED:20250818T162217Z
UID:6998-1755903600-1755903600@www.waterfrontdistrict.ca
SUMMARY:Pocket After Dark
DESCRIPTION:No Cover // 19+
URL:https://www.waterfrontdistrict.ca/event/pocket-after-dark-15/
LOCATION:Pocketchange Bar\, 234 Red River Rd\, Thunder Bay\, ON\, P7B 1A6\, Canada
END:VEVENT
BEGIN:VEVENT
DTSTART;TZID=America/Halifax:20250823T110000
DTEND;TZID=America/Halifax:20250823T200000
DTSTAMP:20260420T170155
CREATED:20250513T155512Z
LAST-MODIFIED:20250513T155512Z
UID:6429-1755946800-1755979200@www.waterfrontdistrict.ca
SUMMARY:Ribfest 2025
DESCRIPTION:Ribfest is a local charity fundraiser event in support of Our Kids Count\, and our volunteers work hard to make this event a success every year!
URL:https://www.waterfrontdistrict.ca/event/ribfest-2025-3/
LOCATION:Marina Park\, Thunder Bay\, ON\, Canada
CATEGORIES:Event,Food
END:VEVENT
BEGIN:VEVENT
DTSTART;TZID=America/Halifax:20250823T150000
DTEND;TZID=America/Halifax:20250823T210000
DTSTAMP:20260420T170155
CREATED:20250818T162927Z
LAST-MODIFIED:20250818T162927Z
UID:7002-1755961200-1755982800@www.waterfrontdistrict.ca
SUMMARY:Vinyl Saturdays at Red Lion Smokehouse
DESCRIPTION:Dust off your records ’cause every Saturday you can be your own DJ and spin your favourite tunes on Red Lion Smokehouse’s house record player for “Bring Your Own Vinyl Saturday” \nDon’t have a record? Peruse the house crate and take the playlist into your own hands\, or better yet\, pop over to The Vinyl Frontier located right next door to Red Lion and start your own collection.
URL:https://www.waterfrontdistrict.ca/event/vinyl-saturdays-at-red-lion-smokehouse-2/
LOCATION:Red Lion Smokehouse\, 16 Cumberland St S\, Thunder Bay\, ON\, 16 Cumberland St S\, Canada
END:VEVENT
BEGIN:VEVENT
DTSTART;TZID=America/Halifax:20250823T210000
DTEND;TZID=America/Halifax:20250823T210000
DTSTAMP:20260420T170155
CREATED:20250818T163418Z
LAST-MODIFIED:20250818T163440Z
UID:7004-1755982800-1755982800@www.waterfrontdistrict.ca
SUMMARY:Sober Karaoke live at Howl at the Moon
DESCRIPTION:THURSDAYS & SATURDAYS are KARAOKE NIGHT\nKaraoke starts @ 9pm\n5$
URL:https://www.waterfrontdistrict.ca/event/sober-karaoke-live-at-howl-at-the-moon-2/
LOCATION:Howl at The Moon Dry Bar\, 8 Cumberland st S\, Thunder Bay
END:VEVENT
BEGIN:VEVENT
DTSTART;TZID=America/Halifax:20250823T210000
DTEND;TZID=America/Halifax:20250823T210000
DTSTAMP:20260420T170155
CREATED:20250818T163628Z
LAST-MODIFIED:20250818T164041Z
UID:7006-1755982800-1755982800@www.waterfrontdistrict.ca
SUMMARY:Loud & Proud 2: Queer Dance Party Extravaganza
DESCRIPTION:Wiggins Productions proudly presents \n🏳️‍🌈🏳️‍⚧️ LOUD & PROUD 2 🏳️‍⚧️🏳️‍🌈\nQueer Dance Party Extravaganza \nThe dance floor is calling\, and it’s time to answer LOUD! Join us Saturday\, August 23 at Black Pirates Pub for the ultimate queer dance party featuring: \n🎧 DJ Amber Ail – back to bring unstoppable energy after her unforgettable debut!\n🎧 DJ Ariah – spinning all-night anthems guaranteed to keep you moving!\n👯 Go-Go Dancers: Mister E & Beatrix Muse – turning up the heat and keeping the floor sizzling! \nThis is Loud & Proud 2: bigger\, bolder\, and wilder than ever. Dance like everyone is watching and leave it ALL on the dance floor! \n📅 Saturday\, August 23\n📍 Black Pirates Pub\n⏰ Doors 9PM | Show 10PM\n🎟️ $10 at the door\n🪪 19+ (ID required) \n#tbaydrag #thunderbay #tbshows \nFor more WP events check out\nhttps://www.tbshows.com/organizer/wiggins-productions\nhttps://linktr.ee/wigginsproductions
URL:https://www.waterfrontdistrict.ca/event/loud-proud-2-queer-dance-party-extravaganza/
LOCATION:Black Pirates Pub\, 215 Red River Rd\, Suite 101\, Thunder Bay\, ON\, Canada
END:VEVENT
BEGIN:VEVENT
DTSTART;TZID=America/Halifax:20250823T220000
DTEND;TZID=America/Halifax:20250823T220000
DTSTAMP:20260420T170155
CREATED:20250818T164313Z
LAST-MODIFIED:20250818T164405Z
UID:7008-1755986400-1755986400@www.waterfrontdistrict.ca
SUMMARY:Summer Caliente featuring DJ Alex Mex
DESCRIPTION:
URL:https://www.waterfrontdistrict.ca/event/summer-caliente-featuring-dj-alex-mex/
LOCATION:Nortenos Cantina\, 235 Red River Rd\, Thunder Bay\, ON\, Canada
END:VEVENT
BEGIN:VEVENT
DTSTART;TZID=America/Halifax:20250823T230000
DTEND;TZID=America/Halifax:20250823T230000
DTSTAMP:20260420T170155
CREATED:20250818T164805Z
LAST-MODIFIED:20250818T164842Z
UID:7010-1755990000-1755990000@www.waterfrontdistrict.ca
SUMMARY:Pocket After Dark
DESCRIPTION:No Cover // 19+
URL:https://www.waterfrontdistrict.ca/event/pocket-after-dark-16/
LOCATION:Pocketchange Bar\, 234 Red River Rd\, Thunder Bay\, ON\, P7B 1A6\, Canada
END:VEVENT
BEGIN:VEVENT
DTSTART;TZID=America/Halifax:20250824T110000
DTEND;TZID=America/Halifax:20250824T200000
DTSTAMP:20260420T170155
CREATED:20250513T155533Z
LAST-MODIFIED:20250513T155533Z
UID:6431-1756033200-1756065600@www.waterfrontdistrict.ca
SUMMARY:Ribfest 2025
DESCRIPTION:Ribfest is a local charity fundraiser event in support of Our Kids Count\, and our volunteers work hard to make this event a success every year!
URL:https://www.waterfrontdistrict.ca/event/ribfest-2025-4/
LOCATION:Marina Park\, Thunder Bay\, ON\, Canada
CATEGORIES:Event,Food
END:VEVENT
BEGIN:VEVENT
DTSTART;TZID=America/Halifax:20250824T130000
DTEND;TZID=America/Halifax:20250824T170000
DTSTAMP:20260420T170155
CREATED:20250818T165204Z
LAST-MODIFIED:20250818T165204Z
UID:7012-1756040400-1756054800@www.waterfrontdistrict.ca
SUMMARY:Sober Matinee Karaoke at Howl at the Moon
DESCRIPTION:Sunday Afternoons 1pm to 5pm!
URL:https://www.waterfrontdistrict.ca/event/sober-matinee-karaoke-at-howl-at-the-moon-2/
LOCATION:Howl at The Moon Dry Bar\, 8 Cumberland st S\, Thunder Bay
END:VEVENT
BEGIN:VEVENT
DTSTART;TZID=America/Halifax:20250827T180000
DTEND;TZID=America/Halifax:20250827T210000
DTSTAMP:20260420T170155
CREATED:20250513T154918Z
LAST-MODIFIED:20250513T154918Z
UID:6421-1756317600-1756328400@www.waterfrontdistrict.ca
SUMMARY:Live on the Waterfront Wednesdays Summer Send Off
DESCRIPTION:PLUS the Summer Send Off\, two back-to-back days\, August 27 and 28\, at Marina Park.
URL:https://www.waterfrontdistrict.ca/event/live-on-the-waterfront-wednesdays-summer-send-off/
LOCATION:Marina Park\, Thunder Bay\, ON\, Canada
CATEGORIES:Concert,Event
END:VEVENT
BEGIN:VEVENT
DTSTART;TZID=America/Halifax:20250828T180000
DTEND;TZID=America/Halifax:20250828T210000
DTSTAMP:20260420T170155
CREATED:20250513T154938Z
LAST-MODIFIED:20250513T154938Z
UID:6423-1756404000-1756414800@www.waterfrontdistrict.ca
SUMMARY:Live on the Waterfront Wednesdays Summer Send Off
DESCRIPTION:PLUS the Summer Send Off\, two back-to-back days\, August 27 and 28\, at Marina Park.
URL:https://www.waterfrontdistrict.ca/event/live-on-the-waterfront-wednesdays-summer-send-off-2/
LOCATION:Marina Park\, Thunder Bay\, ON\, Canada
CATEGORIES:Concert,Event
END:VEVENT
BEGIN:VEVENT
DTSTART;TZID=America/Halifax:20250828T190000
DTEND;TZID=America/Halifax:20250828T220000
DTSTAMP:20260420T170155
CREATED:20250826T133639Z
LAST-MODIFIED:20250826T133639Z
UID:7016-1756407600-1756418400@www.waterfrontdistrict.ca
SUMMARY:Open Mic Night at Lakehead Beer Co
DESCRIPTION:What’s Open Mic Night all about? Fresh beer\, delicious food\, local talent\, and good vibes.🙌 \nDiscover new local talent every Thursday from 7:30-10pm in the taproom or sign up at the bar and perform for a free beverage! \nNo experience needed\, we’re here to cheer you on. \nTaproom open 4pm-11pm Thursday!🍻 \n**All ages / guardian supervision is mandatory for minors
URL:https://www.waterfrontdistrict.ca/event/open-mic-night-at-lakehead-beer-co-2/
LOCATION:Lakehead Beer Co\, 206 Park Ave\, Thunder Bay
END:VEVENT
BEGIN:VEVENT
DTSTART;TZID=America/Halifax:20250828T210000
DTEND;TZID=America/Halifax:20250828T210000
DTSTAMP:20260420T170155
CREATED:20250826T134541Z
LAST-MODIFIED:20250826T134557Z
UID:7018-1756414800-1756414800@www.waterfrontdistrict.ca
SUMMARY:Sober Karaoke at Howl at the Moon
DESCRIPTION:THURSDAYS & SATURDAYS are KARAOKE NIGHT\nKaraoke starts @ 9pm\n5$
URL:https://www.waterfrontdistrict.ca/event/sober-karaoke-at-howl-at-the-moon-2/
LOCATION:Howl at The Moon Dry Bar\, 8 Cumberland st S\, Thunder Bay
END:VEVENT
BEGIN:VEVENT
DTSTART;TZID=America/Halifax:20250828T210000
DTEND;TZID=America/Halifax:20250828T210000
DTSTAMP:20260420T170155
CREATED:20250826T134755Z
LAST-MODIFIED:20250826T135206Z
UID:7020-1756414800-1756414800@www.waterfrontdistrict.ca
SUMMARY:Karaoke live at Nortenos Cantina
DESCRIPTION:Karaoke at the Cantina Every Thursday night.\nNo cover. \nShow Starts 9PM at Nortenos Cantina.
URL:https://www.waterfrontdistrict.ca/event/karaoke-live-at-nortenos-cantina-3/
LOCATION:Nortenos Cantina\, 235 Red River Rd\, Thunder Bay\, ON\, Canada
END:VEVENT
BEGIN:VEVENT
DTSTART;TZID=America/Halifax:20250828T220000
DTEND;TZID=America/Halifax:20250828T220000
DTSTAMP:20260420T170155
CREATED:20250826T135444Z
LAST-MODIFIED:20250826T135554Z
UID:7022-1756418400-1756418400@www.waterfrontdistrict.ca
SUMMARY:Karaoke live at The Waterhouse
DESCRIPTION:
URL:https://www.waterfrontdistrict.ca/event/karaoke-live-at-the-waterhouse-5/
LOCATION:Waterhouse\, 9 Cumberland St S\, Thunder Bay\, ON\, P7B 2T1
END:VEVENT
BEGIN:VEVENT
DTSTART;TZID=America/Halifax:20250829T180000
DTEND;TZID=America/Halifax:20250829T210000
DTSTAMP:20260420T170155
CREATED:20250826T135747Z
LAST-MODIFIED:20250826T135747Z
UID:7024-1756490400-1756501200@www.waterfrontdistrict.ca
SUMMARY:Jazz and Old Fashioned Fridays ft. Mood Indigo
DESCRIPTION:Don’t miss the spectacular scenery\, smooth jazz and incredibly crafted cocktails and food at Anchor & Ore in The Delta Hotel with Mood Indigo!
URL:https://www.waterfrontdistrict.ca/event/jazz-and-old-fashioned-fridays-ft-mood-indigo-8/
LOCATION:Anchor & Ore\, 2240 Sleeping Giant Pkwy\, Thunder Bay\, ON\, Canada
END:VEVENT
BEGIN:VEVENT
DTSTART;TZID=America/Halifax:20250829T180000
DTEND;TZID=America/Halifax:20250829T220000
DTSTAMP:20260420T170155
CREATED:20250826T151145Z
LAST-MODIFIED:20250826T151145Z
UID:7026-1756490400-1756504800@www.waterfrontdistrict.ca
SUMMARY:Late Night Food Alley ft DJ Ducktail
DESCRIPTION:Late Night Food Alley on Fridays!!! Come grab a bite from our in house restaurants\, grab a drink at @thewoodsidebar and enjoy music by DJ @_ducktail See you there
URL:https://www.waterfrontdistrict.ca/event/late-night-food-alley-ft-dj-ducktail-8/
LOCATION:Goods and co\, 251 Red River Rd\, Thunder Bay\, Ontario\, P7B 1A7\, Canada
END:VEVENT
BEGIN:VEVENT
DTSTART;TZID=America/Halifax:20250829T220000
DTEND;TZID=America/Halifax:20250829T220000
DTSTAMP:20260420T170155
CREATED:20250826T151558Z
LAST-MODIFIED:20250826T151632Z
UID:7028-1756504800-1756504800@www.waterfrontdistrict.ca
SUMMARY:Karaoke live at The Waterhouse
DESCRIPTION:Karaoke every Thursday and Friday night at the Waterhouse!
URL:https://www.waterfrontdistrict.ca/event/karaoke-live-at-the-waterhouse-6/
LOCATION:Waterhouse\, 9 Cumberland St S\, Thunder Bay\, ON\, P7B 2T1
END:VEVENT
BEGIN:VEVENT
DTSTART;TZID=America/Halifax:20250829T220000
DTEND;TZID=America/Halifax:20250829T220000
DTSTAMP:20260420T170155
CREATED:20250826T152012Z
LAST-MODIFIED:20250826T152041Z
UID:7030-1756504800-1756504800@www.waterfrontdistrict.ca
SUMMARY:Undercover live at The Foundry
DESCRIPTION:We’re hitting The Foundry once again!Join us Friday\, Aug 29!Dancing\, drinks\, and all your favorite tunes.Grab your crew and send off summer right.10PM. Don’t miss it.
URL:https://www.waterfrontdistrict.ca/event/undercover-live-at-the-foundry/
LOCATION:The Foundry\, 242 Red River Road\, Thunder Bay\, Ontario\, p7b1a6\, Canada
END:VEVENT
BEGIN:VEVENT
DTSTART;TZID=America/Halifax:20250829T220000
DTEND;TZID=America/Halifax:20250829T220000
DTSTAMP:20260420T170155
CREATED:20250826T152630Z
LAST-MODIFIED:20250826T152652Z
UID:7032-1756504800-1756504800@www.waterfrontdistrict.ca
SUMMARY:DJ Pura Vida live at Nortenos Cantina
DESCRIPTION:
URL:https://www.waterfrontdistrict.ca/event/dj-pura-vida-live-at-nortenos-cantina/
LOCATION:Nortenos Cantina\, 235 Red River Rd\, Thunder Bay\, ON\, Canada
END:VEVENT
BEGIN:VEVENT
DTSTART;TZID=America/Halifax:20250829T220000
DTEND;TZID=America/Halifax:20250829T220000
DTSTAMP:20260420T170155
CREATED:20250826T153229Z
LAST-MODIFIED:20250826T153250Z
UID:7034-1756504800-1756504800@www.waterfrontdistrict.ca
SUMMARY:Fusion Fridayz: Welcome to The Bay
DESCRIPTION:🚨 The wait is over! 🚨\nNV Musichall is back and it’s time to set the city on fire 🔥 \n📚 Back-to-school = back to the vibes 🎶\nLink up\, meet new people\, and reconnect with the crew fresh off summer holidays — this is the official first turn up of the season! \n💃 Ladies FREE before midnight w/ guest list (link in bio)\n🍾 VIP booths & bottle service available\n⏰ Doors open 10PM\nTickets ➡️ NVMUSICHALL.COM \nLet’s pack the dance floor and make it a night to remember!
URL:https://www.waterfrontdistrict.ca/event/fusion-fridayz-welcome-to-the-bay/
LOCATION:NV Music Hall\, 228 Red River Rd\, Thunder Bay\, ON\, Canada
END:VEVENT
BEGIN:VEVENT
DTSTART;TZID=America/Halifax:20250829T230000
DTEND;TZID=America/Halifax:20250829T230000
DTSTAMP:20260420T170155
CREATED:20250826T153513Z
LAST-MODIFIED:20250826T153543Z
UID:7036-1756508400-1756508400@www.waterfrontdistrict.ca
SUMMARY:Pocket After Dark
DESCRIPTION:No Cover // 19+
URL:https://www.waterfrontdistrict.ca/event/pocket-after-dark-17/
LOCATION:Pocketchange Bar\, 234 Red River Rd\, Thunder Bay\, ON\, P7B 1A6\, Canada
END:VEVENT
BEGIN:VEVENT
DTSTART;TZID=America/Halifax:20250830T150000
DTEND;TZID=America/Halifax:20250830T210000
DTSTAMP:20260420T170155
CREATED:20250826T153935Z
LAST-MODIFIED:20250826T153935Z
UID:7038-1756566000-1756587600@www.waterfrontdistrict.ca
SUMMARY:Vinyl Saturdays at Red Lion Smokehouse
DESCRIPTION:Dust off your records ’cause every Saturday you can be your own DJ and spin your favourite tunes on Red Lion Smokehouse’s house record player for “Bring Your Own Vinyl Saturday” \nDon’t have a record? Peruse the house crate and take the playlist into your own hands\, or better yet\, pop over to The Vinyl Frontier located right next door to Red Lion and start your own collection.
URL:https://www.waterfrontdistrict.ca/event/vinyl-saturdays-at-red-lion-smokehouse-3/
LOCATION:Red Lion Smokehouse\, 16 Cumberland St S\, Thunder Bay\, ON\, 16 Cumberland St S\, Canada
END:VEVENT
BEGIN:VEVENT
DTSTART;TZID=America/Halifax:20250830T210000
DTEND;TZID=America/Halifax:20250830T210000
DTSTAMP:20260420T170155
CREATED:20250826T154507Z
LAST-MODIFIED:20250826T154524Z
UID:7040-1756587600-1756587600@www.waterfrontdistrict.ca
SUMMARY:Sober Karaoke live at Howl at the Moon
DESCRIPTION:THURSDAYS & SATURDAYS are KARAOKE NIGHT\nKaraoke starts @ 9pm\n5$
URL:https://www.waterfrontdistrict.ca/event/sober-karaoke-live-at-howl-at-the-moon-3/
LOCATION:Howl at The Moon Dry Bar\, 8 Cumberland st S\, Thunder Bay
END:VEVENT
BEGIN:VEVENT
DTSTART;TZID=America/Halifax:20250830T220000
DTEND;TZID=America/Halifax:20250830T220000
DTSTAMP:20260420T170155
CREATED:20250826T154742Z
LAST-MODIFIED:20250826T154755Z
UID:7042-1756591200-1756591200@www.waterfrontdistrict.ca
SUMMARY:DJ Big D live at Nortenos Cantina
DESCRIPTION:
URL:https://www.waterfrontdistrict.ca/event/dj-big-d-live-at-nortenos-cantina/
LOCATION:Nortenos Cantina\, 235 Red River Rd\, Thunder Bay\, ON\, Canada
END:VEVENT
BEGIN:VEVENT
DTSTART;TZID=America/Halifax:20250830T230000
DTEND;TZID=America/Halifax:20250830T230000
DTSTAMP:20260420T170155
CREATED:20250528T175002Z
LAST-MODIFIED:20250826T180700Z
UID:6595-1756594800-1756594800@www.waterfrontdistrict.ca
SUMMARY:Pocket After Dark
DESCRIPTION:No Cover // 19+
URL:https://www.waterfrontdistrict.ca/event/pocket-after-dark/
LOCATION:Pocketchange Bar\, 234 Red River Rd\, Thunder Bay\, ON\, P7B 1A6\, Canada
CATEGORIES:Event
END:VEVENT
BEGIN:VEVENT
DTSTART;TZID=America/Halifax:20250831T130000
DTEND;TZID=America/Halifax:20250831T170000
DTSTAMP:20260420T170155
CREATED:20250826T181004Z
LAST-MODIFIED:20250826T181004Z
UID:7048-1756645200-1756659600@www.waterfrontdistrict.ca
SUMMARY:Sober Matinee Karaoke at Howl at the Moon
DESCRIPTION:Sunday Afternoons 1pm to 5pm!
URL:https://www.waterfrontdistrict.ca/event/sober-matinee-karaoke-at-howl-at-the-moon-3/
LOCATION:Howl at The Moon Dry Bar\, 8 Cumberland st S\, Thunder Bay
END:VEVENT
BEGIN:VEVENT
DTSTART;TZID=America/Halifax:20250904T190000
DTEND;TZID=America/Halifax:20250904T220000
DTSTAMP:20260420T170155
CREATED:20250904T013732Z
LAST-MODIFIED:20250904T013732Z
UID:7057-1757012400-1757023200@www.waterfrontdistrict.ca
SUMMARY:Open Mic Night at Lakehead Beer Co
DESCRIPTION:What’s Open Mic Night all about? Fresh beer\, delicious food\, local talent\, and good vibes.🙌 \nDiscover new local talent every Thursday from 7:30-10pm in the taproom or sign up at the bar and perform for a free beverage! \nNo experience needed\, we’re here to cheer you on. \nTaproom open 4pm-11pm Thursday!🍻 \n**All ages / guardian supervision is mandatory for minors
URL:https://www.waterfrontdistrict.ca/event/open-mic-night-at-lakehead-beer-co-3/
LOCATION:Lakehead Beer Co\, 206 Park Ave\, Thunder Bay
END:VEVENT
BEGIN:VEVENT
DTSTART;TZID=America/Halifax:20250904T193000
DTEND;TZID=America/Halifax:20250904T233000
DTSTAMP:20260420T170155
CREATED:20250904T014023Z
LAST-MODIFIED:20250904T014023Z
UID:7059-1757014200-1757028600@www.waterfrontdistrict.ca
SUMMARY:Back to the Pub Bash – Night 1 (All Ages)
DESCRIPTION:BPP is proud to present a smashing 3 nights of local music to kick off the fall this year! 13 bands over 3 nights\, and one ALL AGES show to boot! Here’s the lineup:\n\nThursday\, September 4 – All Ages\, $15Doors open at 730800 – 830 Bathe in Dirt845 – 915 Crooked King930 – 1000 Loughlin1015 – 1045 Kenzie B & The Beefcakes1100 – 1130 Teknosis\n\nFriday\, September 5 – 19+\, $10Doors open at 9pm1000 – 1045 Cartwrights1100 – 1145 Lakeside District1200 – 1245 The Shouldn’ts0100 – 0145 Dual Black\n\nSaturday\, September 6 – 19+\, 10pmDoors open at 9pm1000 – 1045 Darren Foley & The Luminescence1100 – 1145 Brazen Bull1200 – 1245 Along the Lines0100 – 0145 Silence of Death\n\nLook forward to seeing everyone!Support live music!Let’s party!!!
URL:https://www.waterfrontdistrict.ca/event/back-to-the-pub-bash-night-1-all-ages/
LOCATION:Black Pirates Pub\, 215 Red River Rd\, Suite 101\, Thunder Bay\, ON\, Canada
END:VEVENT
BEGIN:VEVENT
DTSTART;TZID=America/Halifax:20250904T200000
DTEND;TZID=America/Halifax:20250904T230000
DTSTAMP:20260420T170155
CREATED:20250904T014950Z
LAST-MODIFIED:20250904T014950Z
UID:7061-1757016000-1757026800@www.waterfrontdistrict.ca
SUMMARY:Open Mic Comedy at The Foundry
DESCRIPTION:OPEN MIC THURSDAYS @ THE FOUNDRY\n*see poster for exact dates* \nJoin us at The Foundry (242 Red River Rd) for Open Mic Comedy Thursdays to either perform or watch local touring comedians work on material. Pros\, amateurs and first-timers are all welcome! *NO COVER* \nOpen Mic Comedy 9-11PM
URL:https://www.waterfrontdistrict.ca/event/open-mic-comedy-at-the-foundry-2/
LOCATION:The Foundry\, 242 Red River Road\, Thunder Bay\, Ontario\, p7b1a6\, Canada
END:VEVENT
END:VCALENDAR