BEGIN:VCALENDAR
VERSION:2.0
PRODID:-//Waterfront District BIA - ECPv6.15.20//NONSGML v1.0//EN
CALSCALE:GREGORIAN
METHOD:PUBLISH
X-WR-CALNAME:Waterfront District BIA
X-ORIGINAL-URL:https://www.waterfrontdistrict.ca
X-WR-CALDESC:Events for Waterfront District BIA
REFRESH-INTERVAL;VALUE=DURATION:PT1H
X-Robots-Tag:noindex
X-PUBLISHED-TTL:PT1H
BEGIN:VTIMEZONE
TZID:America/Halifax
BEGIN:DAYLIGHT
TZOFFSETFROM:-0400
TZOFFSETTO:-0300
TZNAME:ADT
DTSTART:20240310T060000
END:DAYLIGHT
BEGIN:STANDARD
TZOFFSETFROM:-0300
TZOFFSETTO:-0400
TZNAME:AST
DTSTART:20241103T050000
END:STANDARD
BEGIN:DAYLIGHT
TZOFFSETFROM:-0400
TZOFFSETTO:-0300
TZNAME:ADT
DTSTART:20250309T060000
END:DAYLIGHT
BEGIN:STANDARD
TZOFFSETFROM:-0300
TZOFFSETTO:-0400
TZNAME:AST
DTSTART:20251102T050000
END:STANDARD
BEGIN:DAYLIGHT
TZOFFSETFROM:-0400
TZOFFSETTO:-0300
TZNAME:ADT
DTSTART:20260308T060000
END:DAYLIGHT
BEGIN:STANDARD
TZOFFSETFROM:-0300
TZOFFSETTO:-0400
TZNAME:AST
DTSTART:20261101T050000
END:STANDARD
END:VTIMEZONE
BEGIN:VEVENT
DTSTART;TZID=America/Halifax:20250926T220000
DTEND;TZID=America/Halifax:20250926T220000
DTSTAMP:20260420T213821
CREATED:20250924T185827Z
LAST-MODIFIED:20250924T185848Z
UID:7278-1758924000-1758924000@www.waterfrontdistrict.ca
SUMMARY:DJ Pura Vida
DESCRIPTION:
URL:https://www.waterfrontdistrict.ca/event/dj-pura-vida-4/
LOCATION:Nortenos Cantina\, 235 Red River Rd\, Thunder Bay\, ON\, Canada
END:VEVENT
BEGIN:VEVENT
DTSTART;TZID=America/Halifax:20250926T230000
DTEND;TZID=America/Halifax:20250926T230000
DTSTAMP:20260420T213821
CREATED:20250924T162302Z
LAST-MODIFIED:20250924T162314Z
UID:7253-1758927600-1758927600@www.waterfrontdistrict.ca
SUMMARY:Pocket After Dark
DESCRIPTION:No Cover // 19+
URL:https://www.waterfrontdistrict.ca/event/pocket-after-dark-25/
LOCATION:Pocketchange Bar\, 234 Red River Rd\, Thunder Bay\, ON\, P7B 1A6\, Canada
END:VEVENT
BEGIN:VEVENT
DTSTART;TZID=America/Halifax:20250927T150000
DTEND;TZID=America/Halifax:20250927T150000
DTSTAMP:20260420T213821
CREATED:20250924T162851Z
LAST-MODIFIED:20250924T162904Z
UID:7255-1758985200-1758985200@www.waterfrontdistrict.ca
SUMMARY:Oktoberfest 2025 at Lakehead Beer Co
DESCRIPTION:OKTOBERFEST 2025 at Lakehead Beer Co. Saturday\, September 27!🍻 \nSave the date and tell your friends\, we’re hosting our fourth ever Oktoberfest celebration here at the brewery\, 206 Park Ave.\, Saturday\, September 27. 3pm-1am. \nBeer\, games\, delicious food by our friends at @tomlin.subdivision\, live music\, and even more beer! \nThis event is FREE TO ATTEND! 19+ only. \nProst!🍻
URL:https://www.waterfrontdistrict.ca/event/oktoberfest-2025-at-lakehead-beer-co/
LOCATION:Lakehead Beer Co\, 206 Park Ave\, Thunder Bay
END:VEVENT
BEGIN:VEVENT
DTSTART;TZID=America/Halifax:20250927T150000
DTEND;TZID=America/Halifax:20250927T210000
DTSTAMP:20260420T213821
CREATED:20250924T163130Z
LAST-MODIFIED:20250924T163708Z
UID:7257-1758985200-1759006800@www.waterfrontdistrict.ca
SUMMARY:Vinyl Saturdays at Red Lion Smokehouse
DESCRIPTION:Dust off your records ’cause every Saturday you can be your own DJ and spin your favourite tunes on Red Lion Smokehouse’s house record player for “Bring Your Own Vinyl Saturday” \nDon’t have a record? Peruse the house crate and take the playlist into your own hands\, or better yet\, pop over to The Vinyl Frontier located right next door to Red Lion and start your own collection.
URL:https://www.waterfrontdistrict.ca/event/vinyl-saturdays-at-red-lion-smokehouse-7/
LOCATION:Red Lion Smokehouse\, 16 Cumberland St S\, Thunder Bay\, ON\, 16 Cumberland St S\, Canada
END:VEVENT
BEGIN:VEVENT
DTSTART;TZID=America/Halifax:20250927T183000
DTEND;TZID=America/Halifax:20250927T183000
DTSTAMP:20260420T213821
CREATED:20250924T163931Z
LAST-MODIFIED:20250924T163951Z
UID:7259-1758997800-1758997800@www.waterfrontdistrict.ca
SUMMARY:Concert Brian St Pierre at Nortenos Cantina
DESCRIPTION:Célébrons le 50ème anniversaire du drapeau franco-ontarien avec Brian St-Pierre ! \nSimplement Brian ! \nSeul sur scène avec sa guitare et sa pédale loop\, “Simplement Brian” est un spectacle de chansons du répertoire francophone. Ses années d’expériences dans divers pays comme chansonnier et son talent d’improvisateur musical ont fait de Brian un jukebox aux milles succès. \n– Samedi 27 septembre 2025 \n-19h00 – 21h00. \nDébut du concert à 19h30. \n– À Nortenos Cantina\, 235\, chemin Red River\, à Thunder Bay. \nTout public. \nTarif 10 $ /personne (15 $ à la porte). \nJeune -19 ans : 5 $. \nLe concert sera retransmis en direct dans plusieurs communautés du Nord-Ouest de l’Ontario ! \nNotre programmation bénéficie du soutien financier du ministère du Patrimoine canadien.Plus de détails à venir\, restez branchés en suivant l’événement: Facebook Event \nTICKETS HERE
URL:https://www.waterfrontdistrict.ca/event/concert-brian-st-pierre-at-nortenos-cantina/
LOCATION:Nortenos Cantina\, 235 Red River Rd\, Thunder Bay\, ON\, Canada
END:VEVENT
BEGIN:VEVENT
DTSTART;TZID=America/Halifax:20250927T203000
DTEND;TZID=America/Halifax:20250927T203000
DTSTAMP:20260420T213821
CREATED:20250924T164210Z
LAST-MODIFIED:20250924T164224Z
UID:7261-1759005000-1759005000@www.waterfrontdistrict.ca
SUMMARY:Sober Karaoke Night at Howl at the Moon
DESCRIPTION:Karaoke Tuesdays\, Thursdays\, and Saturdays at Howl! \n830pm to midnight\n$5 cover
URL:https://www.waterfrontdistrict.ca/event/sober-karaoke-night-at-howl-at-the-moon-6/
LOCATION:Howl at The Moon Dry Bar\, 8 Cumberland st S\, Thunder Bay
END:VEVENT
BEGIN:VEVENT
DTSTART;TZID=America/Halifax:20250927T210000
DTEND;TZID=America/Halifax:20250927T210000
DTSTAMP:20260420T213821
CREATED:20250924T164358Z
LAST-MODIFIED:20250924T164407Z
UID:7263-1759006800-1759006800@www.waterfrontdistrict.ca
SUMMARY:Live Band Karaoke at Red Lion Smokehouse
DESCRIPTION:Live Band Karaoke is Back…\nSave the dates!!! \nPut on your dancing shoes and come party like a rockstar September 5th and September 27th! \n*** you have to pay the band extra if you want to sing ‘Freebird’ *** \nPlease Share with all your Karaoke loving friends!!
URL:https://www.waterfrontdistrict.ca/event/live-band-karaoke-at-red-lion-smokehouse-2/
LOCATION:Red Lion Smokehouse\, 16 Cumberland St S\, Thunder Bay\, ON\, 16 Cumberland St S\, Canada
END:VEVENT
BEGIN:VEVENT
DTSTART;TZID=America/Halifax:20250927T210000
DTEND;TZID=America/Halifax:20250927T210000
DTSTAMP:20260420T213821
CREATED:20250924T164543Z
LAST-MODIFIED:20250924T164553Z
UID:7265-1759006800-1759006800@www.waterfrontdistrict.ca
SUMMARY:The Cover Show XXXII (2 Nights)
DESCRIPTION:10 Bands 🔥 2 Nights 🔥 1 Big F#$%ing Party. \nWiggins Productions presents\n💥💥THE COVER SHOW XXXII💥💥\n\n📍Black Pirates Pub 215 Red River Rd\n⏰ Doors 9pm // Show 10pm\n🎟️ $15 cover at the door\n🪪 19+ event (valid ID required) \nJoin us downtown at Black Pirates Pub as the Thunder Bay music scene comes together to pay tribute to some of the biggest names in rock\, pop\, metal and punk! \n📅 FRIDAY\, SEPTEMBER 26 (Night One) \n1️⃣ Isaiah Fawcett as ELLIOTT SMITH\n2️⃣ Brazen Bull as COAL CHAMBER\n3️⃣ Flasked Intruder as MASKED INTRUDER\n4️⃣ The Uncultured Swines as VOLBEAT\n5️⃣ Daylight Dies as KILLSWITCH ENGAGE**\n(**Northern Hostility as UPON A BURNING BODY will not be performing) \n📅 SATURDAY\, SEPTEMBER 27 (Night Two) \n1️⃣ Philp and Co. as ADELE\n2️⃣ Dongy as PANIC! AT THE DISCO\n3️⃣ Oops!… as BRITNEY SPEARS\n4️⃣ Guns N Hosers as GUNS N ROSES\n5️⃣ Dongrippers as GREEN DAY \n📸 Photography by Keegan Richard\n🎁 Sponsored by TBShows \nSUPPORT LOCAL MUSIC & ENTERTAINMENT | TBSHOWS.COM \n#tbshows #thunderbay #covershow #covershow32 \nFacebook Event
URL:https://www.waterfrontdistrict.ca/event/the-cover-show-xxxii-2-nights-2/
LOCATION:Black Pirates Pub\, 215 Red River Rd\, Suite 101\, Thunder Bay\, ON\, Canada
END:VEVENT
BEGIN:VEVENT
DTSTART;TZID=America/Halifax:20250927T220000
DTEND;TZID=America/Halifax:20250927T220000
DTSTAMP:20260420T213821
CREATED:20250924T184602Z
LAST-MODIFIED:20250924T184614Z
UID:7268-1759010400-1759010400@www.waterfrontdistrict.ca
SUMMARY:DJ Rogue Live at The Foundry
DESCRIPTION:SATURDAY\, SEPT 27 – DJ ROGUE RETURNS 🎧🔥Thunder Bay’s own DJ Rogue is back at The Foundry\, and the dance floor won’t stand still. House\, hip-hop\, EDM — whatever keeps the crowd jumping till the lights come on. \n📍 The Foundry – Thunder Bay\, ON🕙 Music at 10PM💵 $5 Cover | 19+ \nDJ Rogue
URL:https://www.waterfrontdistrict.ca/event/dj-rogue-live-at-the-foundry-2/
LOCATION:The Foundry\, 242 Red River Road\, Thunder Bay\, Ontario\, p7b1a6\, Canada
END:VEVENT
BEGIN:VEVENT
DTSTART;TZID=America/Halifax:20250927T220000
DTEND;TZID=America/Halifax:20250927T220000
DTSTAMP:20260420T213821
CREATED:20250924T184829Z
LAST-MODIFIED:20250924T184840Z
UID:7270-1759010400-1759010400@www.waterfrontdistrict.ca
SUMMARY:Ladies Night Saturdays ft DJ Mo at NV Music Hall
DESCRIPTION:
URL:https://www.waterfrontdistrict.ca/event/ladies-night-saturdays-ft-dj-mo-at-nv-music-hall/
LOCATION:NV Music Hall\, 228 Red River Rd\, Thunder Bay\, ON\, Canada
END:VEVENT
BEGIN:VEVENT
DTSTART;TZID=America/Halifax:20250927T220000
DTEND;TZID=America/Halifax:20250927T220000
DTSTAMP:20260420T213821
CREATED:20250924T185956Z
LAST-MODIFIED:20250924T190022Z
UID:7280-1759010400-1759010400@www.waterfrontdistrict.ca
SUMMARY:DeeJay Dizzle
DESCRIPTION:
URL:https://www.waterfrontdistrict.ca/event/deejay-dizzle/
LOCATION:Nortenos Cantina\, 235 Red River Rd\, Thunder Bay\, ON\, Canada
END:VEVENT
BEGIN:VEVENT
DTSTART;TZID=America/Halifax:20250927T230000
DTEND;TZID=America/Halifax:20250927T230000
DTSTAMP:20260420T213821
CREATED:20250924T185120Z
LAST-MODIFIED:20250924T185138Z
UID:7272-1759014000-1759014000@www.waterfrontdistrict.ca
SUMMARY:Pocket After Dark
DESCRIPTION:No Cover // 19+
URL:https://www.waterfrontdistrict.ca/event/pocket-after-dark-26/
LOCATION:Pocketchange Bar\, 234 Red River Rd\, Thunder Bay\, ON\, P7B 1A6\, Canada
END:VEVENT
BEGIN:VEVENT
DTSTART;TZID=America/Halifax:20250928T130000
DTEND;TZID=America/Halifax:20250928T150000
DTSTAMP:20260420T213821
CREATED:20250924T185327Z
LAST-MODIFIED:20250924T185346Z
UID:7274-1759064400-1759071600@www.waterfrontdistrict.ca
SUMMARY:Sex Toy Bingo at Nortenos Cantina
DESCRIPTION:💋 Mark Your Calendar 💋\nYour favourite Bingo game is BACK\n2 locations – Gore St & Red River Rd\n👋 Can’t wait to see you all there
URL:https://www.waterfrontdistrict.ca/event/sex-toy-bingo-at-nortenos-cantina/
LOCATION:Nortenos Cantina\, 235 Red River Rd\, Thunder Bay\, ON\, Canada
END:VEVENT
BEGIN:VEVENT
DTSTART;TZID=America/Halifax:20250928T160000
DTEND;TZID=America/Halifax:20250928T160000
DTSTAMP:20260420T213821
CREATED:20250924T185558Z
LAST-MODIFIED:20250924T185609Z
UID:7276-1759075200-1759075200@www.waterfrontdistrict.ca
SUMMARY:Movie Night
DESCRIPTION:
URL:https://www.waterfrontdistrict.ca/event/movie-night-3/
LOCATION:Paramount Live\, 24 Court St S\, Thunder Bay
END:VEVENT
BEGIN:VEVENT
DTSTART;TZID=America/Halifax:20251002T180000
DTEND;TZID=America/Halifax:20251002T210000
DTSTAMP:20260420T213821
CREATED:20251002T153621Z
LAST-MODIFIED:20251002T153621Z
UID:7320-1759428000-1759438800@www.waterfrontdistrict.ca
SUMMARY:Camden Blues Legacy Mural Unveiling Party
DESCRIPTION:Please join us Thursday October 2nd at Black Pirates Pub from 6pm-9pm as we unveil downtown PAs newest raddest mural honouring the late great Camden Blues and the musical legacy he left on our city and scene! \nFREE EVENT\nPROFESSIONAL PHOTOGRAPHER\nACCOUSTIC SET BY THE DOGGETT EXPERIENCE\nPIZZA & CUPCAKES \nFacebook Event
URL:https://www.waterfrontdistrict.ca/event/camden-blues-legacy-mural-unveiling-party/
LOCATION:Black Pirates Pub\, 215 Red River Rd\, Suite 101\, Thunder Bay\, ON\, Canada
END:VEVENT
BEGIN:VEVENT
DTSTART;TZID=America/Halifax:20251002T190000
DTEND;TZID=America/Halifax:20251002T220000
DTSTAMP:20260420T213821
CREATED:20251002T153842Z
LAST-MODIFIED:20251002T153842Z
UID:7322-1759431600-1759442400@www.waterfrontdistrict.ca
SUMMARY:Open Mic Night at Lakehead Beer Co
DESCRIPTION:What’s Open Mic Night all about? Fresh beer\, delicious food\, local talent\, and good vibes.🙌 \nDiscover new local talent every Thursday from 7:30-10pm in the taproom or sign up at the bar and perform for a free beverage! \nNo experience needed\, we’re here to cheer you on. \nTaproom open 4pm-11pm Thursday!🍻 \n**All ages / guardian supervision is mandatory for minors
URL:https://www.waterfrontdistrict.ca/event/open-mic-night-at-lakehead-beer-co-7/
LOCATION:Lakehead Beer Co\, 206 Park Ave\, Thunder Bay
END:VEVENT
BEGIN:VEVENT
DTSTART;TZID=America/Halifax:20251002T200000
DTEND;TZID=America/Halifax:20251002T230000
DTSTAMP:20260420T213821
CREATED:20251002T154057Z
LAST-MODIFIED:20251002T154057Z
UID:7324-1759435200-1759446000@www.waterfrontdistrict.ca
SUMMARY:Open Mic Comedy at The Foundry
DESCRIPTION:OPEN MIC THURSDAYS @ THE FOUNDRY\n*see poster for exact dates* \nJoin us at The Foundry (242 Red River Rd) for Open Mic Comedy Thursdays to either perform or watch local touring comedians work on material. Pros\, amateurs and first-timers are all welcome! *NO COVER* \nOpen Mic Comedy 9-11PM
URL:https://www.waterfrontdistrict.ca/event/open-mic-comedy-at-the-foundry-4/
LOCATION:The Foundry\, 242 Red River Road\, Thunder Bay\, Ontario\, p7b1a6\, Canada
END:VEVENT
BEGIN:VEVENT
DTSTART;TZID=America/Halifax:20251002T203000
DTEND;TZID=America/Halifax:20251002T203000
DTSTAMP:20260420T213821
CREATED:20251002T154220Z
LAST-MODIFIED:20251002T154236Z
UID:7326-1759437000-1759437000@www.waterfrontdistrict.ca
SUMMARY:Sober Karaoke Night at Howl at the Moon
DESCRIPTION:Karaoke Tuesdays\, Thursdays\, and Saturdays at Howl! \n830pm to midnight\n$5 cover
URL:https://www.waterfrontdistrict.ca/event/sober-karaoke-night-at-howl-at-the-moon-7/
LOCATION:Howl at The Moon Dry Bar\, 8 Cumberland st S\, Thunder Bay
END:VEVENT
BEGIN:VEVENT
DTSTART;TZID=America/Halifax:20251002T210000
DTEND;TZID=America/Halifax:20251002T210000
DTSTAMP:20260420T213821
CREATED:20251002T154605Z
LAST-MODIFIED:20251002T154745Z
UID:7328-1759438800-1759438800@www.waterfrontdistrict.ca
SUMMARY:Karaoke live at Nortenos Cantina
DESCRIPTION:Karaoke at the Cantina Every Thursday night.\nNo cover. \nShow Starts 9PM at Nortenos Cantina.
URL:https://www.waterfrontdistrict.ca/event/karaoke-live-at-nortenos-cantina-8/
LOCATION:Nortenos Cantina\, 235 Red River Rd\, Thunder Bay\, ON\, Canada
END:VEVENT
BEGIN:VEVENT
DTSTART;TZID=America/Halifax:20251002T220000
DTEND;TZID=America/Halifax:20251002T220000
DTSTAMP:20260420T213821
CREATED:20251002T155048Z
LAST-MODIFIED:20251002T161224Z
UID:7330-1759442400-1759442400@www.waterfrontdistrict.ca
SUMMARY:Karaoke live at The Waterhouse
DESCRIPTION:
URL:https://www.waterfrontdistrict.ca/event/karaoke-live-at-the-waterhouse-15/
LOCATION:Waterhouse\, 9 Cumberland St S\, Thunder Bay\, ON\, P7B 2T1
END:VEVENT
BEGIN:VEVENT
DTSTART;TZID=America/Halifax:20251003T000000
DTEND;TZID=America/Halifax:20251005T000000
DTSTAMP:20260420T213821
CREATED:20251002T164430Z
LAST-MODIFIED:20251002T164510Z
UID:7346-1759449600-1759622400@www.waterfrontdistrict.ca
SUMMARY:See Share Celebrate It Gallery
DESCRIPTION:
URL:https://www.waterfrontdistrict.ca/event/see-share-celebrate-it-gallery/
LOCATION:Co. Lab Gallery\, 251 Red River Road\, Thunder Bay\, ON\, P7B 1A7\, Canada
END:VEVENT
BEGIN:VEVENT
DTSTART;TZID=America/Halifax:20251003T180000
DTEND;TZID=America/Halifax:20251003T210000
DTSTAMP:20260420T213821
CREATED:20251002T161450Z
LAST-MODIFIED:20251002T161629Z
UID:7332-1759514400-1759525200@www.waterfrontdistrict.ca
SUMMARY:Jazz and Old Fashioned Fridays ft. Mood Indigo
DESCRIPTION:Don’t miss the spectacular scenery\, smooth jazz and incredibly crafted cocktails and food at Anchor & Ore in The Delta Hotel with Mood Indigo!
URL:https://www.waterfrontdistrict.ca/event/jazz-and-old-fashioned-fridays-ft-mood-indigo-13/
LOCATION:Anchor & Ore\, 2240 Sleeping Giant Pkwy\, Thunder Bay\, ON\, Canada
END:VEVENT
BEGIN:VEVENT
DTSTART;TZID=America/Halifax:20251003T190000
DTEND;TZID=America/Halifax:20251003T190000
DTSTAMP:20260420T213821
CREATED:20251002T161948Z
LAST-MODIFIED:20251002T162013Z
UID:7334-1759518000-1759518000@www.waterfrontdistrict.ca
SUMMARY:Sober Trivia Night at Howl at the Moon
DESCRIPTION:Sober Trivia at Howl at the Moon \n7pm / $3 cover
URL:https://www.waterfrontdistrict.ca/event/sober-trivia-night-at-howl-at-the-moon-2/
LOCATION:Howl at The Moon Dry Bar\, 8 Cumberland st S\, Thunder Bay
END:VEVENT
BEGIN:VEVENT
DTSTART;TZID=America/Halifax:20251003T210000
DTEND;TZID=America/Halifax:20251003T210000
DTSTAMP:20260420T213821
CREATED:20251002T162310Z
LAST-MODIFIED:20251002T162331Z
UID:7336-1759525200-1759525200@www.waterfrontdistrict.ca
SUMMARY:Another Folkin’ Friday with Loughling\, Ezra and TBay Trad
DESCRIPTION:Hey friends! Excited to welcome back some of our local favs for ANOTHER FOLKIN’ FRIDAY!! \nFeaturing:\nLOUGHLIN\nEZRA\nTBAY TRAD\n$10 at the door\, 19+\nDoors at 9pm\, Show at 10pm \nFacebook Event
URL:https://www.waterfrontdistrict.ca/event/another-folkin-friday-with-loughling-ezra-and-tbay-trad/
LOCATION:Black Pirates Pub\, 215 Red River Rd\, Suite 101\, Thunder Bay\, ON\, Canada
END:VEVENT
BEGIN:VEVENT
DTSTART;TZID=America/Halifax:20251003T220000
DTEND;TZID=America/Halifax:20251003T220000
DTSTAMP:20260420T213821
CREATED:20251002T162528Z
LAST-MODIFIED:20251002T162621Z
UID:7338-1759528800-1759528800@www.waterfrontdistrict.ca
SUMMARY:Karaoke live at The Waterhouse
DESCRIPTION:Karaoke every Thursday and Friday night at the Waterhouse!
URL:https://www.waterfrontdistrict.ca/event/karaoke-live-at-the-waterhouse-16/
LOCATION:Waterhouse\, 9 Cumberland St S\, Thunder Bay\, ON\, P7B 2T1
END:VEVENT
BEGIN:VEVENT
DTSTART;TZID=America/Halifax:20251003T220000
DTEND;TZID=America/Halifax:20251003T220000
DTSTAMP:20260420T213821
CREATED:20251002T162909Z
LAST-MODIFIED:20251002T162934Z
UID:7340-1759528800-1759528800@www.waterfrontdistrict.ca
SUMMARY:DJ Sugarman at The Foundry
DESCRIPTION:
URL:https://www.waterfrontdistrict.ca/event/dj-sugarman-at-the-foundry/
LOCATION:The Foundry\, 242 Red River Road\, Thunder Bay\, Ontario\, p7b1a6\, Canada
END:VEVENT
BEGIN:VEVENT
DTSTART;TZID=America/Halifax:20251003T220000
DTEND;TZID=America/Halifax:20251003T220000
DTSTAMP:20260420T213821
CREATED:20251002T163148Z
LAST-MODIFIED:20251002T163459Z
UID:7342-1759528800-1759528800@www.waterfrontdistrict.ca
SUMMARY:Club Night at NV Music Hall
DESCRIPTION:MEGA RAGER in THUNDER BAY! \nFRIDAY OCTOBER 3rd we are taking over NV Music Hall and hosting the College RAGER of your dreams! \nYOUR FAVOURITE CLUB BANGERS AND PARTY ANTHEMS ALL NIGHT LONG! \nDM @midwest_dj with any song requests! \nRunning from 10pm to 2am. *All tickets sales are FINAL* You must be 19+ to attend. Tickets are good for single entry. You must have government issue ID. PHOTOS OF YOUR ID WILL NOT WORK* \nTICKET HERE
URL:https://www.waterfrontdistrict.ca/event/club-night-at-nv-music-hall/
LOCATION:NV Music Hall\, 228 Red River Rd\, Thunder Bay\, ON\, Canada
END:VEVENT
BEGIN:VEVENT
DTSTART;TZID=America/Halifax:20251003T230000
DTEND;TZID=America/Halifax:20251003T230000
DTSTAMP:20260420T213821
CREATED:20251002T164201Z
LAST-MODIFIED:20251002T164219Z
UID:7344-1759532400-1759532400@www.waterfrontdistrict.ca
SUMMARY:Pocket After Dark
DESCRIPTION:No Cover // 19+
URL:https://www.waterfrontdistrict.ca/event/pocket-after-dark-27/
LOCATION:Pocketchange Bar\, 234 Red River Rd\, Thunder Bay\, ON\, P7B 1A6\, Canada
END:VEVENT
BEGIN:VEVENT
DTSTART;TZID=America/Halifax:20251004T150000
DTEND;TZID=America/Halifax:20251004T210000
DTSTAMP:20260420T213821
CREATED:20251002T164747Z
LAST-MODIFIED:20251002T164747Z
UID:7348-1759590000-1759611600@www.waterfrontdistrict.ca
SUMMARY:Vinyl Saturdays at Red Lion Smokehouse
DESCRIPTION:Dust off your records ’cause every Saturday you can be your own DJ and spin your favourite tunes on Red Lion Smokehouse’s house record player for “Bring Your Own Vinyl Saturday” \nDon’t have a record? Peruse the house crate and take the playlist into your own hands\, or better yet\, pop over to The Vinyl Frontier located right next door to Red Lion and start your own collection.
URL:https://www.waterfrontdistrict.ca/event/vinyl-saturdays-at-red-lion-smokehouse-8/
LOCATION:Red Lion Smokehouse\, 16 Cumberland St S\, Thunder Bay\, ON\, 16 Cumberland St S\, Canada
END:VEVENT
BEGIN:VEVENT
DTSTART;TZID=America/Halifax:20251004T203000
DTEND;TZID=America/Halifax:20251004T203000
DTSTAMP:20260420T213821
CREATED:20251002T164930Z
LAST-MODIFIED:20251002T164946Z
UID:7350-1759609800-1759609800@www.waterfrontdistrict.ca
SUMMARY:Sober Karaoke Night at Howl at the Moon
DESCRIPTION:Karaoke Tuesdays\, Thursdays\, and Saturdays at Howl! \n830pm to midnight\n$5 cover
URL:https://www.waterfrontdistrict.ca/event/sober-karaoke-night-at-howl-at-the-moon-8/
LOCATION:Howl at The Moon Dry Bar\, 8 Cumberland st S\, Thunder Bay
END:VEVENT
END:VCALENDAR