BEGIN:VCALENDAR
VERSION:2.0
PRODID:-//Waterfront District BIA - ECPv6.15.20//NONSGML v1.0//EN
CALSCALE:GREGORIAN
METHOD:PUBLISH
X-WR-CALNAME:Waterfront District BIA
X-ORIGINAL-URL:https://www.waterfrontdistrict.ca
X-WR-CALDESC:Events for Waterfront District BIA
REFRESH-INTERVAL;VALUE=DURATION:PT1H
X-Robots-Tag:noindex
X-PUBLISHED-TTL:PT1H
BEGIN:VTIMEZONE
TZID:America/Halifax
BEGIN:DAYLIGHT
TZOFFSETFROM:-0400
TZOFFSETTO:-0300
TZNAME:ADT
DTSTART:20240310T060000
END:DAYLIGHT
BEGIN:STANDARD
TZOFFSETFROM:-0300
TZOFFSETTO:-0400
TZNAME:AST
DTSTART:20241103T050000
END:STANDARD
BEGIN:DAYLIGHT
TZOFFSETFROM:-0400
TZOFFSETTO:-0300
TZNAME:ADT
DTSTART:20250309T060000
END:DAYLIGHT
BEGIN:STANDARD
TZOFFSETFROM:-0300
TZOFFSETTO:-0400
TZNAME:AST
DTSTART:20251102T050000
END:STANDARD
BEGIN:DAYLIGHT
TZOFFSETFROM:-0400
TZOFFSETTO:-0300
TZNAME:ADT
DTSTART:20260308T060000
END:DAYLIGHT
BEGIN:STANDARD
TZOFFSETFROM:-0300
TZOFFSETTO:-0400
TZNAME:AST
DTSTART:20261101T050000
END:STANDARD
END:VTIMEZONE
BEGIN:VEVENT
DTSTART;TZID=America/Halifax:20250926T230000
DTEND;TZID=America/Halifax:20250926T230000
DTSTAMP:20260420T043854
CREATED:20250924T162302Z
LAST-MODIFIED:20250924T162314Z
UID:7253-1758927600-1758927600@www.waterfrontdistrict.ca
SUMMARY:Pocket After Dark
DESCRIPTION:No Cover // 19+
URL:https://www.waterfrontdistrict.ca/event/pocket-after-dark-25/
LOCATION:Pocketchange Bar\, 234 Red River Rd\, Thunder Bay\, ON\, P7B 1A6\, Canada
END:VEVENT
BEGIN:VEVENT
DTSTART;TZID=America/Halifax:20250926T220000
DTEND;TZID=America/Halifax:20250926T220000
DTSTAMP:20260420T043854
CREATED:20250924T185827Z
LAST-MODIFIED:20250924T185848Z
UID:7278-1758924000-1758924000@www.waterfrontdistrict.ca
SUMMARY:DJ Pura Vida
DESCRIPTION:
URL:https://www.waterfrontdistrict.ca/event/dj-pura-vida-4/
LOCATION:Nortenos Cantina\, 235 Red River Rd\, Thunder Bay\, ON\, Canada
END:VEVENT
BEGIN:VEVENT
DTSTART;TZID=America/Halifax:20250926T220000
DTEND;TZID=America/Halifax:20250926T220000
DTSTAMP:20260420T043854
CREATED:20250924T162014Z
LAST-MODIFIED:20250924T162042Z
UID:7251-1758924000-1758924000@www.waterfrontdistrict.ca
SUMMARY:Afro Caribbean Bash – Fourth Edition
DESCRIPTION:Get ready to experience the 4th edition of Thunder Bay’s BIGGEST Afro-Caribbean Bash! 🎶💃🏾🕺🏽 \nCome prepared for a full night of pure vibes with the hottest Afrobeat\, Dancehall\, Soca\, Reggae & Hip-Hop 🔥🍾 \nThis edition is EXTRA special because all proceeds will be donated to AFCASA ❤️ Come turn up\, celebrate the culture\, and support a great cause at the same time. \n✨ Event Details:\n🕙 Doors open 10PM sharp\n🍹 $5 drink specials all night long\n🎶 Vibes powered by: @djsupaofficial @djdizzle @djkeemi \n📩 VIP Booths & Bottle Service available — DM to secure yours early! \n🎟️Tickets:\n$10 – General Admission\n$20 – VIP Admission (Express entry and access to VIP area)\n$150 – VIP Booth (6 VIP tickets\, designated waitress and bottle service with customized sign)\nTICKETS HERE
URL:https://www.waterfrontdistrict.ca/event/afro-caribbean-bash-fourth-edition/
LOCATION:NV Music Hall\, 228 Red River Rd\, Thunder Bay\, ON\, Canada
END:VEVENT
BEGIN:VEVENT
DTSTART;TZID=America/Halifax:20250926T220000
DTEND;TZID=America/Halifax:20250926T220000
DTSTAMP:20260420T043854
CREATED:20250924T161820Z
LAST-MODIFIED:20250924T161828Z
UID:7249-1758924000-1758924000@www.waterfrontdistrict.ca
SUMMARY:Fusion Fridayz at NV Music Hall
DESCRIPTION:🗓️Save the dates and spread the word🙌 \nStay tuned for more info…
URL:https://www.waterfrontdistrict.ca/event/fusion-fridayz-at-nv-music-hall/
LOCATION:NV Music Hall\, 228 Red River Rd\, Thunder Bay\, ON\, Canada
END:VEVENT
BEGIN:VEVENT
DTSTART;TZID=America/Halifax:20250926T220000
DTEND;TZID=America/Halifax:20250926T220000
DTSTAMP:20260420T043854
CREATED:20250924T161546Z
LAST-MODIFIED:20250924T161601Z
UID:7247-1758924000-1758924000@www.waterfrontdistrict.ca
SUMMARY:Freeground Live at The Foundry
DESCRIPTION:FRIDAY\, SEPT 26 – FREEGROUND AT THE FOUNDRY 🌊🎶Thunder Bay’s own Freeground is rolling in with reggae rhythms\, rock energy\, and a whole lot of good vibes.Perfect mix of chill and hype to ride you into the weekend. \n📍 The Foundry – Thunder Bay\, ON🕙 Music at 10PM💵 $5 Cover | 19+
URL:https://www.waterfrontdistrict.ca/event/freeground-live-at-the-foundry/
LOCATION:The Foundry\, 242 Red River Road\, Thunder Bay\, Ontario\, p7b1a6\, Canada
END:VEVENT
BEGIN:VEVENT
DTSTART;TZID=America/Halifax:20250926T220000
DTEND;TZID=America/Halifax:20250926T220000
DTSTAMP:20260420T043854
CREATED:20250924T161353Z
LAST-MODIFIED:20250924T161419Z
UID:7245-1758924000-1758924000@www.waterfrontdistrict.ca
SUMMARY:Karaoke live at The Waterhouse
DESCRIPTION:Karaoke every Thursday and Friday night at the Waterhouse!
URL:https://www.waterfrontdistrict.ca/event/karaoke-live-at-the-waterhouse-14/
LOCATION:Waterhouse\, 9 Cumberland St S\, Thunder Bay\, ON\, P7B 2T1
END:VEVENT
BEGIN:VEVENT
DTSTART;TZID=America/Halifax:20250926T210000
DTEND;TZID=America/Halifax:20250926T210000
DTSTAMP:20260420T043854
CREATED:20250924T161201Z
LAST-MODIFIED:20250924T161215Z
UID:7243-1758920400-1758920400@www.waterfrontdistrict.ca
SUMMARY:The Cover Show XXXII (2 Nights)
DESCRIPTION:10 Bands 🔥 2 Nights 🔥 1 Big F#$%ing Party. \nWiggins Productions presents\n💥💥THE COVER SHOW XXXII💥💥\n\n📍Black Pirates Pub 215 Red River Rd\n⏰ Doors 9pm // Show 10pm\n🎟️ $15 cover at the door\n🪪 19+ event (valid ID required) \nJoin us downtown at Black Pirates Pub as the Thunder Bay music scene comes together to pay tribute to some of the biggest names in rock\, pop\, metal and punk! \n📅 FRIDAY\, SEPTEMBER 26 (Night One) \n1️⃣ Isaiah Fawcett as ELLIOTT SMITH\n2️⃣ Brazen Bull as COAL CHAMBER\n3️⃣ Flasked Intruder as MASKED INTRUDER\n4️⃣ The Uncultured Swines as VOLBEAT\n5️⃣ Daylight Dies as KILLSWITCH ENGAGE**\n(**Northern Hostility as UPON A BURNING BODY will not be performing) \n📅 SATURDAY\, SEPTEMBER 27 (Night Two) \n1️⃣ Philp and Co. as ADELE\n2️⃣ Dongy as PANIC! AT THE DISCO\n3️⃣ Oops!… as BRITNEY SPEARS\n4️⃣ Guns N Hosers as GUNS N ROSES\n5️⃣ Dongrippers as GREEN DAY \n📸 Photography by Keegan Richard\n🎁 Sponsored by TBShows \nSUPPORT LOCAL MUSIC & ENTERTAINMENT | TBSHOWS.COM \n#tbshows #thunderbay #covershow #covershow32 \nFacebook Event
URL:https://www.waterfrontdistrict.ca/event/the-cover-show-xxxii-2-nights/
LOCATION:Black Pirates Pub\, 215 Red River Rd\, Suite 101\, Thunder Bay\, ON\, Canada
END:VEVENT
BEGIN:VEVENT
DTSTART;TZID=America/Halifax:20250926T210000
DTEND;TZID=America/Halifax:20250926T210000
DTSTAMP:20260420T043854
CREATED:20250924T160939Z
LAST-MODIFIED:20250924T160952Z
UID:7241-1758920400-1758920400@www.waterfrontdistrict.ca
SUMMARY:Music Bingo at Red Lion Smokehouse
DESCRIPTION:
URL:https://www.waterfrontdistrict.ca/event/music-bingo-at-red-lion-smokehouse/
LOCATION:Red Lion Smokehouse\, 16 Cumberland St S\, Thunder Bay\, ON\, 16 Cumberland St S\, Canada
END:VEVENT
BEGIN:VEVENT
DTSTART;TZID=America/Halifax:20250926T180000
DTEND;TZID=America/Halifax:20250926T220000
DTSTAMP:20260420T043854
CREATED:20250924T160724Z
LAST-MODIFIED:20250924T160724Z
UID:7239-1758909600-1758924000@www.waterfrontdistrict.ca
SUMMARY:Late Night Food Alley ft DJ Ducktail
DESCRIPTION:Late Night Food Alley on Fridays!!! Come grab a bite from our in house restaurants\, grab a drink at @thewoodsidebar and enjoy music by DJ @_ducktail See you there
URL:https://www.waterfrontdistrict.ca/event/late-night-food-alley-ft-dj-ducktail-12/
LOCATION:Goods and co\, 251 Red River Rd\, Thunder Bay\, Ontario\, P7B 1A7\, Canada
END:VEVENT
BEGIN:VEVENT
DTSTART;TZID=America/Halifax:20250926T180000
DTEND;TZID=America/Halifax:20250926T210000
DTSTAMP:20260420T043854
CREATED:20250924T160510Z
LAST-MODIFIED:20250924T160510Z
UID:7237-1758909600-1758920400@www.waterfrontdistrict.ca
SUMMARY:Jazz and Old Fashioned Fridays ft. Mood Indigo
DESCRIPTION:Don’t miss the spectacular scenery\, smooth jazz and incredibly crafted cocktails and food at Anchor & Ore in The Delta Hotel with Mood Indigo!
URL:https://www.waterfrontdistrict.ca/event/jazz-and-old-fashioned-fridays-ft-mood-indigo-12/
LOCATION:Anchor & Ore\, 2240 Sleeping Giant Pkwy\, Thunder Bay\, ON\, Canada
END:VEVENT
BEGIN:VEVENT
DTSTART;TZID=America/Halifax:20250926T180000
DTEND;TZID=America/Halifax:20250926T180000
DTSTAMP:20260420T043854
CREATED:20250924T160206Z
LAST-MODIFIED:20250924T160221Z
UID:7234-1758909600-1758909600@www.waterfrontdistrict.ca
SUMMARY:Stellar Waxbar’s Annual Red Carpet Charity Gala
DESCRIPTION:Stella WaxBar will be hosting our 4th annual red carpet charity gala in support of George Jeffrey Children’s Foundation at The Chanterelle on September 26\, 2025. \nThis event will be a black tie 3 course dinner with late night snack included\, live auction\, silent auction\, comedy show\, wine pull and dance to follow. Our headlining comedian is Winnipeg’s Mike Green from the TV show “Hot Deals”. @mikegreennfl \n1 ticket includes (event is 19+ only):\n⭐️ VIP entrance to the red carpet event for one guest\, with your photo being professionally taken by vogue-featured photographer @lifeas.sheknowsit Carly Dowhos. \n⭐️ A 3-course dinner catered by Tomlin (meal option selected with ticket purchase) with late night snack included (mini Tomlin burgers) \n⭐️ A complimentary 3oz pour of sparkling wine as you walk the red carpet (non-\nalcoholic champagne option available).\nAccess to our headline show – comedian Mike Green. \n⭐️ Entrance to the prize lounge which hosts an array of ways to win thousands of dollars worth of prizes. Our wine pull is always a big hit…donate the night of to choose a mystery bottle of wine worth anywhere from $15-$150+ \n⭐️ A charitable donation to The George Jeffrey Children’s Foundation is included in the ticket cost. \n⭐️ Access to self-guided photo booth\, with pictures instantly sent to your mobile phone. \n⭐️ Dj Kevin Cernjul & Dance to follow. @djsugarman \nTICKETS HERE
URL:https://www.waterfrontdistrict.ca/event/stellar-waxbars-annual-red-carpet-charity-gala/
LOCATION:The Chanterelle\, 206 Park Ave\, Thunder Bay\, ON\, P7B 2T2
END:VEVENT
BEGIN:VEVENT
DTSTART;TZID=America/Halifax:20250925T220000
DTEND;TZID=America/Halifax:20250925T220000
DTSTAMP:20260420T043854
CREATED:20250924T155625Z
LAST-MODIFIED:20250924T155641Z
UID:7232-1758837600-1758837600@www.waterfrontdistrict.ca
SUMMARY:Karaoke live at The Waterhouse
DESCRIPTION:
URL:https://www.waterfrontdistrict.ca/event/karaoke-live-at-the-waterhouse-13/
LOCATION:Waterhouse\, 9 Cumberland St S\, Thunder Bay\, ON\, P7B 2T1
END:VEVENT
BEGIN:VEVENT
DTSTART;TZID=America/Halifax:20250925T210000
DTEND;TZID=America/Halifax:20250925T210000
DTSTAMP:20260420T043854
CREATED:20250924T155406Z
LAST-MODIFIED:20250924T155440Z
UID:7230-1758834000-1758834000@www.waterfrontdistrict.ca
SUMMARY:Karaoke live at Nortenos Cantina
DESCRIPTION:Karaoke at the Cantina Every Thursday night.\nNo cover. \nShow Starts 9PM at Nortenos Cantina.
URL:https://www.waterfrontdistrict.ca/event/karaoke-live-at-nortenos-cantina-7/
LOCATION:Nortenos Cantina\, 235 Red River Rd\, Thunder Bay\, ON\, Canada
END:VEVENT
BEGIN:VEVENT
DTSTART;TZID=America/Halifax:20250925T203000
DTEND;TZID=America/Halifax:20250925T203000
DTSTAMP:20260420T043854
CREATED:20250924T155029Z
LAST-MODIFIED:20250924T155042Z
UID:7228-1758832200-1758832200@www.waterfrontdistrict.ca
SUMMARY:Sober Karaoke Night at Howl at the Moon
DESCRIPTION:Karaoke Tuesdays\, Thursdays\, and Saturdays at Howl! \n830pm to midnight\n$5 cover
URL:https://www.waterfrontdistrict.ca/event/sober-karaoke-night-at-howl-at-the-moon-5/
LOCATION:Howl at The Moon Dry Bar\, 8 Cumberland st S\, Thunder Bay
END:VEVENT
BEGIN:VEVENT
DTSTART;TZID=America/Halifax:20250925T190000
DTEND;TZID=America/Halifax:20250925T220000
DTSTAMP:20260420T043854
CREATED:20250924T154820Z
LAST-MODIFIED:20250924T154820Z
UID:7226-1758826800-1758837600@www.waterfrontdistrict.ca
SUMMARY:Open Mic Night at Lakehead Beer Co
DESCRIPTION:What’s Open Mic Night all about? Fresh beer\, delicious food\, local talent\, and good vibes.🙌 \nDiscover new local talent every Thursday from 7:30-10pm in the taproom or sign up at the bar and perform for a free beverage! \nNo experience needed\, we’re here to cheer you on. \nTaproom open 4pm-11pm Thursday!🍻 \n**All ages / guardian supervision is mandatory for minors
URL:https://www.waterfrontdistrict.ca/event/open-mic-night-at-lakehead-beer-co-6/
LOCATION:Lakehead Beer Co\, 206 Park Ave\, Thunder Bay
END:VEVENT
BEGIN:VEVENT
DTSTART;TZID=America/Halifax:20250925T190000
DTEND;TZID=America/Halifax:20250925T190000
DTSTAMP:20260420T043854
CREATED:20250924T154448Z
LAST-MODIFIED:20250924T154525Z
UID:7224-1758826800-1758826800@www.waterfrontdistrict.ca
SUMMARY:Dayglo Abortions Fundraiser Raising the Bail
DESCRIPTION:Dayglo Abortions are going through a tough time with significant financial losses from a canceled tour after being pulled over in USA. That’s a huge blow\, and Thunder Bays punk and music scene want to help. The scale of those losses—the bail\, fees\, and hotel costs all add up. The Dayglo Abortions\, SNFU\, and D.O.A. definitely laid the groundwork for the local scene. Their tours and shows were pivotal moments that inspired a whole generation of musicians and fans\, creating a community that’s still alive and well today in Thunder Bay. \nThursday \, Sept 25\nDoors 7pm\nShowv730\n$20 @ the door.\nAll Ages \nProceeds 100% to Dayglo Abortions \nFacebook Event
URL:https://www.waterfrontdistrict.ca/event/dayglo-abortions-fundraiser-raising-the-bail/
LOCATION:Black Pirates Pub\, 215 Red River Rd\, Suite 101\, Thunder Bay\, ON\, Canada
END:VEVENT
BEGIN:VEVENT
DTSTART;TZID=America/Halifax:20250921T160000
DTEND;TZID=America/Halifax:20250921T160000
DTSTAMP:20260420T043854
CREATED:20250918T152704Z
LAST-MODIFIED:20250918T152714Z
UID:7218-1758470400-1758470400@www.waterfrontdistrict.ca
SUMMARY:Movie night
DESCRIPTION:
URL:https://www.waterfrontdistrict.ca/event/movie-night-2/
LOCATION:Paramount Live\, 24 Court St S\, Thunder Bay
END:VEVENT
BEGIN:VEVENT
DTSTART;TZID=America/Halifax:20250920T230000
DTEND;TZID=America/Halifax:20250920T230000
DTSTAMP:20260420T043854
CREATED:20250918T152510Z
LAST-MODIFIED:20250918T152529Z
UID:7216-1758409200-1758409200@www.waterfrontdistrict.ca
SUMMARY:Pocket After Dark
DESCRIPTION:No Cover // 19+
URL:https://www.waterfrontdistrict.ca/event/pocket-after-dark-24/
LOCATION:Pocketchange Bar\, 234 Red River Rd\, Thunder Bay\, ON\, P7B 1A6\, Canada
END:VEVENT
BEGIN:VEVENT
DTSTART;TZID=America/Halifax:20250920T220000
DTEND;TZID=America/Halifax:20250920T220000
DTSTAMP:20260420T043854
CREATED:20250918T152023Z
LAST-MODIFIED:20250918T152345Z
UID:7214-1758405600-1758405600@www.waterfrontdistrict.ca
SUMMARY:Neon Galaxy 3 at Nortenos Cantina
DESCRIPTION:Third time’s the charm! 🌌✨\n🌈Neon Galaxy is back for its third edition and this time we’re taking over Nortenos Cantina! 🚀 \nGet ready for a night of glowing vibes\, UV paint\, and high-energy beats as we transform the dance floor into a galaxy of lights and sound. 🌟🔥 With DJ Supa in control\, expect nothing but nonstop hits from around the world and unforgettable moments all night long. 🎶💡 \nThis isn’t just a party—it’s a neon takeover. Don’t miss your chance to glow with us! \n✨ Event Details:\n🕙 Start time 10PM sharp\n🎟️ $5 at the Door\n🌈 Glow Sticks and UV body paint will be provided. \n🎶 Music powered by DJ Supa keeping you moving till close
URL:https://www.waterfrontdistrict.ca/event/neon-galaxy-3-at-nortenos-cantina/
LOCATION:Nortenos Cantina\, 235 Red River Rd\, Thunder Bay\, ON\, Canada
END:VEVENT
BEGIN:VEVENT
DTSTART;TZID=America/Halifax:20250920T220000
DTEND;TZID=America/Halifax:20250920T220000
DTSTAMP:20260420T043854
CREATED:20250918T151805Z
LAST-MODIFIED:20250918T151820Z
UID:7212-1758405600-1758405600@www.waterfrontdistrict.ca
SUMMARY:The Selfies Live at The Foundry
DESCRIPTION:SATURDAY\, SEPT 20 – THE SELFIES AT THE FOUNDRY 🎤🎉Thunder Bay’s pop/rock party crew The Selfies are back to load your Saturday with hit after hit.Expect a packed floor\, sing-along anthems\, and a night that’ll go way past last call. \n📍 The Foundry – Thunder Bay\, ON🕙 Music at 10PM💵 $5 Cover | 19+ \nThe Selfies
URL:https://www.waterfrontdistrict.ca/event/the-selfies-live-at-the-foundry/
LOCATION:The Foundry\, 242 Red River Road\, Thunder Bay\, Ontario\, p7b1a6\, Canada
END:VEVENT
BEGIN:VEVENT
DTSTART;TZID=America/Halifax:20250920T210000
DTEND;TZID=America/Halifax:20250920T210000
DTSTAMP:20260420T043854
CREATED:20250918T151556Z
LAST-MODIFIED:20250918T151612Z
UID:7210-1758402000-1758402000@www.waterfrontdistrict.ca
SUMMARY:Cover Nights ft Bill Murray at Red Lion
DESCRIPTION:
URL:https://www.waterfrontdistrict.ca/event/cover-nights-ft-bill-murray-at-red-lion-2/
LOCATION:Red Lion Smokehouse\, 16 Cumberland St S\, Thunder Bay\, ON\, 16 Cumberland St S\, Canada
END:VEVENT
BEGIN:VEVENT
DTSTART;TZID=America/Halifax:20250920T210000
DTEND;TZID=America/Halifax:20250920T210000
DTSTAMP:20260420T043854
CREATED:20250918T150535Z
LAST-MODIFIED:20250918T150548Z
UID:7208-1758402000-1758402000@www.waterfrontdistrict.ca
SUMMARY:ThunderCon Drag Show 2025 at Black Pirates Pub
DESCRIPTION:Wiggins Productions proudly presents \n+++ THUNDERCON DRAG SHOW +++\nThe Official After Party of ThunderCon 2025 \n📅 Saturday\, September 20\, 2025\n📍 Black Pirates Pub (215 Red River Road)\n⏰ Doors 9 PM | Show 10 PM\n🔞 19+ (valid ID required) \nCATEGORY IS: Freaks & Geeks! \nAfter an action-packed first day of ThunderCon\, the party continues at Black Pirates Pub as Thunder Bay’s top drag performers cos-slay the house down for an anime-zing night where drag\, cosplay\, and pop culture collide at the official ThunderCon after party! \nCOSPLAY & DRESS UP IS HIGHLY ENCOURAGED!! \n💥💥💥 STARRING 💥💥💥\n👑 Mz. Molly Poppinz (host)\n👑 Victoria Injustice (return to the stage)\n👑 Amber Ail\n👑 Ivan Love\n👑 Miss Take\n👑 Lolita\n👑 Ophelia\n👑 Devin Devine\n👑 Shaela Vie\n👑 Olive Boogits\n👑 Seren Tonin\n👑 Anton Chinoor \n📸 Photography by Dark Forest Photographic\n🤝 Sponsored by TBShows \nTICKETS HERE \n____ \nABOUT THUNDERCON 2025 \nThunderCon is Northwestern Ontario’s premiere fan convention\, bringing together lovers of sci-fi\, fantasy\, gaming\, comics\, anime\, and pop culture for an unforgettable celebration of fandom. A volunteer-run\, not-for-profit organization\, ThunderCon is dedicated to creating a safe\, inclusive\, and exciting space where fans can connect\, learn\, and have fun. \nFrom celebrity guests and panels to cosplay competitions and gaming zones\, ThunderCon is an adventure built for fans\, by fans. \n🌐 More info: ThunderCon.ca
URL:https://www.waterfrontdistrict.ca/event/thundercon-drag-show-2025-at-black-pirates-pub/
LOCATION:Black Pirates Pub\, 215 Red River Rd\, Suite 101\, Thunder Bay\, ON\, Canada
END:VEVENT
BEGIN:VEVENT
DTSTART;TZID=America/Halifax:20250920T203000
DTEND;TZID=America/Halifax:20250920T203000
DTSTAMP:20260420T043854
CREATED:20250918T150332Z
LAST-MODIFIED:20250918T150354Z
UID:7206-1758400200-1758400200@www.waterfrontdistrict.ca
SUMMARY:Sober Karaoke Night at Howl at the Moon
DESCRIPTION:Karaoke Tuesdays\, Thursdays\, and Saturdays at Howl! \n830pm to midnight\n$5 cover
URL:https://www.waterfrontdistrict.ca/event/sober-karaoke-night-at-howl-at-the-moon-4/
LOCATION:Howl at The Moon Dry Bar\, 8 Cumberland st S\, Thunder Bay
END:VEVENT
BEGIN:VEVENT
DTSTART;TZID=America/Halifax:20250920T200000
DTEND;TZID=America/Halifax:20250920T213000
DTSTAMP:20260420T043854
CREATED:20250918T150113Z
LAST-MODIFIED:20250918T150113Z
UID:7204-1758398400-1758403800@www.waterfrontdistrict.ca
SUMMARY:Martha Chaves at the Paramount Theatre
DESCRIPTION:MARTHA CHAVES: Martha is an award-winning comedian\, writer\, and actor whose career spans over two decades. Now Magazine described her as “smart\, sassy\, provocative\, and very funny.” \nMartha has appeared multiple times at the prestigious Just For Laughs Festival\, the Winnipeg Comedy Festival\, and the We Are Funny That Way Festival\, to name a few. \nMartha describes herself as the “most famous Nicaraguan-Canadian LGBTQ+ stand-up comedian in the world\,” but despite being an act of such a unique nature\, she’s hilariously relatable\, universally funny and accessible. \nShe tours from coast-to-coast as a headliner for Yuk-Yuks (Canada’s premiere chain of comedy clubs) and is also in high demand for corporate performances\, conferences\, and speaking engagements. \nShe can frequently be heard on CBC’s The Debaters and Laugh Out Loud. She is a regular panelist on the popular CBC show Because News. \nMartha also starred in two TV specials which were broadcast nationally: Comics! on CBC and Something About Martha on CTV and the Comedy Network. \nMartha was named 2018’s Stand-up Comic of the Year by the Canadian Comedy Awards after being nominated seven years in a row\, and her CD CHUNKY SALSA was included in a list of 2019’s best comedy records. \nDuring the pandemic\, she created a multi-media piece Living ‘La Covida Loca\, which premiered online at The Hillside Festival. She also created “Beyond the Mask\,” another multi-media piece that was featured in “Caminos” as part of the Aluna Theatre Festival 2021 program. In 2022\, she was asked to perform at the Stratford Festival. \nAs a playwright\, Martha has written and acted in several successful one-woman shows. “Staying Alive” and “In Times of Trouble” were featured in the Soulo Festival and the Aluna Theatre Festival in Toronto\, respectively. “The Diaries of a Young Lezbo” premiered at SOLOCOM in New York. \nHosted By: Mark Menei \nPlus several opening acts \nSponsors: \n\nOn The Links\nMatt Carr Repair\n\nDoors open @ 730PM \nShow starts @ 8PM \nRecommended for mature audiences due to adult content. 16+ \nFor event updates follow Campfire Comedy on social media or visit us at www.campfirecomedy.ca
URL:https://www.waterfrontdistrict.ca/event/martha-chaves-at-the-paramount-theatre/
LOCATION:Paramount Live\, 24 Court St S\, Thunder Bay
END:VEVENT
BEGIN:VEVENT
DTSTART;TZID=America/Halifax:20250920T150000
DTEND;TZID=America/Halifax:20250920T210000
DTSTAMP:20260420T043854
CREATED:20250918T143627Z
LAST-MODIFIED:20250918T143627Z
UID:7202-1758380400-1758402000@www.waterfrontdistrict.ca
SUMMARY:Vinyl Saturdays at Red Lion Smokehouse
DESCRIPTION:Dust off your records ’cause every Saturday you can be your own DJ and spin your favourite tunes on Red Lion Smokehouse’s house record player for “Bring Your Own Vinyl Saturday” \nDon’t have a record? Peruse the house crate and take the playlist into your own hands\, or better yet\, pop over to The Vinyl Frontier located right next door to Red Lion and start your own collection.
URL:https://www.waterfrontdistrict.ca/event/vinyl-saturdays-at-red-lion-smokehouse-6/
LOCATION:Red Lion Smokehouse\, 16 Cumberland St S\, Thunder Bay\, ON\, 16 Cumberland St S\, Canada
END:VEVENT
BEGIN:VEVENT
DTSTART;TZID=America/Halifax:20250919T230000
DTEND;TZID=America/Halifax:20250919T230000
DTSTAMP:20260420T043854
CREATED:20250918T020255Z
LAST-MODIFIED:20250918T020317Z
UID:7199-1758322800-1758322800@www.waterfrontdistrict.ca
SUMMARY:Pocket After Dark
DESCRIPTION:No Cover // 19+
URL:https://www.waterfrontdistrict.ca/event/pocket-after-dark-23/
LOCATION:Pocketchange Bar\, 234 Red River Rd\, Thunder Bay\, ON\, P7B 1A6\, Canada
END:VEVENT
BEGIN:VEVENT
DTSTART;TZID=America/Halifax:20250919T220000
DTEND;TZID=America/Halifax:20250919T220000
DTSTAMP:20260420T043854
CREATED:20250918T020119Z
LAST-MODIFIED:20250918T020131Z
UID:7197-1758319200-1758319200@www.waterfrontdistrict.ca
SUMMARY:Traffic Light Party at NV Music Hall
DESCRIPTION:🚦 TRAFFIC LIGHT PARTY IS BACK! 🚦\nThe rules are simple:\n🔴 Red = Taken ❤️\n🟡 Yellow = Ask Me 💛\n🟢 Green = Single & Ready 💚 \nNo more guessing games—just show your color and let the night decide 😉 \nThis is the party where the city comes alive\, where new faces meet familiar ones\, and where the energy stays high all night long! Expect nothing but good vibes\, non-stop music\, and the wildest crowd in town. \n⚠️ We hit capacity every single year\, so don’t play yourself—come early to secure your spot. \n✨ Event Details:\n🕙 Doors open 10PM sharp\n🎟️ NVMUSICHALL.COM\n🍹 $5 drinks special all night after\n🎶 Music powered by @djsupaofficial keeping you moving till close \nTICKETS HERE
URL:https://www.waterfrontdistrict.ca/event/traffic-light-party-at-nv-music-hall/
LOCATION:NV Music Hall\, 228 Red River Rd\, Thunder Bay\, ON\, Canada
END:VEVENT
BEGIN:VEVENT
DTSTART;TZID=America/Halifax:20250919T220000
DTEND;TZID=America/Halifax:20250919T220000
DTSTAMP:20260420T043854
CREATED:20250918T015803Z
LAST-MODIFIED:20250918T015833Z
UID:7195-1758319200-1758319200@www.waterfrontdistrict.ca
SUMMARY:V3nom Live at The Foundry
DESCRIPTION:FRIDAY\, SEPT 19 – V3NOM HITS THE FOUNDRY 🎸⚡Thunder Bay’s V3nom is bringing the heavy to The Foundry — big riffs\, pounding drums\, and a crowd that’s ready to lose it. This is your late-night hard rock fix. \n📍 The Foundry – Thunder Bay\, ON🕙 Music at 10PM💵 $5 Cover | 19+ \nV3nom
URL:https://www.waterfrontdistrict.ca/event/v3nom-live-at-the-foundry-2/
LOCATION:The Foundry\, 242 Red River Road\, Thunder Bay\, Ontario\, p7b1a6\, Canada
END:VEVENT
BEGIN:VEVENT
DTSTART;TZID=America/Halifax:20250919T220000
DTEND;TZID=America/Halifax:20250919T220000
DTSTAMP:20260420T043854
CREATED:20250918T015548Z
LAST-MODIFIED:20250918T015607Z
UID:7193-1758319200-1758319200@www.waterfrontdistrict.ca
SUMMARY:Karaoke live at The Waterhouse
DESCRIPTION:Karaoke every Thursday and Friday night at the Waterhouse!
URL:https://www.waterfrontdistrict.ca/event/karaoke-live-at-the-waterhouse-12/
LOCATION:Waterhouse\, 9 Cumberland St S\, Thunder Bay\, ON\, P7B 2T1
END:VEVENT
BEGIN:VEVENT
DTSTART;TZID=America/Halifax:20250919T210000
DTEND;TZID=America/Halifax:20250919T210000
DTSTAMP:20260420T043854
CREATED:20250918T014802Z
LAST-MODIFIED:20250918T015242Z
UID:7191-1758315600-1758315600@www.waterfrontdistrict.ca
SUMMARY:Live Music Friday ft Bill Savage at Red Lion
DESCRIPTION:
URL:https://www.waterfrontdistrict.ca/event/live-music-friday-ft-bill-savage-at-red-lion/
LOCATION:Red Lion Smokehouse\, 16 Cumberland St S\, Thunder Bay\, ON\, 16 Cumberland St S\, Canada
END:VEVENT
END:VCALENDAR