BEGIN:VCALENDAR
VERSION:2.0
PRODID:-//Waterfront District BIA - ECPv6.15.20//NONSGML v1.0//EN
CALSCALE:GREGORIAN
METHOD:PUBLISH
X-WR-CALNAME:Waterfront District BIA
X-ORIGINAL-URL:https://www.waterfrontdistrict.ca
X-WR-CALDESC:Events for Waterfront District BIA
REFRESH-INTERVAL;VALUE=DURATION:PT1H
X-Robots-Tag:noindex
X-PUBLISHED-TTL:PT1H
BEGIN:VTIMEZONE
TZID:America/Halifax
BEGIN:DAYLIGHT
TZOFFSETFROM:-0400
TZOFFSETTO:-0300
TZNAME:ADT
DTSTART:20240310T060000
END:DAYLIGHT
BEGIN:STANDARD
TZOFFSETFROM:-0300
TZOFFSETTO:-0400
TZNAME:AST
DTSTART:20241103T050000
END:STANDARD
BEGIN:DAYLIGHT
TZOFFSETFROM:-0400
TZOFFSETTO:-0300
TZNAME:ADT
DTSTART:20250309T060000
END:DAYLIGHT
BEGIN:STANDARD
TZOFFSETFROM:-0300
TZOFFSETTO:-0400
TZNAME:AST
DTSTART:20251102T050000
END:STANDARD
BEGIN:DAYLIGHT
TZOFFSETFROM:-0400
TZOFFSETTO:-0300
TZNAME:ADT
DTSTART:20260308T060000
END:DAYLIGHT
BEGIN:STANDARD
TZOFFSETFROM:-0300
TZOFFSETTO:-0400
TZNAME:AST
DTSTART:20261101T050000
END:STANDARD
END:VTIMEZONE
BEGIN:VEVENT
DTSTART;TZID=America/Halifax:20250803T130000
DTEND;TZID=America/Halifax:20250803T170000
DTSTAMP:20260420T000528
CREATED:20250728T152805Z
LAST-MODIFIED:20250728T152805Z
UID:6873-1754226000-1754240400@www.waterfrontdistrict.ca
SUMMARY:Sober Matinee Karaoke
DESCRIPTION:Sunday Afternoons 1pm to 5pm!
URL:https://www.waterfrontdistrict.ca/event/sober-matinee-karaoke-5/
LOCATION:Howl at The Moon Dry Bar\, 8 Cumberland st S\, Thunder Bay
END:VEVENT
BEGIN:VEVENT
DTSTART;TZID=America/Halifax:20250806T180000
DTEND;TZID=America/Halifax:20250806T210000
DTSTAMP:20260420T000528
CREATED:20250513T154659Z
LAST-MODIFIED:20250513T154659Z
UID:6415-1754503200-1754514000@www.waterfrontdistrict.ca
SUMMARY:Live on the Waterfront Wednesdays
DESCRIPTION:Live on the Waterfront is a highly anticipated 8-part concert series that takes place every Wednesday evening during the summer season at Prince Arthur’s Landing\, Marina Park that featuring an impressive lineup of musical acts! Come out every Wednesday this summer at Marina Park\, starting on July 16th till August 20th. PLUS the Summer Send Off\, two back-to-back days\, August 27 and 28\, at Marina Park.
URL:https://www.waterfrontdistrict.ca/event/live-on-the-waterfront-wednesdays-4/
LOCATION:Marina Park\, Thunder Bay\, ON\, Canada
CATEGORIES:Concert,Event
END:VEVENT
BEGIN:VEVENT
DTSTART;TZID=America/Halifax:20250807T220000
DTEND;TZID=America/Halifax:20250807T220000
DTSTAMP:20260420T000528
CREATED:20250806T171314Z
LAST-MODIFIED:20250806T172005Z
UID:6901-1754604000-1754604000@www.waterfrontdistrict.ca
SUMMARY:Karaoke
DESCRIPTION:
URL:https://www.waterfrontdistrict.ca/event/karaoke-18/
LOCATION:Waterhouse\, 9 Cumberland St S\, Thunder Bay\, ON\, P7B 2T1
END:VEVENT
BEGIN:VEVENT
DTSTART;TZID=America/Halifax:20250807T190000
DTEND;TZID=America/Halifax:20250807T220000
DTSTAMP:20260420T000528
CREATED:20250806T165140Z
LAST-MODIFIED:20250806T165140Z
UID:6893-1754593200-1754604000@www.waterfrontdistrict.ca
SUMMARY:Open Mic Night
DESCRIPTION:What’s Open Mic Night all about? Fresh beer\, delicious food\, local talent\, and good vibes.🙌 \nDiscover new local talent every Thursday from 7:30-10pm in the taproom or sign up at the bar and perform for a free beverage! \nNo experience needed\, we’re here to cheer you on. \nTaproom open 4pm-11pm Thursday!🍻 \n**All ages / guardian supervision is mandatory for minors
URL:https://www.waterfrontdistrict.ca/event/open-mic-night-6/
LOCATION:Lakehead Beer Co\, 206 Park Ave\, Thunder Bay
END:VEVENT
BEGIN:VEVENT
DTSTART;TZID=America/Halifax:20250807T200000
DTEND;TZID=America/Halifax:20250807T230000
DTSTAMP:20260420T000528
CREATED:20250806T170057Z
LAST-MODIFIED:20250806T170057Z
UID:6895-1754596800-1754607600@www.waterfrontdistrict.ca
SUMMARY:Open Mic Comedy
DESCRIPTION:OPEN MIC THURSDAYS @ THE FOUNDRY\n*see poster for exact dates* \nJoin us at The Foundry (242 Red River Rd) for Open Mic Comedy Thursdays to either perform or watch local touring comedians work on material. Pros\, amateurs and first-timers are all welcome! *NO COVER* \nOpen Mic Comedy 9-11PM
URL:https://www.waterfrontdistrict.ca/event/open-mic-comedy-2/
LOCATION:The Foundry\, 242 Red River Road\, Thunder Bay\, Ontario\, p7b1a6\, Canada
END:VEVENT
BEGIN:VEVENT
DTSTART;TZID=America/Halifax:20250807T210000
DTEND;TZID=America/Halifax:20250807T210000
DTSTAMP:20260420T000528
CREATED:20250806T170358Z
LAST-MODIFIED:20250806T170419Z
UID:6897-1754600400-1754600400@www.waterfrontdistrict.ca
SUMMARY:Sober Karaoke
DESCRIPTION:THURSDAYS & SATURDAYS are KARAOKE NIGHT\nKaraoke starts @ 9pm\n5$
URL:https://www.waterfrontdistrict.ca/event/sober-karaoke-10/
LOCATION:Howl at The Moon Dry Bar\, 8 Cumberland st S\, Thunder Bay
END:VEVENT
BEGIN:VEVENT
DTSTART;TZID=America/Halifax:20250807T210000
DTEND;TZID=America/Halifax:20250807T210000
DTSTAMP:20260420T000528
CREATED:20250806T171013Z
LAST-MODIFIED:20250806T171030Z
UID:6899-1754600400-1754600400@www.waterfrontdistrict.ca
SUMMARY:Karaoke
DESCRIPTION:Karaoke at the Cantina Every Thursday night.\nNo cover. \nShow Starts 9PM at Nortenos Cantina.
URL:https://www.waterfrontdistrict.ca/event/karaoke-17/
LOCATION:Nortenos Cantina\, 235 Red River Rd\, Thunder Bay\, ON\, Canada
END:VEVENT
BEGIN:VEVENT
DTSTART;TZID=America/Halifax:20250808T180000
DTEND;TZID=America/Halifax:20250808T210000
DTSTAMP:20260420T000528
CREATED:20250806T171905Z
LAST-MODIFIED:20250806T171905Z
UID:6903-1754676000-1754686800@www.waterfrontdistrict.ca
SUMMARY:Jazz and Old Fashioned Fridays ft. Mood Indigo
DESCRIPTION:Don’t miss the spectacular scenery\, smooth jazz and incredibly crafted cocktails and food at Anchor & Ore in The Delta Hotel with Mood Indigo!
URL:https://www.waterfrontdistrict.ca/event/jazz-and-old-fashioned-fridays-ft-mood-indigo-5/
LOCATION:Anchor & Ore\, 2240 Sleeping Giant Pkwy\, Thunder Bay\, ON\, Canada
END:VEVENT
BEGIN:VEVENT
DTSTART;TZID=America/Halifax:20250808T180000
DTEND;TZID=America/Halifax:20250808T220000
DTSTAMP:20260420T000528
CREATED:20250806T172158Z
LAST-MODIFIED:20250806T172158Z
UID:6905-1754676000-1754690400@www.waterfrontdistrict.ca
SUMMARY:Late Night Food Alley ft DJ Ducktail
DESCRIPTION:Late Night Food Alley on Fridays!!! Come grab a bite from our in house restaurants\, grab a drink at @thewoodsidebar and enjoy music by DJ @_ducktail See you there
URL:https://www.waterfrontdistrict.ca/event/late-night-food-alley-ft-dj-ducktail-5/
LOCATION:Goods and co\, 251 Red River Rd\, Thunder Bay\, Ontario\, P7B 1A7\, Canada
END:VEVENT
BEGIN:VEVENT
DTSTART;TZID=America/Halifax:20250808T210000
DTEND;TZID=America/Halifax:20250808T210000
DTSTAMP:20260420T000528
CREATED:20250806T172402Z
LAST-MODIFIED:20250806T172429Z
UID:6907-1754686800-1754686800@www.waterfrontdistrict.ca
SUMMARY:Alien to the Ignorant (Saskatoon\, SK) w/ Along the Lines and Coyote Switchblade
DESCRIPTION:Alien to the Ignorant are back at the pub! Post-Hardcore from Saskatoon\, SK! These guys rip\, and put on a great show.\nLocal support from Along the Lines and Coyote Switchblade. \n19+\, $15 at the door. Doors at 9pm\, Show at 10pm
URL:https://www.waterfrontdistrict.ca/event/alien-to-the-ignorant-saskatoon-sk-w-along-the-lines-and-coyote-switchblade/
LOCATION:Black Pirates Pub\, 215 Red River Rd\, Suite 101\, Thunder Bay\, ON\, Canada
END:VEVENT
BEGIN:VEVENT
DTSTART;TZID=America/Halifax:20250808T220000
DTEND;TZID=America/Halifax:20250808T220000
DTSTAMP:20260420T000528
CREATED:20250806T172635Z
LAST-MODIFIED:20250806T172700Z
UID:6909-1754690400-1754690400@www.waterfrontdistrict.ca
SUMMARY:Karaoke
DESCRIPTION:Karaoke every Thursday and Friday night at the Waterhouse!
URL:https://www.waterfrontdistrict.ca/event/karaoke-19/
LOCATION:Waterhouse\, 9 Cumberland St S\, Thunder Bay\, ON\, P7B 2T1
END:VEVENT
BEGIN:VEVENT
DTSTART;TZID=America/Halifax:20250808T220000
DTEND;TZID=America/Halifax:20250808T220000
DTSTAMP:20260420T000528
CREATED:20250806T173230Z
LAST-MODIFIED:20250806T173311Z
UID:6917-1754690400-1754690400@www.waterfrontdistrict.ca
SUMMARY:Country Night Ft Back Forty
DESCRIPTION:COUNTRY NIGHT IS BACK @ THE FOUNDRY 🤠Back Forty is bringing their high-powered country sound to the stage this Friday.Whether you two-step or just shout along\, this is where your Saturday starts. \nDetails:📍 The Foundry🕙 10PM🎟️ $5 at the door🔞 19+ only \nTell your friends. Wear your boots. Let’s get rowdy. \n#BackForty #powercountry #supportlocalmusic #thunderbay
URL:https://www.waterfrontdistrict.ca/event/country-night-ft-back-forty/
LOCATION:The Foundry\, 242 Red River Road\, Thunder Bay\, Ontario\, p7b1a6\, Canada
END:VEVENT
BEGIN:VEVENT
DTSTART;TZID=America/Halifax:20250808T220000
DTEND;TZID=America/Halifax:20250808T220000
DTSTAMP:20260420T000528
CREATED:20250806T173623Z
LAST-MODIFIED:20250806T173659Z
UID:6919-1754690400-1754690400@www.waterfrontdistrict.ca
SUMMARY:V3nom takes over Nortenos Cantina
DESCRIPTION:We are FINALLY bringing the party back to Nortenos this Friday the 8th!!! Come for the Tacos and Tequila…. STAY FOR THE ROCK!!! 🤘🏻🌮🕺
URL:https://www.waterfrontdistrict.ca/event/v3nom-takes-over-nortenos-cantina/
LOCATION:Nortenos Cantina\, 235 Red River Rd\, Thunder Bay\, ON\, Canada
END:VEVENT
BEGIN:VEVENT
DTSTART;TZID=America/Halifax:20250808T230000
DTEND;TZID=America/Halifax:20250808T230000
DTSTAMP:20260420T000528
CREATED:20250806T173849Z
LAST-MODIFIED:20250806T173914Z
UID:6921-1754694000-1754694000@www.waterfrontdistrict.ca
SUMMARY:Pocket After Dark
DESCRIPTION:No Cover // 19+
URL:https://www.waterfrontdistrict.ca/event/pocket-after-dark-11/
LOCATION:Pocketchange Bar\, 234 Red River Rd\, Thunder Bay\, ON\, P7B 1A6\, Canada
END:VEVENT
BEGIN:VEVENT
DTSTART;VALUE=DATE:20250809
DTEND;VALUE=DATE:20250810
DTSTAMP:20260420T000528
CREATED:20250513T164243Z
LAST-MODIFIED:20250513T164243Z
UID:6479-1754697600-1754783999@www.waterfrontdistrict.ca
SUMMARY:Cruise Ship
DESCRIPTION:
URL:https://www.waterfrontdistrict.ca/event/cruise-ship-12/
LOCATION:POOL 6 Dock
CATEGORIES:Cruise Ship Arrival
END:VEVENT
BEGIN:VEVENT
DTSTART;TZID=America/Halifax:20250809T150000
DTEND;TZID=America/Halifax:20250809T210000
DTSTAMP:20260420T000528
CREATED:20250806T175252Z
LAST-MODIFIED:20250806T175252Z
UID:6923-1754751600-1754773200@www.waterfrontdistrict.ca
SUMMARY:Vinyl Saturdays
DESCRIPTION:Dust off your records ’cause every Saturday you can be your own DJ and spin your favourite tunes on Red Lion Smokehouse’s house record player for “Bring Your Own Vinyl Saturday”\nDon’t have a record? Peruse the house crate and take the playlist into your own hands\, or better yet\, pop over to The Vinyl Frontier located right next door to Red Lion and start your own collection.
URL:https://www.waterfrontdistrict.ca/event/vinyl-saturdays-5/
LOCATION:Red Lion Smokehouse\, 16 Cumberland St S\, Thunder Bay\, ON\, 16 Cumberland St S\, Canada
END:VEVENT
BEGIN:VEVENT
DTSTART;TZID=America/Halifax:20250809T210000
DTEND;TZID=America/Halifax:20250809T210000
DTSTAMP:20260420T000528
CREATED:20250806T175608Z
LAST-MODIFIED:20250806T175622Z
UID:6925-1754773200-1754773200@www.waterfrontdistrict.ca
SUMMARY:Sober Karaoke
DESCRIPTION:THURSDAYS & SATURDAYS are KARAOKE NIGHT\nKaraoke starts @ 9pm\n5$
URL:https://www.waterfrontdistrict.ca/event/sober-karaoke-11/
LOCATION:Howl at The Moon Dry Bar\, 8 Cumberland st S\, Thunder Bay
END:VEVENT
BEGIN:VEVENT
DTSTART;TZID=America/Halifax:20250809T210000
DTEND;TZID=America/Halifax:20250809T210000
DTSTAMP:20260420T000528
CREATED:20250806T175853Z
LAST-MODIFIED:20250806T175911Z
UID:6927-1754773200-1754773200@www.waterfrontdistrict.ca
SUMMARY:Thru It All (Pop-Punk from Oklahoma) w/ Locals
DESCRIPTION:Thru It All (Oklahoma Pop-Punk) Live in Thunder Bay – Aug 9 at Black Pirates Pub \nPop-punk lives loud in Thunder Bay this summer!Thru It All — the high-energy\, hook-heavy pop-punk band from Oklahoma — hits Black Pirates Pub on Friday\, August 9. \nJoining them on stage: some of Thunder Bay’s finest local openers (TBA soon). \nShow Details:📍 Black Pirates Pub\, Thunder Bay🕘 9PM start🔞 19+ event🎟️ Tickets at the door \nIf you like big choruses\, fast riffs\, and shout-along breakdowns — this is your night. \n#thunderbay #supportlocalmusic #BlackPiratesPub
URL:https://www.waterfrontdistrict.ca/event/thru-it-all-pop-punk-from-oklahoma-w-locals/
LOCATION:Black Pirates Pub\, 215 Red River Rd\, Suite 101\, Thunder Bay\, ON\, Canada
END:VEVENT
BEGIN:VEVENT
DTSTART;TZID=America/Halifax:20250809T220000
DTEND;TZID=America/Halifax:20250809T220000
DTSTAMP:20260420T000528
CREATED:20250806T180214Z
LAST-MODIFIED:20250806T180228Z
UID:6929-1754776800-1754776800@www.waterfrontdistrict.ca
SUMMARY:DJ Rogue + DJ Tanz live at the Foundry
DESCRIPTION:Get ready\, Thunder Bay — DJ Rogue and DJ Tanz are back on the decks this Saturday with a full night of high-energy beats and deep cuts. Whether you’re into hip-hop\, throwbacks\, or late-night banger! \nExpect a packed floor\, sweaty vibes\, and zero skips. \nDetails:📍 The Foundry🕙 10PM🎟️ $5 at the door🔞 19+ only \nBring the crew. Dress loose. Dance hard. \n#TBShows #SupportLocalMusic #thunderbay
URL:https://www.waterfrontdistrict.ca/event/dj-rogue-dj-tanz-live-at-the-foundry/
LOCATION:The Foundry\, 242 Red River Road\, Thunder Bay\, Ontario\, p7b1a6\, Canada
END:VEVENT
BEGIN:VEVENT
DTSTART;TZID=America/Halifax:20250809T230000
DTEND;TZID=America/Halifax:20250809T230000
DTSTAMP:20260420T000528
CREATED:20250806T180408Z
LAST-MODIFIED:20250806T180423Z
UID:6931-1754780400-1754780400@www.waterfrontdistrict.ca
SUMMARY:Pocket After Dark
DESCRIPTION:No Cover // 19+
URL:https://www.waterfrontdistrict.ca/event/pocket-after-dark-12/
LOCATION:Pocketchange Bar\, 234 Red River Rd\, Thunder Bay\, ON\, P7B 1A6\, Canada
END:VEVENT
BEGIN:VEVENT
DTSTART;TZID=America/Halifax:20250810T120000
DTEND;TZID=America/Halifax:20250810T133000
DTSTAMP:20260420T000528
CREATED:20250806T181555Z
LAST-MODIFIED:20250806T181646Z
UID:6935-1754827200-1754832600@www.waterfrontdistrict.ca
SUMMARY:National Lazy Day Brunch
DESCRIPTION:
URL:https://www.waterfrontdistrict.ca/event/national-lazy-day-brunch/
LOCATION:Portside Restaurant\, 17 Cumberland St N\, Thunder BAY\, Ontario\, P7B 2T1
END:VEVENT
BEGIN:VEVENT
DTSTART;TZID=America/Halifax:20250810T130000
DTEND;TZID=America/Halifax:20250810T170000
DTSTAMP:20260420T000528
CREATED:20250806T181101Z
LAST-MODIFIED:20250806T181101Z
UID:6933-1754830800-1754845200@www.waterfrontdistrict.ca
SUMMARY:Sober Matinee Karaoke
DESCRIPTION:
URL:https://www.waterfrontdistrict.ca/event/sober-matinee-karaoke-6/
LOCATION:Howl at The Moon Dry Bar\, 8 Cumberland st S\, Thunder Bay
END:VEVENT
BEGIN:VEVENT
DTSTART;VALUE=DATE:20250812
DTEND;VALUE=DATE:20250814
DTSTAMP:20260420T000528
CREATED:20250513T164324Z
LAST-MODIFIED:20250513T164324Z
UID:6481-1754956800-1755129599@www.waterfrontdistrict.ca
SUMMARY:Cruise Ship
DESCRIPTION:
URL:https://www.waterfrontdistrict.ca/event/cruise-ship-13/
LOCATION:POOL 6 Dock
CATEGORIES:Cruise Ship Arrival
END:VEVENT
BEGIN:VEVENT
DTSTART;TZID=America/Halifax:20250813T180000
DTEND;TZID=America/Halifax:20250813T210000
DTSTAMP:20260420T000528
CREATED:20250513T154744Z
LAST-MODIFIED:20250513T154744Z
UID:6417-1755108000-1755118800@www.waterfrontdistrict.ca
SUMMARY:Live on the Waterfront Wednesdays
DESCRIPTION:Live on the Waterfront is a highly anticipated 8-part concert series that takes place every Wednesday evening during the summer season at Prince Arthur’s Landing\, Marina Park that featuring an impressive lineup of musical acts! Come out every Wednesday this summer at Marina Park\, starting on July 16th till August 20th. PLUS the Summer Send Off\, two back-to-back days\, August 27 and 28\, at Marina Park.
URL:https://www.waterfrontdistrict.ca/event/live-on-the-waterfront-wednesdays-5/
LOCATION:Marina Park\, Thunder Bay\, ON\, Canada
CATEGORIES:Concert,Event
END:VEVENT
BEGIN:VEVENT
DTSTART;TZID=America/Halifax:20250814T190000
DTEND;TZID=America/Halifax:20250814T220000
DTSTAMP:20260420T000528
CREATED:20250811T151232Z
LAST-MODIFIED:20250811T151232Z
UID:6939-1755198000-1755208800@www.waterfrontdistrict.ca
SUMMARY:Open Mic Night at Lakehead Co
DESCRIPTION:What’s Open Mic Night all about? Fresh beer\, delicious food\, local talent\, and good vibes.🙌 \nDiscover new local talent every Thursday from 7:30-10pm in the taproom or sign up at the bar and perform for a free beverage! \nNo experience needed\, we’re here to cheer you on. \nTaproom open 4pm-11pm Thursday!🍻 \n**All ages / guardian supervision is mandatory for minors
URL:https://www.waterfrontdistrict.ca/event/open-mic-night-at-lakehead-co/
LOCATION:Lakehead Beer Co\, 206 Park Ave\, Thunder Bay
END:VEVENT
BEGIN:VEVENT
DTSTART;TZID=America/Halifax:20250814T200000
DTEND;TZID=America/Halifax:20250814T233000
DTSTAMP:20260420T000528
CREATED:20250811T152234Z
LAST-MODIFIED:20250811T152234Z
UID:6941-1755201600-1755214200@www.waterfrontdistrict.ca
SUMMARY:Ripcordz (All Ages) w/ Amp Up and Lily Taylor
DESCRIPTION:RIPCORDZ is back for an encore performace on their 2025 Canadian Tour\, but this one is ALL AGES! Don’t miss these legendary Montreal Punk Rocker’s as they blast through here on Thursday\, August 14th! \nJoining the bill are locals AMP UP and LILY TAYLOR\n$20 at the door\, All Ages. Doors at 8pm\, Show at 830pm
URL:https://www.waterfrontdistrict.ca/event/ripcordz-all-ages-w-amp-up-and-lily-taylor/
LOCATION:Black Pirates Pub\, 215 Red River Rd\, Suite 101\, Thunder Bay\, ON\, Canada
END:VEVENT
BEGIN:VEVENT
DTSTART;TZID=America/Halifax:20250814T200000
DTEND;TZID=America/Halifax:20250814T233000
DTSTAMP:20260420T000528
CREATED:20250811T152749Z
LAST-MODIFIED:20250811T152749Z
UID:6943-1755201600-1755214200@www.waterfrontdistrict.ca
SUMMARY:Vape Dealer and Son Hound at The Foundry
DESCRIPTION:VAPE DEALER x SON HOUND\n🚨 HEAVY HITS AT THE FOUNDRY 🚨 \nThursday\, August 14th – 8PM \nTwo loud-as-hell bands are firing up the stacks at The Foundry for a night of downtuned chaos and fuzz-drenched grooves: \n🔥VAPE DEALER: Riff merchants from the north delivering sludgy hooks\, pounding drums\, and no-bullshit heaviness. \n⚡SON HOUND: Gritty and raw\, soaked in reverb and ready to blow the walls out with thick\, snarling tone. \nExpect big amps\, slow riffs\, and zero filler. This is a rock show for the lifers\, the fuzz freaks\, the late-night lurchers. \n$5 at the door // 19+ // Doors at 8PM\nThe Foundry – 242 Red River Rd\nCome early\, stay loud.
URL:https://www.waterfrontdistrict.ca/event/vape-dealer-and-son-hound-at-the-foundry/
LOCATION:The Foundry\, 242 Red River Road\, Thunder Bay\, Ontario\, p7b1a6\, Canada
END:VEVENT
BEGIN:VEVENT
DTSTART;TZID=America/Halifax:20250814T210000
DTEND;TZID=America/Halifax:20250814T210000
DTSTAMP:20260420T000528
CREATED:20250811T153313Z
LAST-MODIFIED:20250811T153329Z
UID:6945-1755205200-1755205200@www.waterfrontdistrict.ca
SUMMARY:Sober Karaoke
DESCRIPTION:THURSDAYS & SATURDAYS are KARAOKE NIGHT\nKaraoke starts @ 9pm\n5$
URL:https://www.waterfrontdistrict.ca/event/sober-karaoke-12/
LOCATION:Howl at The Moon Dry Bar\, 8 Cumberland st S\, Thunder Bay
END:VEVENT
BEGIN:VEVENT
DTSTART;TZID=America/Halifax:20250814T210000
DTEND;TZID=America/Halifax:20250814T210000
DTSTAMP:20260420T000528
CREATED:20250811T153546Z
LAST-MODIFIED:20250811T153600Z
UID:6947-1755205200-1755205200@www.waterfrontdistrict.ca
SUMMARY:Karaoke live at Nortenos Cantina
DESCRIPTION:Karaoke at the Cantina Every Thursday night.\nNo cover. \nShow Starts 9PM at Nortenos Cantina.
URL:https://www.waterfrontdistrict.ca/event/karaoke-live-at-nortenos-cantina/
LOCATION:Nortenos Cantina\, 235 Red River Rd\, Thunder Bay\, ON\, Canada
END:VEVENT
BEGIN:VEVENT
DTSTART;TZID=America/Halifax:20250814T220000
DTEND;TZID=America/Halifax:20250814T220000
DTSTAMP:20260420T000528
CREATED:20250811T153736Z
LAST-MODIFIED:20250811T153955Z
UID:6949-1755208800-1755208800@www.waterfrontdistrict.ca
SUMMARY:Karaoke live at The Waterhouse
DESCRIPTION:
URL:https://www.waterfrontdistrict.ca/event/karaoke-live-at-the-waterhouse/
LOCATION:Waterhouse\, 9 Cumberland St S\, Thunder Bay\, ON\, P7B 2T1
END:VEVENT
END:VCALENDAR