BEGIN:VCALENDAR
VERSION:2.0
PRODID:-//Waterfront District BIA - ECPv6.15.20//NONSGML v1.0//EN
CALSCALE:GREGORIAN
METHOD:PUBLISH
X-WR-CALNAME:Waterfront District BIA
X-ORIGINAL-URL:https://www.waterfrontdistrict.ca
X-WR-CALDESC:Events for Waterfront District BIA
REFRESH-INTERVAL;VALUE=DURATION:PT1H
X-Robots-Tag:noindex
X-PUBLISHED-TTL:PT1H
BEGIN:VTIMEZONE
TZID:America/Halifax
BEGIN:DAYLIGHT
TZOFFSETFROM:-0400
TZOFFSETTO:-0300
TZNAME:ADT
DTSTART:20240310T060000
END:DAYLIGHT
BEGIN:STANDARD
TZOFFSETFROM:-0300
TZOFFSETTO:-0400
TZNAME:AST
DTSTART:20241103T050000
END:STANDARD
BEGIN:DAYLIGHT
TZOFFSETFROM:-0400
TZOFFSETTO:-0300
TZNAME:ADT
DTSTART:20250309T060000
END:DAYLIGHT
BEGIN:STANDARD
TZOFFSETFROM:-0300
TZOFFSETTO:-0400
TZNAME:AST
DTSTART:20251102T050000
END:STANDARD
BEGIN:DAYLIGHT
TZOFFSETFROM:-0400
TZOFFSETTO:-0300
TZNAME:ADT
DTSTART:20260308T060000
END:DAYLIGHT
BEGIN:STANDARD
TZOFFSETFROM:-0300
TZOFFSETTO:-0400
TZNAME:AST
DTSTART:20261101T050000
END:STANDARD
END:VTIMEZONE
BEGIN:VEVENT
DTSTART;TZID=America/Halifax:20250905T220000
DTEND;TZID=America/Halifax:20250905T220000
DTSTAMP:20260420T014134
CREATED:20250904T143449Z
LAST-MODIFIED:20250904T143519Z
UID:7093-1757109600-1757109600@www.waterfrontdistrict.ca
SUMMARY:Thirsty Monks Live at The Foundry
DESCRIPTION:FRIDAY\, SEPT 4 – FUNK NIGHT AT THE FOUNDRY 🎷🍻Thunder Bay funk kings Thirsty Monks are taking over The Foundry for one sweaty\, groovy night. Get ready for killer bass lines\, brass blasts\, and a crowd that knows how to move. Plus special guests\, The Frequency \n📍 The Foundry – Thunder Bay\, ON🕗 Start 10PM🎟️ 19+ | $5 \nIf you love live music in Thunder Bay\, this is your Friday night plan. Funk\, beer\, friends – what else do you need? \nFacebook.com/thethirstymonksmusic
URL:https://www.waterfrontdistrict.ca/event/thirsty-monks-live-at-the-foundry/
LOCATION:The Foundry\, 242 Red River Road\, Thunder Bay\, Ontario\, p7b1a6\, Canada
END:VEVENT
BEGIN:VEVENT
DTSTART;TZID=America/Halifax:20250905T220000
DTEND;TZID=America/Halifax:20250905T220000
DTSTAMP:20260420T014134
CREATED:20250904T143942Z
LAST-MODIFIED:20250904T144009Z
UID:7095-1757109600-1757109600@www.waterfrontdistrict.ca
SUMMARY:Fusion Fridayz: Neon Galaxy II at NV
DESCRIPTION:📍THUNDER BAY! Get ready for the biggest semester-kickoff club night! \nStep into a world of glowing colors and electric energy at the ultimate Neon Galaxy Party! Get ready to illuminate the night with glow-sticks\, UV paint\, and vibrant beats from Two of Thunder Bay most sought after International DJs who will be blasting hits from across the world all night long. Dive into a night of neon lights\, pulsing music\, and an unforgettable atmosphere where the energy never fades and the party never stops. It’s more than a party—it’s a glowing experience you won’t want to miss! \nTickets: \n$10 – General Admission\n$20 – VIP Admission (Express entry and access to VIP area)\n$150 – VIP Booth (6 VIP tickets\, designated waitress and bottle service with customized sign) \nTICKETS HERE
URL:https://www.waterfrontdistrict.ca/event/fusion-fridayz-neon-galaxy-ii-at-nv/
LOCATION:NV Music Hall\, 228 Red River Rd\, Thunder Bay\, ON\, Canada
END:VEVENT
BEGIN:VEVENT
DTSTART;TZID=America/Halifax:20250906T110000
DTEND;TZID=America/Halifax:20250906T110000
DTSTAMP:20260420T014134
CREATED:20250513T160002Z
LAST-MODIFIED:20250513T160027Z
UID:6433-1757156400-1757156400@www.waterfrontdistrict.ca
SUMMARY:Wake the Giant
DESCRIPTION:Wake the Giant is a cultural awareness project aimed at creating a more welcoming and inclusive city for Indigenous people\, youth and their communities. The music festival is a celebration of all cultures with a focus on Indigenous artists and musicians.
URL:https://www.waterfrontdistrict.ca/event/wake-the-giant-2/
LOCATION:Marina Park\, Thunder Bay\, ON\, Canada
CATEGORIES:Concert,Event
END:VEVENT
BEGIN:VEVENT
DTSTART;TZID=America/Halifax:20250906T150000
DTEND;TZID=America/Halifax:20250906T210000
DTSTAMP:20260420T014134
CREATED:20250904T144734Z
LAST-MODIFIED:20250904T144734Z
UID:7099-1757170800-1757192400@www.waterfrontdistrict.ca
SUMMARY:Vinyl Saturdays at Red Lion Smokehouse
DESCRIPTION:Dust off your records ’cause every Saturday you can be your own DJ and spin your favourite tunes on Red Lion Smokehouse’s house record player for “Bring Your Own Vinyl Saturday” \nDon’t have a record? Peruse the house crate and take the playlist into your own hands\, or better yet\, pop over to The Vinyl Frontier located right next door to Red Lion and start your own collection.
URL:https://www.waterfrontdistrict.ca/event/vinyl-saturdays-at-red-lion-smokehouse-4/
LOCATION:Red Lion Smokehouse\, 16 Cumberland St S\, Thunder Bay\, ON\, 16 Cumberland St S\, Canada
END:VEVENT
BEGIN:VEVENT
DTSTART;TZID=America/Halifax:20250906T210000
DTEND;TZID=America/Halifax:20250906T210000
DTSTAMP:20260420T014134
CREATED:20250904T145042Z
LAST-MODIFIED:20250904T145253Z
UID:7101-1757192400-1757192400@www.waterfrontdistrict.ca
SUMMARY:Sober Karaoke live at Howl at the Moon
DESCRIPTION:THURSDAYS & SATURDAYS are KARAOKE NIGHT\nKaraoke starts @ 9pm\n5$
URL:https://www.waterfrontdistrict.ca/event/sober-karaoke-live-at-howl-at-the-moon-4/
LOCATION:Howl at The Moon Dry Bar\, 8 Cumberland st S\, Thunder Bay
END:VEVENT
BEGIN:VEVENT
DTSTART;TZID=America/Halifax:20250906T210000
DTEND;TZID=America/Halifax:20250906T210000
DTSTAMP:20260420T014134
CREATED:20250904T145541Z
LAST-MODIFIED:20250904T145558Z
UID:7103-1757192400-1757192400@www.waterfrontdistrict.ca
SUMMARY:Back to the Pub Bash – Night 3
DESCRIPTION:BPP is proud to present a smashing 3 nights of local music to kick off the fall this year! 13 bands over 3 nights\, and one ALL AGES show to boot! Here’s the lineup:\n\nThursday\, September 4 – All Ages\, $15Doors open at 730800 – 830 Bathe in Dirt845 – 915 Crooked King930 – 1000 Loughlin1015 – 1045 Kenzie B & The Beefcakes1100 – 1130 Teknosis\n\nFriday\, September 5 – 19+\, $10Doors open at 9pm1000 – 1045 Cartwrights1100 – 1145 Lakeside District1200 – 1245 The Shouldn’ts0100 – 0145 Dual Black\n\nSaturday\, September 6 – 19+\, 10pmDoors open at 9pm1000 – 1045 Darren Foley & The Luminescence1100 – 1145 Brazen Bull1200 – 1245 Along the Lines0100 – 0145 Silence of Death\n\nLook forward to seeing everyone!Support live music!Let’s party!!!\n\nFACEBOOK EVENT
URL:https://www.waterfrontdistrict.ca/event/back-to-the-pub-bash-night-3/
LOCATION:Black Pirates Pub\, 215 Red River Rd\, Suite 101\, Thunder Bay\, ON\, Canada
END:VEVENT
BEGIN:VEVENT
DTSTART;TZID=America/Halifax:20250906T220000
DTEND;TZID=America/Halifax:20250906T220000
DTSTAMP:20260420T014134
CREATED:20250904T145729Z
LAST-MODIFIED:20250904T145743Z
UID:7105-1757196000-1757196000@www.waterfrontdistrict.ca
SUMMARY:Blood Red Moon Live at The Foundry
DESCRIPTION:SATURDAY\, SEPT 6 – BLOOD RED MOON AT THE FOUNDRY 🎸🍺Thunder Bay’s own Blood Red Moon is lighting up The Foundry with a late-night rock set you’ll feel in your bones. Expect heavy riffs\, loud amps\, and a room full of locals ready to throw down. \n📍 The Foundry – Thunder Bay\, ON🕙 Music at 10PM💵 $5 Cover | 19+ \nFacebook.com/bloodredmoonband
URL:https://www.waterfrontdistrict.ca/event/blood-red-moon-live-at-the-foundry/
LOCATION:The Foundry\, 242 Red River Road\, Thunder Bay\, Ontario\, p7b1a6\, Canada
END:VEVENT
BEGIN:VEVENT
DTSTART;TZID=America/Halifax:20250906T230000
DTEND;TZID=America/Halifax:20250906T230000
DTSTAMP:20260420T014134
CREATED:20250904T145957Z
LAST-MODIFIED:20250904T150009Z
UID:7107-1757199600-1757199600@www.waterfrontdistrict.ca
SUMMARY:Pocket After Dark
DESCRIPTION:No Cover // 19+
URL:https://www.waterfrontdistrict.ca/event/pocket-after-dark-20/
LOCATION:Pocketchange Bar\, 234 Red River Rd\, Thunder Bay\, ON\, P7B 1A6\, Canada
END:VEVENT
BEGIN:VEVENT
DTSTART;VALUE=DATE:20250907
DTEND;VALUE=DATE:20250909
DTSTAMP:20260420T014134
CREATED:20250513T171811Z
LAST-MODIFIED:20250513T171811Z
UID:6483-1757203200-1757375999@www.waterfrontdistrict.ca
SUMMARY:Cruise Ship
DESCRIPTION:
URL:https://www.waterfrontdistrict.ca/event/cruise-ship-14/
LOCATION:POOL 6 Dock
CATEGORIES:Cruise Ship Arrival
END:VEVENT
BEGIN:VEVENT
DTSTART;TZID=America/Halifax:20250907T130000
DTEND;TZID=America/Halifax:20250907T170000
DTSTAMP:20260420T014134
CREATED:20250904T150215Z
LAST-MODIFIED:20250904T150237Z
UID:7109-1757250000-1757264400@www.waterfrontdistrict.ca
SUMMARY:Sober Matinee Karaoke at Howl at the Moon
DESCRIPTION:Sunday Afternoons 1pm to 5pm!
URL:https://www.waterfrontdistrict.ca/event/sober-matinee-karaoke-at-howl-at-the-moon-4/
LOCATION:Howl at The Moon Dry Bar\, 8 Cumberland st S\, Thunder Bay
END:VEVENT
BEGIN:VEVENT
DTSTART;TZID=America/Halifax:20250911T190000
DTEND;TZID=America/Halifax:20250911T220000
DTSTAMP:20260420T014134
CREATED:20250910T020455Z
LAST-MODIFIED:20250910T020455Z
UID:7114-1757617200-1757628000@www.waterfrontdistrict.ca
SUMMARY:Open Mic Night at Lakehead Beer Co
DESCRIPTION:What’s Open Mic Night all about? Fresh beer\, delicious food\, local talent\, and good vibes.🙌 \nDiscover new local talent every Thursday from 7:30-10pm in the taproom or sign up at the bar and perform for a free beverage! \nNo experience needed\, we’re here to cheer you on. \nTaproom open 4pm-11pm Thursday!🍻 \n**All ages / guardian supervision is mandatory for minors
URL:https://www.waterfrontdistrict.ca/event/open-mic-night-at-lakehead-beer-co-4/
LOCATION:Lakehead Beer Co\, 206 Park Ave\, Thunder Bay
END:VEVENT
BEGIN:VEVENT
DTSTART;TZID=America/Halifax:20250911T200000
DTEND;TZID=America/Halifax:20250911T233000
DTSTAMP:20260420T014134
CREATED:20250910T021044Z
LAST-MODIFIED:20250910T021044Z
UID:7116-1757620800-1757633400@www.waterfrontdistrict.ca
SUMMARY:Woodhawk w/ Vape Dealer and Son Hound (All Ages)
DESCRIPTION:Heavy hitters WOODHAWK from Calgary are back at the pub! This stoner rock trio brings a hell of a show every time they come through town. You don’t want to miss it. \nLocal support from VAPE DEALER and SON HOUND \nDoors at 8pm\, Show at 830pm\n$15 in advance plus tax and fees\, $20 cash at the door.\nAll Ages/Licenced \nTICKETS HERE
URL:https://www.waterfrontdistrict.ca/event/woodhawk-w-vape-dealer-and-son-hound-all-ages/
LOCATION:Black Pirates Pub\, 215 Red River Rd\, Suite 101\, Thunder Bay\, ON\, Canada
END:VEVENT
BEGIN:VEVENT
DTSTART;TZID=America/Halifax:20250911T203000
DTEND;TZID=America/Halifax:20250911T203000
DTSTAMP:20260420T014134
CREATED:20250910T021324Z
LAST-MODIFIED:20250910T021445Z
UID:7118-1757622600-1757622600@www.waterfrontdistrict.ca
SUMMARY:B!tches Be Funny presents Open Mic Comedy
DESCRIPTION:Doors open at 8\, sign up is at 8:30 and show starts at 9pm.\nEach comic gets 5 mins of stage time. \nCome on out\, have friends that tell you your funny? Write your jokes down and come try them out on stage ! \nFacebook Event
URL:https://www.waterfrontdistrict.ca/event/btches-be-funny-presents-open-mic-comedy/
LOCATION:Red Lion Smokehouse\, 16 Cumberland St S\, Thunder Bay\, ON\, 16 Cumberland St S\, Canada
END:VEVENT
BEGIN:VEVENT
DTSTART;TZID=America/Halifax:20250911T203000
DTEND;TZID=America/Halifax:20250911T203000
DTSTAMP:20260420T014134
CREATED:20250910T021822Z
LAST-MODIFIED:20250910T021844Z
UID:7120-1757622600-1757622600@www.waterfrontdistrict.ca
SUMMARY:Sober Karaoke Night at Howl at the Moon
DESCRIPTION:Karaoke Tuesdays\, Thursdays\, and Saturdays at Howl! \n830pm to midnight\n$5 cover
URL:https://www.waterfrontdistrict.ca/event/sober-karaoke-night-at-howl-at-the-moon/
LOCATION:Howl at The Moon Dry Bar\, 8 Cumberland st S\, Thunder Bay
END:VEVENT
BEGIN:VEVENT
DTSTART;TZID=America/Halifax:20250911T210000
DTEND;TZID=America/Halifax:20250911T210000
DTSTAMP:20260420T014134
CREATED:20250910T022159Z
LAST-MODIFIED:20250910T022223Z
UID:7122-1757624400-1757624400@www.waterfrontdistrict.ca
SUMMARY:Karaoke live at Nortenos Cantina
DESCRIPTION:Karaoke at the Cantina Every Thursday night.\nNo cover. \nShow Starts 9PM at Nortenos Cantina.
URL:https://www.waterfrontdistrict.ca/event/karaoke-live-at-nortenos-cantina-5/
LOCATION:Nortenos Cantina\, 235 Red River Rd\, Thunder Bay\, ON\, Canada
END:VEVENT
BEGIN:VEVENT
DTSTART;TZID=America/Halifax:20250911T220000
DTEND;TZID=America/Halifax:20250911T220000
DTSTAMP:20260420T014134
CREATED:20250910T022509Z
LAST-MODIFIED:20250910T022533Z
UID:7124-1757628000-1757628000@www.waterfrontdistrict.ca
SUMMARY:Karaoke live at The Waterhouse
DESCRIPTION:
URL:https://www.waterfrontdistrict.ca/event/karaoke-live-at-the-waterhouse-9/
LOCATION:Waterhouse\, 9 Cumberland St S\, Thunder Bay\, ON\, P7B 2T1
END:VEVENT
BEGIN:VEVENT
DTSTART;TZID=America/Halifax:20250912T180000
DTEND;TZID=America/Halifax:20250912T210000
DTSTAMP:20260420T014134
CREATED:20250910T152446Z
LAST-MODIFIED:20250910T152446Z
UID:7127-1757700000-1757710800@www.waterfrontdistrict.ca
SUMMARY:Jazz and Old Fashioned Fridays ft. Mood Indigo
DESCRIPTION:Don’t miss the spectacular scenery\, smooth jazz and incredibly crafted cocktails and food at Anchor & Ore in The Delta Hotel with Mood Indigo!
URL:https://www.waterfrontdistrict.ca/event/jazz-and-old-fashioned-fridays-ft-mood-indigo-10/
LOCATION:Anchor & Ore\, 2240 Sleeping Giant Pkwy\, Thunder Bay\, ON\, Canada
END:VEVENT
BEGIN:VEVENT
DTSTART;TZID=America/Halifax:20250912T180000
DTEND;TZID=America/Halifax:20250912T220000
DTSTAMP:20260420T014134
CREATED:20250910T152915Z
LAST-MODIFIED:20250910T152915Z
UID:7129-1757700000-1757714400@www.waterfrontdistrict.ca
SUMMARY:Late Night Food Alley ft DJ Ducktail
DESCRIPTION:Late Night Food Alley on Fridays!!! Come grab a bite from our in house restaurants\, grab a drink at @thewoodsidebar and enjoy music by DJ @_ducktail See you there
URL:https://www.waterfrontdistrict.ca/event/late-night-food-alley-ft-dj-ducktail-10/
LOCATION:Goods and co\, 251 Red River Rd\, Thunder Bay\, Ontario\, P7B 1A7\, Canada
END:VEVENT
BEGIN:VEVENT
DTSTART;TZID=America/Halifax:20250912T180000
DTEND;TZID=America/Halifax:20250912T220000
DTSTAMP:20260420T014134
CREATED:20250910T153228Z
LAST-MODIFIED:20250910T153228Z
UID:7131-1757700000-1757714400@www.waterfrontdistrict.ca
SUMMARY:Bed B4 Ten at Pocketchange
DESCRIPTION:BED B4 TEN \nThink:\n-A real dance floor (not just your kitchen)\n-DJ spinning the hits you actually know the words to\n-Drink specials that won’t require a second mortgage. All wrapped up before your back starts complaining \nCome out\, cut loose\, and still be home in time to:\n✔️ Relieve the babysitter\n✔️ Avoid a “next-day recovery plan”\n✔️ Get your eight hours (because sleep is sexy) \nSEPT 12th\n6 PM – 9:59 PM (no\, that’s not a typo) \nThis isn’t your kids’ nightlife. It’s grown-up fun — early\, loud\, and in bed before double digits.
URL:https://www.waterfrontdistrict.ca/event/bed-b4-ten-at-pocketchange/
LOCATION:Pocketchange Bar\, 234 Red River Rd\, Thunder Bay\, ON\, P7B 1A6\, Canada
END:VEVENT
BEGIN:VEVENT
DTSTART;TZID=America/Halifax:20250912T190000
DTEND;TZID=America/Halifax:20250912T220000
DTSTAMP:20260420T014134
CREATED:20250910T153500Z
LAST-MODIFIED:20250910T153500Z
UID:7133-1757703600-1757714400@www.waterfrontdistrict.ca
SUMMARY:Two Bits Duo at Nortenos Cantina
DESCRIPTION:Norteños Cantina 7pm to 10pm. Hope to see you all there!
URL:https://www.waterfrontdistrict.ca/event/two-bits-duo-at-nortenos-cantina/
LOCATION:Nortenos Cantina\, 235 Red River Rd\, Thunder Bay\, ON\, Canada
END:VEVENT
BEGIN:VEVENT
DTSTART;TZID=America/Halifax:20250912T210000
DTEND;TZID=America/Halifax:20250912T210000
DTSTAMP:20260420T014134
CREATED:20250910T153753Z
LAST-MODIFIED:20250910T153819Z
UID:7135-1757710800-1757710800@www.waterfrontdistrict.ca
SUMMARY:Oklahoma w/ Along The Lines\, The Vertebraekers + Dual Black
DESCRIPTION:Oklahoma!\, Edmonton’s premiere noisegrind quartet is comin to Thunder Bay! \nFeaturing:\nOklahoma! – Noisegrind from Edmonton\nDual Black – Hardcore from Thunder Bay\nAlong the Lines – Metal from Thunder Bay\nThe Vertebraekers – Punk from Thunder Bay \n19+\, $10 at the door\nDoors at 9pm\, Show at 10pm \nFacebook Event
URL:https://www.waterfrontdistrict.ca/event/oklahoma-w-along-the-lines-the-vertebraekers-dual-black/
LOCATION:Black Pirates Pub\, 215 Red River Rd\, Suite 101\, Thunder Bay\, ON\, Canada
END:VEVENT
BEGIN:VEVENT
DTSTART;TZID=America/Halifax:20250912T210000
DTEND;TZID=America/Halifax:20250912T210000
DTSTAMP:20260420T014134
CREATED:20250910T154034Z
LAST-MODIFIED:20250910T154106Z
UID:7137-1757710800-1757710800@www.waterfrontdistrict.ca
SUMMARY:Cover Nights ft Bill Murray at Red Lion
DESCRIPTION:
URL:https://www.waterfrontdistrict.ca/event/cover-nights-ft-bill-murray-at-red-lion/
LOCATION:Red Lion Smokehouse\, 16 Cumberland St S\, Thunder Bay\, ON\, 16 Cumberland St S\, Canada
END:VEVENT
BEGIN:VEVENT
DTSTART;TZID=America/Halifax:20250912T220000
DTEND;TZID=America/Halifax:20250912T220000
DTSTAMP:20260420T014134
CREATED:20250910T154407Z
LAST-MODIFIED:20250910T154438Z
UID:7139-1757714400-1757714400@www.waterfrontdistrict.ca
SUMMARY:Karaoke live at The Waterhouse
DESCRIPTION:Karaoke every Thursday and Friday night at the Waterhouse!
URL:https://www.waterfrontdistrict.ca/event/karaoke-live-at-the-waterhouse-10/
LOCATION:Waterhouse\, 9 Cumberland St S\, Thunder Bay\, ON\, P7B 2T1
END:VEVENT
BEGIN:VEVENT
DTSTART;TZID=America/Halifax:20250912T220000
DTEND;TZID=America/Halifax:20250912T220000
DTSTAMP:20260420T014134
CREATED:20250910T154700Z
LAST-MODIFIED:20250910T154713Z
UID:7141-1757714400-1757714400@www.waterfrontdistrict.ca
SUMMARY:Country Night ft. Back Forty Live at The Foundry
DESCRIPTION:FRIDAY\, SEPT 12 – BACK FORTY BRINGS THE POWER COUNTRY 🤠🍻Thunder Bay’s own Back Forty are firing up The Foundry for a night of boot-stompin’\, beer-sippin’\, loud ‘n proud power country. \nBig guitars\, big hooks\, and a crowd that knows how to two-step. \n📍 The Foundry – Thunder Bay\, ON🕙 Music at 10PM💵 $5 Cover | 19+ \nBack Forty
URL:https://www.waterfrontdistrict.ca/event/country-night-ft-back-forty-live-at-the-foundry/
LOCATION:The Foundry\, 242 Red River Road\, Thunder Bay\, Ontario\, p7b1a6\, Canada
END:VEVENT
BEGIN:VEVENT
DTSTART;TZID=America/Halifax:20250912T220000
DTEND;TZID=America/Halifax:20250912T220000
DTSTAMP:20260420T014134
CREATED:20250910T155046Z
LAST-MODIFIED:20250910T155106Z
UID:7143-1757714400-1757714400@www.waterfrontdistrict.ca
SUMMARY:Fusion Fridayz presents Back to School White Out
DESCRIPTION:BACK TO SCHOOL WHITE OUT 🪩\nFriday\, Sept 12 @ NV Music Hall\nWear your best white attire & party all night with DJ SUPA LIVE🔥 \nDoors open at 10 PM – don’t miss it! \n💵 200$ and tickets to the James Barker Band up for grabs as a attendance prize for the event \n🏫 In support of Lakehead University Nursing Association \nTICKETS HERE
URL:https://www.waterfrontdistrict.ca/event/fusion-fridayz-presents-back-to-school-white-out/
LOCATION:NV Music Hall\, 228 Red River Rd\, Thunder Bay\, ON\, Canada
END:VEVENT
BEGIN:VEVENT
DTSTART;TZID=America/Halifax:20250912T230000
DTEND;TZID=America/Halifax:20250912T230000
DTSTAMP:20260420T014134
CREATED:20250910T155318Z
LAST-MODIFIED:20250910T155448Z
UID:7145-1757718000-1757718000@www.waterfrontdistrict.ca
SUMMARY:Pocket After Dark
DESCRIPTION:No Cover // 19+
URL:https://www.waterfrontdistrict.ca/event/pocket-after-dark-21/
LOCATION:Pocketchange Bar\, 234 Red River Rd\, Thunder Bay\, ON\, P7B 1A6\, Canada
END:VEVENT
BEGIN:VEVENT
DTSTART;TZID=America/Halifax:20250913T150000
DTEND;TZID=America/Halifax:20250913T210000
DTSTAMP:20260420T014134
CREATED:20250910T161003Z
LAST-MODIFIED:20250910T161003Z
UID:7147-1757775600-1757797200@www.waterfrontdistrict.ca
SUMMARY:Vinyl Saturdays at Red Lion Smokehouse
DESCRIPTION:Dust off your records ’cause every Saturday you can be your own DJ and spin your favourite tunes on Red Lion Smokehouse’s house record player for “Bring Your Own Vinyl Saturday” \nDon’t have a record? Peruse the house crate and take the playlist into your own hands\, or better yet\, pop over to The Vinyl Frontier located right next door to Red Lion and start your own collection.
URL:https://www.waterfrontdistrict.ca/event/vinyl-saturdays-at-red-lion-smokehouse-5/
LOCATION:Red Lion Smokehouse\, 16 Cumberland St S\, Thunder Bay\, ON\, 16 Cumberland St S\, Canada
END:VEVENT
BEGIN:VEVENT
DTSTART;TZID=America/Halifax:20250913T200000
DTEND;TZID=America/Halifax:20250913T230000
DTSTAMP:20260420T014134
CREATED:20250910T161219Z
LAST-MODIFIED:20250910T161219Z
UID:7149-1757793600-1757804400@www.waterfrontdistrict.ca
SUMMARY:The Honest Heart Collective at Lakehead Beer Co.
DESCRIPTION:An intimate full band performance with The Honest Heart Collective on the outdoor stage at Lakehead Beer Company with Cole Myronuk. \n800 PM – Doors\n830 PM –  Cole Myronuk\n930 PM – The Honest Heart Collective \nTICKETS HERE
URL:https://www.waterfrontdistrict.ca/event/the-honest-heart-collective-at-lakehead-beer-co/
LOCATION:Lakehead Beer Co\, 206 Park Ave\, Thunder Bay
END:VEVENT
BEGIN:VEVENT
DTSTART;TZID=America/Halifax:20250913T203000
DTEND;TZID=America/Halifax:20250913T203000
DTSTAMP:20260420T014134
CREATED:20250910T161358Z
LAST-MODIFIED:20250910T161413Z
UID:7151-1757795400-1757795400@www.waterfrontdistrict.ca
SUMMARY:Sober Karaoke Night at Howl at the Moon
DESCRIPTION:Karaoke Tuesdays\, Thursdays\, and Saturdays at Howl! \n830pm to midnight\n$5 cover
URL:https://www.waterfrontdistrict.ca/event/sober-karaoke-night-at-howl-at-the-moon-2/
LOCATION:Howl at The Moon Dry Bar\, 8 Cumberland st S\, Thunder Bay
END:VEVENT
BEGIN:VEVENT
DTSTART;TZID=America/Halifax:20250913T210000
DTEND;TZID=America/Halifax:20250913T210000
DTSTAMP:20260420T014134
CREATED:20250910T161538Z
LAST-MODIFIED:20250910T161733Z
UID:7153-1757797200-1757797200@www.waterfrontdistrict.ca
SUMMARY:Get Schooled: A Lesson on Local Music
DESCRIPTION:Get Schooled! A rad lineup of local music! \nFeaturing:\nJordan Humeniuk\nThe Shapely\nEzra\nDongy\n$10 at the door\, 19+\nDoors at 9\, Show at 10 \n\nFacebook Event
URL:https://www.waterfrontdistrict.ca/event/get-schooled-a-lesson-on-local-music/
LOCATION:Black Pirates Pub\, 215 Red River Rd\, Suite 101\, Thunder Bay\, ON\, Canada
END:VEVENT
END:VCALENDAR