BEGIN:VCALENDAR
VERSION:2.0
PRODID:-//Waterfront District BIA - ECPv6.15.20//NONSGML v1.0//EN
CALSCALE:GREGORIAN
METHOD:PUBLISH
X-ORIGINAL-URL:https://www.waterfrontdistrict.ca
X-WR-CALDESC:Events for Waterfront District BIA
REFRESH-INTERVAL;VALUE=DURATION:PT1H
X-Robots-Tag:noindex
X-PUBLISHED-TTL:PT1H
BEGIN:VTIMEZONE
TZID:America/Halifax
BEGIN:DAYLIGHT
TZOFFSETFROM:-0400
TZOFFSETTO:-0300
TZNAME:ADT
DTSTART:20230312T060000
END:DAYLIGHT
BEGIN:STANDARD
TZOFFSETFROM:-0300
TZOFFSETTO:-0400
TZNAME:AST
DTSTART:20231105T050000
END:STANDARD
BEGIN:DAYLIGHT
TZOFFSETFROM:-0400
TZOFFSETTO:-0300
TZNAME:ADT
DTSTART:20240310T060000
END:DAYLIGHT
BEGIN:STANDARD
TZOFFSETFROM:-0300
TZOFFSETTO:-0400
TZNAME:AST
DTSTART:20241103T050000
END:STANDARD
BEGIN:DAYLIGHT
TZOFFSETFROM:-0400
TZOFFSETTO:-0300
TZNAME:ADT
DTSTART:20250309T060000
END:DAYLIGHT
BEGIN:STANDARD
TZOFFSETFROM:-0300
TZOFFSETTO:-0400
TZNAME:AST
DTSTART:20251102T050000
END:STANDARD
BEGIN:DAYLIGHT
TZOFFSETFROM:-0400
TZOFFSETTO:-0300
TZNAME:ADT
DTSTART:20260308T060000
END:DAYLIGHT
BEGIN:STANDARD
TZOFFSETFROM:-0300
TZOFFSETTO:-0400
TZNAME:AST
DTSTART:20261101T050000
END:STANDARD
END:VTIMEZONE
BEGIN:VEVENT
DTSTART;TZID=America/Halifax:20240821T180000
DTEND;TZID=America/Halifax:20240821T210000
DTSTAMP:20260419T221051
CREATED:20240613T180013Z
LAST-MODIFIED:20240613T180013Z
UID:5834-1724263200-1724274000@www.waterfrontdistrict.ca
SUMMARY:Live on the Waterfront
DESCRIPTION:Marina Park Festival Grounds
URL:https://www.waterfrontdistrict.ca/event/live-on-the-waterfront-6/
LOCATION:Marina Park\, Thunder Bay\, ON\, Canada
END:VEVENT
BEGIN:VEVENT
DTSTART;TZID=America/Halifax:20240823T110000
DTEND;TZID=America/Halifax:20240825T210000
DTSTAMP:20260419T221051
CREATED:20240613T180055Z
LAST-MODIFIED:20240726T170439Z
UID:5835-1724410800-1724619600@www.waterfrontdistrict.ca
SUMMARY:Ribfest 2024
DESCRIPTION:Marina Park
URL:https://www.waterfrontdistrict.ca/event/ribfest-2024/
LOCATION:Marina Park\, Thunder Bay\, ON\, Canada
END:VEVENT
BEGIN:VEVENT
DTSTART;TZID=America/Halifax:20240823T140000
DTEND;TZID=America/Halifax:20240823T160000
DTSTAMP:20260419T221051
CREATED:20240801T183217Z
LAST-MODIFIED:20240801T183217Z
UID:5920-1724421600-1724428800@www.waterfrontdistrict.ca
SUMMARY:Friday Fun Day
DESCRIPTION:256 Red River Rd (Outside of the former BMO)
URL:https://www.waterfrontdistrict.ca/event/friday-fun-day-4/
LOCATION:ON
CATEGORIES:Kids
END:VEVENT
BEGIN:VEVENT
DTSTART;TZID=America/Halifax:20240827T100000
DTEND;TZID=America/Halifax:20240827T120000
DTSTAMP:20260419T221051
CREATED:20240801T174932Z
LAST-MODIFIED:20240801T174932Z
UID:5912-1724752800-1724760000@www.waterfrontdistrict.ca
SUMMARY:Tonka Tuesday
DESCRIPTION:24 Court S
URL:https://www.waterfrontdistrict.ca/event/tonka-tuesday-4/
LOCATION:Maple Tops\, 24 Court St S\, Thunder Bay\, Ontario\, Canada
END:VEVENT
BEGIN:VEVENT
DTSTART;TZID=America/Halifax:20240828T180000
DTEND;TZID=America/Halifax:20240828T210000
DTSTAMP:20260419T221051
CREATED:20240613T180142Z
LAST-MODIFIED:20240613T180142Z
UID:5840-1724868000-1724878800@www.waterfrontdistrict.ca
SUMMARY:Live on the Waterfront
DESCRIPTION:Marina Park Festival Grounds
URL:https://www.waterfrontdistrict.ca/event/live-on-the-waterfront-7/
LOCATION:Marina Park\, Thunder Bay\, ON\, Canada
END:VEVENT
BEGIN:VEVENT
DTSTART;TZID=America/Halifax:20240829T180000
DTEND;TZID=America/Halifax:20240829T210000
DTSTAMP:20260419T221051
CREATED:20240613T180155Z
LAST-MODIFIED:20240613T180155Z
UID:5841-1724954400-1724965200@www.waterfrontdistrict.ca
SUMMARY:Live on the Waterfront
DESCRIPTION:Marina Park Festival Grounds
URL:https://www.waterfrontdistrict.ca/event/live-on-the-waterfront-8/
LOCATION:Marina Park\, Thunder Bay\, ON\, Canada
END:VEVENT
BEGIN:VEVENT
DTSTART;TZID=America/Halifax:20240830T140000
DTEND;TZID=America/Halifax:20240830T160000
DTSTAMP:20260419T221051
CREATED:20240801T183303Z
LAST-MODIFIED:20240801T183303Z
UID:5922-1725026400-1725033600@www.waterfrontdistrict.ca
SUMMARY:Friday Fun Day
DESCRIPTION:256 Red River Rd (Outside of the former BMO)
URL:https://www.waterfrontdistrict.ca/event/friday-fun-day-5/
LOCATION:ON
CATEGORIES:Kids
END:VEVENT
BEGIN:VEVENT
DTSTART;TZID=America/Halifax:20240831T110000
DTEND;TZID=America/Halifax:20240831T110000
DTSTAMP:20260419T221051
CREATED:20240801T184113Z
LAST-MODIFIED:20240801T184206Z
UID:5929-1725102000-1725102000@www.waterfrontdistrict.ca
SUMMARY:LU Orientation Scavenger Hunt
DESCRIPTION:251 Red River Rd
URL:https://www.waterfrontdistrict.ca/event/lu-orientation-scavenger-hunt/
LOCATION:Goods and co\, 251 Red River Rd\, Thunder Bay\, Ontario\, P7B 1A7\, Canada
END:VEVENT
BEGIN:VEVENT
DTSTART;TZID=America/Halifax:20240909T180000
DTEND;TZID=America/Halifax:20240909T180000
DTSTAMP:20260419T221051
CREATED:20240613T180304Z
LAST-MODIFIED:20240613T180304Z
UID:5839-1725904800-1725904800@www.waterfrontdistrict.ca
SUMMARY:Cruise Ship Docking: Polaris
DESCRIPTION:Pool 6
URL:https://www.waterfrontdistrict.ca/event/cruise-ship-docking-polaris-4/
LOCATION:POOL 6 Dock
END:VEVENT
BEGIN:VEVENT
DTSTART;TZID=America/Halifax:20240911T200000
DTEND;TZID=America/Halifax:20240911T200000
DTSTAMP:20260419T221051
CREATED:20240613T180449Z
LAST-MODIFIED:20240613T180449Z
UID:5846-1726084800-1726084800@www.waterfrontdistrict.ca
SUMMARY:Cruise Ship Departure: Polaris
DESCRIPTION:Pool 6
URL:https://www.waterfrontdistrict.ca/event/cruise-ship-departure-polaris-2/
LOCATION:POOL 6 Dock
END:VEVENT
BEGIN:VEVENT
DTSTART;TZID=America/Halifax:20240914T060000
DTEND;TZID=America/Halifax:20240914T220000
DTSTAMP:20260419T221051
CREATED:20240613T180613Z
LAST-MODIFIED:20240613T180613Z
UID:5848-1726293600-1726351200@www.waterfrontdistrict.ca
SUMMARY:Cruise Ship Docking: Ponant
DESCRIPTION:Pool 6
URL:https://www.waterfrontdistrict.ca/event/cruise-ship-docking-ponant/
LOCATION:POOL 6 Dock
END:VEVENT
BEGIN:VEVENT
DTSTART;TZID=America/Halifax:20240914T110000
DTEND;TZID=America/Halifax:20240914T110000
DTSTAMP:20260419T221051
CREATED:20240613T180738Z
LAST-MODIFIED:20240613T180738Z
UID:5850-1726311600-1726311600@www.waterfrontdistrict.ca
SUMMARY:Wake The Giant
DESCRIPTION:Marina Park
URL:https://www.waterfrontdistrict.ca/event/wake-the-giant/
LOCATION:Marina Park\, Thunder Bay\, ON\, Canada
END:VEVENT
BEGIN:VEVENT
DTSTART;TZID=America/Halifax:20240922T100000
DTEND;TZID=America/Halifax:20240922T160000
DTSTAMP:20260419T221051
CREATED:20240613T180829Z
LAST-MODIFIED:20240613T180829Z
UID:5852-1726999200-1727020800@www.waterfrontdistrict.ca
SUMMARY:Good Harvest Market
DESCRIPTION:Court St
URL:https://www.waterfrontdistrict.ca/event/good-harvest-market/
LOCATION:ON
END:VEVENT
BEGIN:VEVENT
DTSTART;TZID=America/Halifax:20240925T070000
DTEND;TZID=America/Halifax:20240925T180000
DTSTAMP:20260419T221051
CREATED:20240613T180928Z
LAST-MODIFIED:20240613T180928Z
UID:5854-1727247600-1727287200@www.waterfrontdistrict.ca
SUMMARY:Cruise Ship Docking: Octantis
DESCRIPTION:Pool 6
URL:https://www.waterfrontdistrict.ca/event/cruise-ship-docking-octantis-7/
LOCATION:POOL 6 Dock
END:VEVENT
BEGIN:VEVENT
DTSTART;TZID=America/Halifax:20240927T090000
DTEND;TZID=America/Halifax:20240927T200000
DTSTAMP:20260419T221051
CREATED:20240613T181040Z
LAST-MODIFIED:20240613T181040Z
UID:5856-1727427600-1727467200@www.waterfrontdistrict.ca
SUMMARY:Cruise Ship Docking: Octantis
DESCRIPTION:Pool 6
URL:https://www.waterfrontdistrict.ca/event/cruise-ship-docking-octantis-8/
LOCATION:POOL 6 Dock
END:VEVENT
BEGIN:VEVENT
DTSTART;TZID=America/Halifax:20241005T090000
DTEND;TZID=America/Halifax:20241005T180000
DTSTAMP:20260419T221051
CREATED:20240613T181132Z
LAST-MODIFIED:20240613T181132Z
UID:5858-1728118800-1728151200@www.waterfrontdistrict.ca
SUMMARY:Cruise Ship Docking: Hanseatic
DESCRIPTION:Pool 6
URL:https://www.waterfrontdistrict.ca/event/cruise-ship-docking-hanseatic/
LOCATION:POOL 6 Dock
END:VEVENT
BEGIN:VEVENT
DTSTART;TZID=America/Halifax:20241026T100000
DTEND;TZID=America/Halifax:20241026T140000
DTSTAMP:20260419T221051
CREATED:20241016T194333Z
LAST-MODIFIED:20241016T194333Z
UID:6149-1729936800-1729951200@www.waterfrontdistrict.ca
SUMMARY:Trick or Treat in the BIA
DESCRIPTION:Check out our social media to discover this year’s participating businesses!
URL:https://www.waterfrontdistrict.ca/event/trick-or-treat-in-the-bia/
LOCATION:ON
CATEGORIES:Kids
END:VEVENT
BEGIN:VEVENT
DTSTART;TZID=America/Halifax:20241026T210000
DTEND;TZID=America/Halifax:20241026T210000
DTSTAMP:20260419T221051
CREATED:20241016T194546Z
LAST-MODIFIED:20241016T194741Z
UID:6151-1729976400-1729976400@www.waterfrontdistrict.ca
SUMMARY:Hunger 17
DESCRIPTION:The annual Halloween celebration will occur on Saturday\, October 26th\, from 9 PM to 2 AM\, across 8 venues in the Waterfront District. Visit the Definitely Superior Art Gallery website to find out about this year’s participating businesses!
URL:https://www.waterfrontdistrict.ca/event/hunger-17/
LOCATION:ON
END:VEVENT
BEGIN:VEVENT
DTSTART;TZID=America/Halifax:20241124T100000
DTEND;TZID=America/Halifax:20241124T160000
DTSTAMP:20260419T221051
CREATED:20240801T185804Z
LAST-MODIFIED:20240801T185804Z
UID:5931-1732442400-1732464000@www.waterfrontdistrict.ca
SUMMARY:Craft Revival 2024
DESCRIPTION:
URL:https://www.waterfrontdistrict.ca/event/craft-revival-2024/
LOCATION:ON
CATEGORIES:Shopping
END:VEVENT
BEGIN:VEVENT
DTSTART;TZID=America/Halifax:20241207T100000
DTEND;TZID=America/Halifax:20241207T140000
DTSTAMP:20260419T221051
CREATED:20241101T193538Z
LAST-MODIFIED:20241203T193459Z
UID:6168-1733565600-1733580000@www.waterfrontdistrict.ca
SUMMARY:Photos with The Mean Green Guy
DESCRIPTION:Photos with the Mean Green Guy Sponsored by the Waterfront District and hosted at Goods & Co. Market – by donation!
URL:https://www.waterfrontdistrict.ca/event/photos-with-the-grinch/
LOCATION:Goods and co\, 251 Red River Rd\, Thunder Bay\, Ontario\, P7B 1A7\, Canada
END:VEVENT
BEGIN:VEVENT
DTSTART;VALUE=DATE:20241214
DTEND;VALUE=DATE:20241215
DTSTAMP:20260419T221051
CREATED:20241018T174743Z
LAST-MODIFIED:20241018T174743Z
UID:6164-1734134400-1734220799@www.waterfrontdistrict.ca
SUMMARY:Heart of the Holidays in the Waterfront District Event
DESCRIPTION:Our outdoor holiday event is coming to Red River Road! Get ready for it to transform into a winter wonderland! ❄️ Stay tuned for more details!
URL:https://www.waterfrontdistrict.ca/event/heart-of-the-holidays-in-the-waterfront-district-event/
LOCATION:ON
END:VEVENT
BEGIN:VEVENT
DTSTART;TZID=America/Halifax:20250504T100000
DTEND;TZID=America/Halifax:20250504T160000
DTSTAMP:20260419T221051
CREATED:20250508T190701Z
LAST-MODIFIED:20250508T190701Z
UID:6390-1746352800-1746374400@www.waterfrontdistrict.ca
SUMMARY:Spring Craft Revival
DESCRIPTION:
URL:https://www.waterfrontdistrict.ca/event/spring-craft-revival/
LOCATION:ON
CATEGORIES:Shopping
END:VEVENT
BEGIN:VEVENT
DTSTART;TZID=America/Halifax:20250519T090000
DTEND;TZID=America/Halifax:20250519T120000
DTSTAMP:20260419T221051
CREATED:20250513T162250Z
LAST-MODIFIED:20250513T162250Z
UID:6447-1747645200-1747656000@www.waterfrontdistrict.ca
SUMMARY:Firefighters 10 Mile Road Race
DESCRIPTION:Celebrate Victoria Day with us by running from Fort William to Port Arthur and back!
URL:https://www.waterfrontdistrict.ca/event/firefighters-10-mile-road-race/
LOCATION:ON
END:VEVENT
BEGIN:VEVENT
DTSTART;TZID=America/Halifax:20250522T193000
DTEND;TZID=America/Halifax:20250522T193000
DTSTAMP:20260419T221051
CREATED:20250522T175136Z
LAST-MODIFIED:20250530T182927Z
UID:6501-1747942200-1747942200@www.waterfrontdistrict.ca
SUMMARY:Celtic Night
DESCRIPTION:All ages
URL:https://www.waterfrontdistrict.ca/event/red-lion-smokehouse/
LOCATION:Red Lion Smokehouse\, 16 Cumberland St S\, Thunder Bay\, ON\, 16 Cumberland St S\, Canada
END:VEVENT
BEGIN:VEVENT
DTSTART;TZID=America/Halifax:20250522T193000
DTEND;TZID=America/Halifax:20250522T193000
DTSTAMP:20260419T221051
CREATED:20250522T175414Z
LAST-MODIFIED:20250523T163948Z
UID:6505-1747942200-1747942200@www.waterfrontdistrict.ca
SUMMARY:Spongebob Musical
DESCRIPTION:All ages 
URL:https://www.waterfrontdistrict.ca/event/paramount-live/
LOCATION:Paramount Live\, 24 Court St S\, Thunder Bay
CATEGORIES:Event,Kids
END:VEVENT
BEGIN:VEVENT
DTSTART;TZID=America/Halifax:20250522T200000
DTEND;TZID=America/Halifax:20250522T200000
DTSTAMP:20260419T221051
CREATED:20250522T175709Z
LAST-MODIFIED:20250522T175709Z
UID:6510-1747944000-1747944000@www.waterfrontdistrict.ca
SUMMARY:Black Pirates Pub
DESCRIPTION:Derev Troubled Mind w/ special guests / All ages
URL:https://www.waterfrontdistrict.ca/event/black-pirates-pub/
LOCATION:Black Pirates Pub\, 215 Red River Rd\, Suite 101\, Thunder Bay\, ON\, Canada
CATEGORIES:Event
END:VEVENT
BEGIN:VEVENT
DTSTART;TZID=America/Halifax:20250523T190000
DTEND;TZID=America/Halifax:20250523T190000
DTSTAMP:20260419T221051
CREATED:20250522T180327Z
LAST-MODIFIED:20250523T163923Z
UID:6522-1748026800-1748026800@www.waterfrontdistrict.ca
SUMMARY:Spongebob Musical
DESCRIPTION:All ages
URL:https://www.waterfrontdistrict.ca/event/paramount-live-2/
LOCATION:Paramount Live\, 24 Court St S\, Thunder Bay
CATEGORIES:Event,Kids
END:VEVENT
BEGIN:VEVENT
DTSTART;TZID=America/Halifax:20250523T193000
DTEND;TZID=America/Halifax:20250523T193000
DTSTAMP:20260419T221051
CREATED:20250522T180459Z
LAST-MODIFIED:20250523T164024Z
UID:6524-1748028600-1748028600@www.waterfrontdistrict.ca
SUMMARY:Pat Silvaggio
DESCRIPTION:All ages
URL:https://www.waterfrontdistrict.ca/event/nortenos-cantina-2/
LOCATION:Nortenos Cantina\, 235 Red River Rd\, Thunder Bay\, ON\, Canada
CATEGORIES:Event
END:VEVENT
BEGIN:VEVENT
DTSTART;TZID=America/Halifax:20250523T213000
DTEND;TZID=America/Halifax:20250523T213000
DTSTAMP:20260419T221051
CREATED:20250522T180816Z
LAST-MODIFIED:20250522T180816Z
UID:6528-1748035800-1748035800@www.waterfrontdistrict.ca
SUMMARY:Music Bingo
DESCRIPTION:19+
URL:https://www.waterfrontdistrict.ca/event/music-bingo/
LOCATION:Red Lion Smokehouse\, 16 Cumberland St S\, Thunder Bay\, ON\, 16 Cumberland St S\, Canada
CATEGORIES:Event
END:VEVENT
BEGIN:VEVENT
DTSTART;TZID=America/Halifax:20250523T220000
DTEND;TZID=America/Halifax:20250523T220000
DTSTAMP:20260419T221051
CREATED:20250522T180612Z
LAST-MODIFIED:20250523T164059Z
UID:6526-1748037600-1748037600@www.waterfrontdistrict.ca
SUMMARY:DJ Dizzle
DESCRIPTION:19+
URL:https://www.waterfrontdistrict.ca/event/nortenos-cantina-3/
LOCATION:Nortenos Cantina\, 235 Red River Rd\, Thunder Bay\, ON\, Canada
CATEGORIES:Event
END:VEVENT
END:VCALENDAR