BEGIN:VCALENDAR
VERSION:2.0
PRODID:-//Waterfront District BIA - ECPv6.15.20//NONSGML v1.0//EN
CALSCALE:GREGORIAN
METHOD:PUBLISH
X-WR-CALNAME:Waterfront District BIA
X-ORIGINAL-URL:https://www.waterfrontdistrict.ca
X-WR-CALDESC:Events for Waterfront District BIA
REFRESH-INTERVAL;VALUE=DURATION:PT1H
X-Robots-Tag:noindex
X-PUBLISHED-TTL:PT1H
BEGIN:VTIMEZONE
TZID:America/Halifax
BEGIN:DAYLIGHT
TZOFFSETFROM:-0400
TZOFFSETTO:-0300
TZNAME:ADT
DTSTART:20250309T060000
END:DAYLIGHT
BEGIN:STANDARD
TZOFFSETFROM:-0300
TZOFFSETTO:-0400
TZNAME:AST
DTSTART:20251102T050000
END:STANDARD
BEGIN:DAYLIGHT
TZOFFSETFROM:-0400
TZOFFSETTO:-0300
TZNAME:ADT
DTSTART:20260308T060000
END:DAYLIGHT
BEGIN:STANDARD
TZOFFSETFROM:-0300
TZOFFSETTO:-0400
TZNAME:AST
DTSTART:20261101T050000
END:STANDARD
BEGIN:DAYLIGHT
TZOFFSETFROM:-0400
TZOFFSETTO:-0300
TZNAME:ADT
DTSTART:20270314T060000
END:DAYLIGHT
BEGIN:STANDARD
TZOFFSETFROM:-0300
TZOFFSETTO:-0400
TZNAME:AST
DTSTART:20271107T050000
END:STANDARD
END:VTIMEZONE
BEGIN:VEVENT
DTSTART;TZID=America/Halifax:20260213T210000
DTEND;TZID=America/Halifax:20260213T210000
DTSTAMP:20260421T111550
CREATED:20260123T191956Z
LAST-MODIFIED:20260123T192008Z
UID:8098-1771016400-1771016400@www.waterfrontdistrict.ca
SUMMARY:Small Town Bad
DESCRIPTION:
URL:https://www.waterfrontdistrict.ca/event/small-town-bad/
LOCATION:The Foundry\, 242 Red River Road\, Thunder Bay\, Ontario\, p7b1a6\, Canada
END:VEVENT
BEGIN:VEVENT
DTSTART;TZID=America/Halifax:20260213T210000
DTEND;TZID=America/Halifax:20260213T210000
DTSTAMP:20260421T111550
CREATED:20260213T180401Z
LAST-MODIFIED:20260213T180445Z
UID:8162-1771016400-1771016400@www.waterfrontdistrict.ca
SUMMARY:Heart Break House Party
DESCRIPTION:
URL:https://www.waterfrontdistrict.ca/event/heart-break-house-party/
LOCATION:Bloom Bar and Lounge\, 213 Red River Road\, Thunder Bay\, Ontario\, Canada
END:VEVENT
BEGIN:VEVENT
DTSTART;TZID=America/Halifax:20260213T220000
DTEND;TZID=America/Halifax:20260213T220000
DTSTAMP:20260421T111550
CREATED:20260213T164524Z
LAST-MODIFIED:20260213T165017Z
UID:8158-1771020000-1771020000@www.waterfrontdistrict.ca
SUMMARY:Unlucky Lovers
DESCRIPTION:
URL:https://www.waterfrontdistrict.ca/event/unlucky-lovers/
LOCATION:The Foundry\, 242 Red River Road\, Thunder Bay\, Ontario\, p7b1a6\, Canada
END:VEVENT
BEGIN:VEVENT
DTSTART;TZID=America/Halifax:20260213T220000
DTEND;TZID=America/Halifax:20260213T220000
DTSTAMP:20260421T111550
CREATED:20260213T180640Z
LAST-MODIFIED:20260213T180703Z
UID:8164-1771020000-1771020000@www.waterfrontdistrict.ca
SUMMARY:DJ Pura Vida
DESCRIPTION:
URL:https://www.waterfrontdistrict.ca/event/dj-pura-vida-10/
LOCATION:Nortenos Cantina\, 235 Red River Rd\, Thunder Bay\, ON\, Canada
END:VEVENT
BEGIN:VEVENT
DTSTART;TZID=America/Halifax:20260213T220000
DTEND;TZID=America/Halifax:20260213T220000
DTSTAMP:20260421T111550
CREATED:20260213T180914Z
LAST-MODIFIED:20260213T180943Z
UID:8166-1771020000-1771020000@www.waterfrontdistrict.ca
SUMMARY:Bollywood Valentines Night
DESCRIPTION:
URL:https://www.waterfrontdistrict.ca/event/bollywood-valentines-night/
LOCATION:NV Music Hall\, 228 Red River Rd\, Thunder Bay\, ON\, Canada
END:VEVENT
BEGIN:VEVENT
DTSTART;TZID=America/Halifax:20260214T120000
DTEND;TZID=America/Halifax:20260214T120000
DTSTAMP:20260421T111550
CREATED:20260213T183044Z
LAST-MODIFIED:20260213T183356Z
UID:8176-1771070400-1771070400@www.waterfrontdistrict.ca
SUMMARY:Special Valentines Menu
DESCRIPTION:
URL:https://www.waterfrontdistrict.ca/event/special-valentines-menu/
LOCATION:Red Lion Smokehouse\, 16 Cumberland St S\, Thunder Bay\, ON\, 16 Cumberland St S\, Canada
END:VEVENT
BEGIN:VEVENT
DTSTART;TZID=America/Halifax:20260214T170000
DTEND;TZID=America/Halifax:20260214T170000
DTSTAMP:20260421T111550
CREATED:20260213T182402Z
LAST-MODIFIED:20260213T182419Z
UID:8172-1771088400-1771088400@www.waterfrontdistrict.ca
SUMMARY:Disco Of Love
DESCRIPTION:
URL:https://www.waterfrontdistrict.ca/event/disco-of-love/
LOCATION:The Foundry\, 242 Red River Road\, Thunder Bay\, Ontario\, p7b1a6\, Canada
END:VEVENT
BEGIN:VEVENT
DTSTART;TZID=America/Halifax:20260214T170000
DTEND;TZID=America/Halifax:20260214T200000
DTSTAMP:20260421T111550
CREATED:20260130T173633Z
LAST-MODIFIED:20260130T173633Z
UID:8107-1771088400-1771099200@www.waterfrontdistrict.ca
SUMMARY:Valentines Special Dinner
DESCRIPTION:
URL:https://www.waterfrontdistrict.ca/event/valentines-special-dinner-2/
LOCATION:Portside Restaurant\, 17 Cumberland St N\, Thunder BAY\, Ontario\, P7B 2T1
END:VEVENT
BEGIN:VEVENT
DTSTART;TZID=America/Halifax:20260214T173000
DTEND;TZID=America/Halifax:20260214T173000
DTSTAMP:20260421T111550
CREATED:20260123T192555Z
LAST-MODIFIED:20260123T192607Z
UID:8102-1771090200-1771090200@www.waterfrontdistrict.ca
SUMMARY:The Pairing
DESCRIPTION:2 sessions 5:30pm-6:45pm & 7:30pm-8:45pm
URL:https://www.waterfrontdistrict.ca/event/the-pairing/
LOCATION:Goods and co\, 251 Red River Rd\, Thunder Bay\, Ontario\, P7B 1A7\, Canada
END:VEVENT
BEGIN:VEVENT
DTSTART;TZID=America/Halifax:20260214T180000
DTEND;TZID=America/Halifax:20260214T200000
DTSTAMP:20260421T111550
CREATED:20260123T192258Z
LAST-MODIFIED:20260123T192258Z
UID:8100-1771092000-1771099200@www.waterfrontdistrict.ca
SUMMARY:Live Jazz By Joe & Jasmine Petch & Band
DESCRIPTION:
URL:https://www.waterfrontdistrict.ca/event/live-jazz-by-joe-jasmine-petch-band/
LOCATION:The Foundry\, 242 Red River Road\, Thunder Bay\, Ontario\, p7b1a6\, Canada
END:VEVENT
BEGIN:VEVENT
DTSTART;TZID=America/Halifax:20260214T210000
DTEND;TZID=America/Halifax:20260214T210000
DTSTAMP:20260421T111550
CREATED:20260213T183523Z
LAST-MODIFIED:20260213T183614Z
UID:8178-1771102800-1771102800@www.waterfrontdistrict.ca
SUMMARY:Valentines Day Sex Toy Bingo
DESCRIPTION:
URL:https://www.waterfrontdistrict.ca/event/valentines-day-sex-toy-bingo/
LOCATION:Bloom Bar and Lounge\, 213 Red River Road\, Thunder Bay\, Ontario\, Canada
END:VEVENT
BEGIN:VEVENT
DTSTART;TZID=America/Halifax:20260214T210000
DTEND;TZID=America/Halifax:20260214T210000
DTSTAMP:20260421T111550
CREATED:20260213T183908Z
LAST-MODIFIED:20260213T183936Z
UID:8180-1771102800-1771102800@www.waterfrontdistrict.ca
SUMMARY:Heartless Anti-Valentines Drag Show
DESCRIPTION:
URL:https://www.waterfrontdistrict.ca/event/heartless-anti-valentines-drag-show/
LOCATION:Black Pirates Pub\, 215 Red River Rd\, Suite 101\, Thunder Bay\, ON\, Canada
END:VEVENT
BEGIN:VEVENT
DTSTART;TZID=America/Halifax:20260214T220000
DTEND;TZID=America/Halifax:20260214T220000
DTSTAMP:20260421T111550
CREATED:20260213T184342Z
LAST-MODIFIED:20260213T184417Z
UID:8182-1771106400-1771106400@www.waterfrontdistrict.ca
SUMMARY:Valentines Dance Party
DESCRIPTION:
URL:https://www.waterfrontdistrict.ca/event/valentines-dance-party/
LOCATION:Waterhouse\, 9 Cumberland St S\, Thunder Bay\, ON\, P7B 2T1
END:VEVENT
BEGIN:VEVENT
DTSTART;TZID=America/Halifax:20260214T220000
DTEND;TZID=America/Halifax:20260214T220000
DTSTAMP:20260421T111550
CREATED:20260213T185416Z
LAST-MODIFIED:20260213T185435Z
UID:8188-1771106400-1771106400@www.waterfrontdistrict.ca
SUMMARY:Red Light Green Light Valentines Party
DESCRIPTION:
URL:https://www.waterfrontdistrict.ca/event/red-light-green-light-valentines-party/
LOCATION:Nortenos Cantina\, 235 Red River Rd\, Thunder Bay\, ON\, Canada
END:VEVENT
BEGIN:VEVENT
DTSTART;VALUE=DATE:20260215
DTEND;VALUE=DATE:20260216
DTSTAMP:20260421T111550
CREATED:20260213T185859Z
LAST-MODIFIED:20260213T185859Z
UID:8194-1771113600-1771199999@www.waterfrontdistrict.ca
SUMMARY:Bottomless Mimosas
DESCRIPTION:
URL:https://www.waterfrontdistrict.ca/event/bottomless-mimosas-5/
LOCATION:Red Lion Smokehouse\, 16 Cumberland St S\, Thunder Bay\, ON\, 16 Cumberland St S\, Canada
END:VEVENT
BEGIN:VEVENT
DTSTART;TZID=America/Halifax:20260215T130000
DTEND;TZID=America/Halifax:20260215T130000
DTSTAMP:20260421T111550
CREATED:20260213T185745Z
LAST-MODIFIED:20260213T185758Z
UID:8192-1771160400-1771160400@www.waterfrontdistrict.ca
SUMMARY:D & D Sunday
DESCRIPTION:
URL:https://www.waterfrontdistrict.ca/event/d-d-sunday/
LOCATION:Red Lion Smokehouse\, 16 Cumberland St S\, Thunder Bay\, ON\, 16 Cumberland St S\, Canada
END:VEVENT
BEGIN:VEVENT
DTSTART;TZID=America/Halifax:20260220T190000
DTEND;TZID=America/Halifax:20260220T220000
DTSTAMP:20260421T111550
CREATED:20260220T154712Z
LAST-MODIFIED:20260220T154712Z
UID:8209-1771614000-1771624800@www.waterfrontdistrict.ca
SUMMARY:Shayne Ehman "Loose Trucks" Art Opening
DESCRIPTION:
URL:https://www.waterfrontdistrict.ca/event/shayne-ehman-loose-trucks-art-opening/
LOCATION:Co. Lab Gallery\, 251 Red River Road\, Thunder Bay\, ON\, P7B 1A7\, Canada
END:VEVENT
BEGIN:VEVENT
DTSTART;TZID=America/Halifax:20260220T190000
DTEND;TZID=America/Halifax:20260221T093000
DTSTAMP:20260421T111550
CREATED:20260220T154147Z
LAST-MODIFIED:20260220T154147Z
UID:8204-1771614000-1771666200@www.waterfrontdistrict.ca
SUMMARY:Footloose
DESCRIPTION:
URL:https://www.waterfrontdistrict.ca/event/footloose/
LOCATION:Trinity Hall\, 30\, Algoma St S\, Thunder Bay\, Ontario\, P7B 3A8
END:VEVENT
BEGIN:VEVENT
DTSTART;TZID=America/Halifax:20260220T193000
DTEND;TZID=America/Halifax:20260220T193000
DTSTAMP:20260421T111550
CREATED:20260220T154511Z
LAST-MODIFIED:20260220T154526Z
UID:8207-1771615800-1771615800@www.waterfrontdistrict.ca
SUMMARY:On Thin Ice (World Premiere)
DESCRIPTION:
URL:https://www.waterfrontdistrict.ca/event/on-thin-ice-world-premiere/
LOCATION:Magnus Theatre\, 10 Algoma St S\, Thunder Bay\, Ontario\, P7B 3A7\, Canada
END:VEVENT
BEGIN:VEVENT
DTSTART;TZID=America/Halifax:20260220T200000
DTEND;TZID=America/Halifax:20260220T200000
DTSTAMP:20260421T111550
CREATED:20260220T164337Z
LAST-MODIFIED:20260220T164353Z
UID:8213-1771617600-1771617600@www.waterfrontdistrict.ca
SUMMARY:Kenzie B Presents Twin Cities Benefit
DESCRIPTION:
URL:https://www.waterfrontdistrict.ca/event/kenzie-b-presents-twin-cities-benefit/
LOCATION:Black Pirates Pub\, 215 Red River Rd\, Suite 101\, Thunder Bay\, ON\, Canada
END:VEVENT
BEGIN:VEVENT
DTSTART;TZID=America/Halifax:20260220T210000
DTEND;TZID=America/Halifax:20260220T210000
DTSTAMP:20260421T111550
CREATED:20260220T164443Z
LAST-MODIFIED:20260220T164620Z
UID:8221-1771621200-1771621200@www.waterfrontdistrict.ca
SUMMARY:Back 40
DESCRIPTION:
URL:https://www.waterfrontdistrict.ca/event/back-40-3/
LOCATION:The Foundry\, 242 Red River Road\, Thunder Bay\, Ontario\, p7b1a6\, Canada
END:VEVENT
BEGIN:VEVENT
DTSTART;TZID=America/Halifax:20260220T210000
DTEND;TZID=America/Halifax:20260220T210000
DTSTAMP:20260421T111550
CREATED:20260220T164715Z
LAST-MODIFIED:20260220T164729Z
UID:8223-1771621200-1771621200@www.waterfrontdistrict.ca
SUMMARY:Game Night
DESCRIPTION:
URL:https://www.waterfrontdistrict.ca/event/game-night-2/
LOCATION:Bloom Bar and Lounge\, 213 Red River Road\, Thunder Bay\, Ontario\, Canada
END:VEVENT
BEGIN:VEVENT
DTSTART;TZID=America/Halifax:20260220T213000
DTEND;TZID=America/Halifax:20260220T213000
DTSTAMP:20260421T111550
CREATED:20260220T164832Z
LAST-MODIFIED:20260220T164850Z
UID:8225-1771623000-1771623000@www.waterfrontdistrict.ca
SUMMARY:Music Bingo
DESCRIPTION:
URL:https://www.waterfrontdistrict.ca/event/music-bingo-6/
LOCATION:Red Lion Smokehouse\, 16 Cumberland St S\, Thunder Bay\, ON\, 16 Cumberland St S\, Canada
END:VEVENT
BEGIN:VEVENT
DTSTART;TZID=America/Halifax:20260220T220000
DTEND;TZID=America/Halifax:20260220T220000
DTSTAMP:20260421T111550
CREATED:20260220T154937Z
LAST-MODIFIED:20260220T155003Z
UID:8211-1771624800-1771624800@www.waterfrontdistrict.ca
SUMMARY:2016 Throwback Party
DESCRIPTION:Free Entry Before 11pm
URL:https://www.waterfrontdistrict.ca/event/2016-throwback-party/
LOCATION:NV Music Hall\, 228 Red River Rd\, Thunder Bay\, ON\, Canada
END:VEVENT
BEGIN:VEVENT
DTSTART;TZID=America/Halifax:20260220T220000
DTEND;TZID=America/Halifax:20260220T220000
DTSTAMP:20260421T111550
CREATED:20260220T164935Z
LAST-MODIFIED:20260220T164948Z
UID:8227-1771624800-1771624800@www.waterfrontdistrict.ca
SUMMARY:DJ Supa
DESCRIPTION:
URL:https://www.waterfrontdistrict.ca/event/dj-supa-6/
LOCATION:Nortenos Cantina\, 235 Red River Rd\, Thunder Bay\, ON\, Canada
END:VEVENT
BEGIN:VEVENT
DTSTART;TZID=America/Halifax:20260221T210000
DTEND;TZID=America/Halifax:20260221T210000
DTSTAMP:20260421T111550
CREATED:20260220T170009Z
LAST-MODIFIED:20260220T170024Z
UID:8231-1771707600-1771707600@www.waterfrontdistrict.ca
SUMMARY:10000 Days Tool Tribute
DESCRIPTION:
URL:https://www.waterfrontdistrict.ca/event/10000-days-tool-tribute/
LOCATION:Black Pirates Pub\, 215 Red River Rd\, Suite 101\, Thunder Bay\, ON\, Canada
END:VEVENT
BEGIN:VEVENT
DTSTART;TZID=America/Halifax:20260221T213000
DTEND;TZID=America/Halifax:20260221T213000
DTSTAMP:20260421T111550
CREATED:20260220T170757Z
LAST-MODIFIED:20260220T170824Z
UID:8239-1771709400-1771709400@www.waterfrontdistrict.ca
SUMMARY:Live Band Karaoke
DESCRIPTION:
URL:https://www.waterfrontdistrict.ca/event/live-band-karaoke-3/
LOCATION:Red Lion Smokehouse\, 16 Cumberland St S\, Thunder Bay\, ON\, 16 Cumberland St S\, Canada
END:VEVENT
BEGIN:VEVENT
DTSTART;TZID=America/Halifax:20260221T220000
DTEND;TZID=America/Halifax:20260221T220000
DTSTAMP:20260421T111550
CREATED:20260220T165841Z
LAST-MODIFIED:20260220T165854Z
UID:8229-1771711200-1771711200@www.waterfrontdistrict.ca
SUMMARY:Ladies Night
DESCRIPTION:
URL:https://www.waterfrontdistrict.ca/event/ladies-night-7/
LOCATION:NV Music Hall\, 228 Red River Rd\, Thunder Bay\, ON\, Canada
END:VEVENT
BEGIN:VEVENT
DTSTART;TZID=America/Halifax:20260221T220000
DTEND;TZID=America/Halifax:20260221T220000
DTSTAMP:20260421T111550
CREATED:20260220T170122Z
LAST-MODIFIED:20260220T170146Z
UID:8233-1771711200-1771711200@www.waterfrontdistrict.ca
SUMMARY:4 Pillar DJs
DESCRIPTION:
URL:https://www.waterfrontdistrict.ca/event/4-pillar-djs/
LOCATION:The Foundry\, 242 Red River Road\, Thunder Bay\, Ontario\, p7b1a6\, Canada
END:VEVENT
BEGIN:VEVENT
DTSTART;TZID=America/Halifax:20260221T220000
DTEND;TZID=America/Halifax:20260221T220000
DTSTAMP:20260421T111550
CREATED:20260220T170425Z
LAST-MODIFIED:20260220T170454Z
UID:8235-1771711200-1771711200@www.waterfrontdistrict.ca
SUMMARY:Sugar Man Birthday Shakedown
DESCRIPTION:19+
URL:https://www.waterfrontdistrict.ca/event/sugar-man-birthday-shakedown/
LOCATION:The Foundry\, 242 Red River Road\, Thunder Bay\, Ontario\, p7b1a6\, Canada
END:VEVENT
END:VCALENDAR