BEGIN:VCALENDAR
VERSION:2.0
PRODID:-//Waterfront District BIA - ECPv6.15.20//NONSGML v1.0//EN
CALSCALE:GREGORIAN
METHOD:PUBLISH
X-ORIGINAL-URL:https://www.waterfrontdistrict.ca
X-WR-CALDESC:Events for Waterfront District BIA
REFRESH-INTERVAL;VALUE=DURATION:PT1H
X-Robots-Tag:noindex
X-PUBLISHED-TTL:PT1H
BEGIN:VTIMEZONE
TZID:America/Halifax
BEGIN:DAYLIGHT
TZOFFSETFROM:-0400
TZOFFSETTO:-0300
TZNAME:ADT
DTSTART:20250309T060000
END:DAYLIGHT
BEGIN:STANDARD
TZOFFSETFROM:-0300
TZOFFSETTO:-0400
TZNAME:AST
DTSTART:20251102T050000
END:STANDARD
BEGIN:DAYLIGHT
TZOFFSETFROM:-0400
TZOFFSETTO:-0300
TZNAME:ADT
DTSTART:20260308T060000
END:DAYLIGHT
BEGIN:STANDARD
TZOFFSETFROM:-0300
TZOFFSETTO:-0400
TZNAME:AST
DTSTART:20261101T050000
END:STANDARD
BEGIN:DAYLIGHT
TZOFFSETFROM:-0400
TZOFFSETTO:-0300
TZNAME:ADT
DTSTART:20270314T060000
END:DAYLIGHT
BEGIN:STANDARD
TZOFFSETFROM:-0300
TZOFFSETTO:-0400
TZNAME:AST
DTSTART:20271107T050000
END:STANDARD
END:VTIMEZONE
BEGIN:VEVENT
DTSTART;TZID=America/Halifax:20260220T220000
DTEND;TZID=America/Halifax:20260220T220000
DTSTAMP:20260421T143021
CREATED:20260220T164935Z
LAST-MODIFIED:20260220T164948Z
UID:8227-1771624800-1771624800@www.waterfrontdistrict.ca
SUMMARY:DJ Supa
DESCRIPTION:
URL:https://www.waterfrontdistrict.ca/event/dj-supa-6/
LOCATION:Nortenos Cantina\, 235 Red River Rd\, Thunder Bay\, ON\, Canada
END:VEVENT
BEGIN:VEVENT
DTSTART;TZID=America/Halifax:20260221T210000
DTEND;TZID=America/Halifax:20260221T210000
DTSTAMP:20260421T143021
CREATED:20260220T170009Z
LAST-MODIFIED:20260220T170024Z
UID:8231-1771707600-1771707600@www.waterfrontdistrict.ca
SUMMARY:10000 Days Tool Tribute
DESCRIPTION:
URL:https://www.waterfrontdistrict.ca/event/10000-days-tool-tribute/
LOCATION:Black Pirates Pub\, 215 Red River Rd\, Suite 101\, Thunder Bay\, ON\, Canada
END:VEVENT
BEGIN:VEVENT
DTSTART;TZID=America/Halifax:20260221T213000
DTEND;TZID=America/Halifax:20260221T213000
DTSTAMP:20260421T143021
CREATED:20260220T170757Z
LAST-MODIFIED:20260220T170824Z
UID:8239-1771709400-1771709400@www.waterfrontdistrict.ca
SUMMARY:Live Band Karaoke
DESCRIPTION:
URL:https://www.waterfrontdistrict.ca/event/live-band-karaoke-3/
LOCATION:Red Lion Smokehouse\, 16 Cumberland St S\, Thunder Bay\, ON\, 16 Cumberland St S\, Canada
END:VEVENT
BEGIN:VEVENT
DTSTART;TZID=America/Halifax:20260221T220000
DTEND;TZID=America/Halifax:20260221T220000
DTSTAMP:20260421T143021
CREATED:20260220T165841Z
LAST-MODIFIED:20260220T165854Z
UID:8229-1771711200-1771711200@www.waterfrontdistrict.ca
SUMMARY:Ladies Night
DESCRIPTION:
URL:https://www.waterfrontdistrict.ca/event/ladies-night-7/
LOCATION:NV Music Hall\, 228 Red River Rd\, Thunder Bay\, ON\, Canada
END:VEVENT
BEGIN:VEVENT
DTSTART;TZID=America/Halifax:20260221T220000
DTEND;TZID=America/Halifax:20260221T220000
DTSTAMP:20260421T143021
CREATED:20260220T170122Z
LAST-MODIFIED:20260220T170146Z
UID:8233-1771711200-1771711200@www.waterfrontdistrict.ca
SUMMARY:4 Pillar DJs
DESCRIPTION:
URL:https://www.waterfrontdistrict.ca/event/4-pillar-djs/
LOCATION:The Foundry\, 242 Red River Road\, Thunder Bay\, Ontario\, p7b1a6\, Canada
END:VEVENT
BEGIN:VEVENT
DTSTART;TZID=America/Halifax:20260221T220000
DTEND;TZID=America/Halifax:20260221T220000
DTSTAMP:20260421T143021
CREATED:20260220T170425Z
LAST-MODIFIED:20260220T170454Z
UID:8235-1771711200-1771711200@www.waterfrontdistrict.ca
SUMMARY:Sugar Man Birthday Shakedown
DESCRIPTION:19+
URL:https://www.waterfrontdistrict.ca/event/sugar-man-birthday-shakedown/
LOCATION:The Foundry\, 242 Red River Road\, Thunder Bay\, Ontario\, p7b1a6\, Canada
END:VEVENT
BEGIN:VEVENT
DTSTART;TZID=America/Halifax:20260221T220000
DTEND;TZID=America/Halifax:20260221T220000
DTSTAMP:20260421T143021
CREATED:20260220T170613Z
LAST-MODIFIED:20260220T170636Z
UID:8237-1771711200-1771711200@www.waterfrontdistrict.ca
SUMMARY:Love Me JEJE
DESCRIPTION:
URL:https://www.waterfrontdistrict.ca/event/love-me-jeje/
LOCATION:Bloom Bar and Lounge\, 213 Red River Road\, Thunder Bay\, Ontario\, Canada
END:VEVENT
BEGIN:VEVENT
DTSTART;TZID=America/Halifax:20260221T220000
DTEND;TZID=America/Halifax:20260221T220000
DTSTAMP:20260421T143021
CREATED:20260220T170926Z
LAST-MODIFIED:20260220T170953Z
UID:8241-1771711200-1771711200@www.waterfrontdistrict.ca
SUMMARY:DJ Big D
DESCRIPTION:
URL:https://www.waterfrontdistrict.ca/event/dj-big-d/
LOCATION:Nortenos Cantina\, 235 Red River Rd\, Thunder Bay\, ON\, Canada
END:VEVENT
BEGIN:VEVENT
DTSTART;VALUE=DATE:20260222
DTEND;VALUE=DATE:20260223
DTSTAMP:20260421T143021
CREATED:20260220T171635Z
LAST-MODIFIED:20260220T171635Z
UID:8247-1771718400-1771804799@www.waterfrontdistrict.ca
SUMMARY:Bottomless Mimosas
DESCRIPTION:
URL:https://www.waterfrontdistrict.ca/event/bottomless-mimosas-6/
LOCATION:Red Lion Smokehouse\, 16 Cumberland St S\, Thunder Bay\, ON\, 16 Cumberland St S\, Canada
END:VEVENT
BEGIN:VEVENT
DTSTART;TZID=America/Halifax:20260222T100000
DTEND;TZID=America/Halifax:20260222T100000
DTSTAMP:20260421T143021
CREATED:20260220T171257Z
LAST-MODIFIED:20260220T171323Z
UID:8243-1771754400-1771754400@www.waterfrontdistrict.ca
SUMMARY:'Roots & Routes' Art Display In Honour Of Black History Month (TBMA+)
DESCRIPTION:In Market Halls All Week
URL:https://www.waterfrontdistrict.ca/event/roots-routes-art-display-in-honour-of-black-history-month-tbma/
LOCATION:Goods and co\, 251 Red River Rd\, Thunder Bay\, Ontario\, P7B 1A7\, Canada
END:VEVENT
BEGIN:VEVENT
DTSTART;TZID=America/Halifax:20260222T120000
DTEND;TZID=America/Halifax:20260222T120000
DTSTAMP:20260421T143021
CREATED:20260220T171524Z
LAST-MODIFIED:20260220T171536Z
UID:8245-1771761600-1771761600@www.waterfrontdistrict.ca
SUMMARY:Bluegrass Brunch
DESCRIPTION:Music Starts at Noon
URL:https://www.waterfrontdistrict.ca/event/bluegrass-brunch-3/
LOCATION:Red Lion Smokehouse\, 16 Cumberland St S\, Thunder Bay\, ON\, 16 Cumberland St S\, Canada
END:VEVENT
BEGIN:VEVENT
DTSTART;TZID=America/Halifax:20260222T120000
DTEND;TZID=America/Halifax:20260222T150000
DTSTAMP:20260421T143021
CREATED:20260220T173125Z
LAST-MODIFIED:20260220T173125Z
UID:8249-1771761600-1771772400@www.waterfrontdistrict.ca
SUMMARY:MEET ME IN THE FRIENDZONE
DESCRIPTION:
URL:https://www.waterfrontdistrict.ca/event/meet-me-in-the-friendzone/
LOCATION:Goods and co\, 251 Red River Rd\, Thunder Bay\, Ontario\, P7B 1A7\, Canada
END:VEVENT
BEGIN:VEVENT
DTSTART;VALUE=DATE:20260227
DTEND;VALUE=DATE:20260301
DTSTAMP:20260421T143021
CREATED:20260227T153731Z
LAST-MODIFIED:20260227T153903Z
UID:8270-1772150400-1772323199@www.waterfrontdistrict.ca
SUMMARY:Magnus On Thin Ice (World Premiere)
DESCRIPTION:
URL:https://www.waterfrontdistrict.ca/event/magnus-on-thin-ice-world-premiere/
LOCATION:Magnus Theatre\, 10 Algoma St S\, Thunder Bay\, Ontario\, P7B 3A7\, Canada
END:VEVENT
BEGIN:VEVENT
DTSTART;TZID=America/Halifax:20260227T180000
DTEND;TZID=America/Halifax:20260227T210000
DTSTAMP:20260421T143021
CREATED:20260227T152904Z
LAST-MODIFIED:20260227T152904Z
UID:8262-1772215200-1772226000@www.waterfrontdistrict.ca
SUMMARY:Jazz & Old Fashioned Fridays
DESCRIPTION:
URL:https://www.waterfrontdistrict.ca/event/jazz-old-fashioned-fridays-4/
LOCATION:Anchor & Ore\, 2240 Sleeping Giant Pkwy\, Thunder Bay\, ON\, Canada
END:VEVENT
BEGIN:VEVENT
DTSTART;TZID=America/Halifax:20260227T200000
DTEND;TZID=America/Halifax:20260227T200000
DTSTAMP:20260421T143021
CREATED:20260227T152703Z
LAST-MODIFIED:20260227T152720Z
UID:8260-1772222400-1772222400@www.waterfrontdistrict.ca
SUMMARY:Variety Show
DESCRIPTION:
URL:https://www.waterfrontdistrict.ca/event/variety-show/
LOCATION:Red Lion Smokehouse\, 16 Cumberland St S\, Thunder Bay\, ON\, 16 Cumberland St S\, Canada
END:VEVENT
BEGIN:VEVENT
DTSTART;TZID=America/Halifax:20260227T200000
DTEND;TZID=America/Halifax:20260227T220000
DTSTAMP:20260421T143021
CREATED:20260227T153139Z
LAST-MODIFIED:20260227T153139Z
UID:8264-1772222400-1772229600@www.waterfrontdistrict.ca
SUMMARY:Not Your Grandmas Bingo Night "Sweet Treat"
DESCRIPTION:
URL:https://www.waterfrontdistrict.ca/event/not-your-grandmas-bingo-night-sweet-treat/
LOCATION:Pocketchange Bar\, 234 Red River Rd\, Thunder Bay\, ON\, P7B 1A6\, Canada
END:VEVENT
BEGIN:VEVENT
DTSTART;TZID=America/Halifax:20260227T210000
DTEND;TZID=America/Halifax:20260227T210000
DTSTAMP:20260421T143021
CREATED:20260227T152049Z
LAST-MODIFIED:20260227T152145Z
UID:8254-1772226000-1772226000@www.waterfrontdistrict.ca
SUMMARY:Boom 70s British Rock Invasion & Psychedelic Revolution
DESCRIPTION:
URL:https://www.waterfrontdistrict.ca/event/boom-70s-british-rock-invasion-psychedelic-revolution/
LOCATION:Black Pirates Pub\, 215 Red River Rd\, Suite 101\, Thunder Bay\, ON\, Canada
END:VEVENT
BEGIN:VEVENT
DTSTART;TZID=America/Halifax:20260227T210000
DTEND;TZID=America/Halifax:20260227T210000
DTSTAMP:20260421T143021
CREATED:20260227T152506Z
LAST-MODIFIED:20260227T152519Z
UID:8258-1772226000-1772226000@www.waterfrontdistrict.ca
SUMMARY:Country Night
DESCRIPTION:
URL:https://www.waterfrontdistrict.ca/event/country-night/
LOCATION:The Foundry\, 242 Red River Road\, Thunder Bay\, Ontario\, p7b1a6\, Canada
END:VEVENT
BEGIN:VEVENT
DTSTART;TZID=America/Halifax:20260227T210000
DTEND;TZID=America/Halifax:20260227T210000
DTSTAMP:20260421T143021
CREATED:20260227T153255Z
LAST-MODIFIED:20260227T153328Z
UID:8266-1772226000-1772226000@www.waterfrontdistrict.ca
SUMMARY:Disco Night
DESCRIPTION:
URL:https://www.waterfrontdistrict.ca/event/disco-night/
LOCATION:Bloom Bar and Lounge\, 213 Red River Road\, Thunder Bay\, Ontario\, Canada
END:VEVENT
BEGIN:VEVENT
DTSTART;TZID=America/Halifax:20260227T220000
DTEND;TZID=America/Halifax:20260227T220000
DTSTAMP:20260421T143021
CREATED:20260227T152353Z
LAST-MODIFIED:20260227T152409Z
UID:8256-1772229600-1772229600@www.waterfrontdistrict.ca
SUMMARY:DJ Dang
DESCRIPTION:
URL:https://www.waterfrontdistrict.ca/event/dj-dang/
LOCATION:Nortenos Cantina\, 235 Red River Rd\, Thunder Bay\, ON\, Canada
END:VEVENT
BEGIN:VEVENT
DTSTART;TZID=America/Halifax:20260227T220000
DTEND;TZID=America/Halifax:20260227T220000
DTSTAMP:20260421T143021
CREATED:20260227T153459Z
LAST-MODIFIED:20260227T153602Z
UID:8268-1772229600-1772229600@www.waterfrontdistrict.ca
SUMMARY:2016 Throwback Party
DESCRIPTION:
URL:https://www.waterfrontdistrict.ca/event/2016-throwback-party-2/
LOCATION:NV Music Hall\, 228 Red River Rd\, Thunder Bay\, ON\, Canada
END:VEVENT
BEGIN:VEVENT
DTSTART;TZID=America/Halifax:20260228T170000
DTEND;TZID=America/Halifax:20260228T170000
DTSTAMP:20260421T143021
CREATED:20260227T154950Z
LAST-MODIFIED:20260227T155004Z
UID:8280-1772298000-1772298000@www.waterfrontdistrict.ca
SUMMARY:Ladies Night
DESCRIPTION:
URL:https://www.waterfrontdistrict.ca/event/ladies-night-8/
LOCATION:The Foundry\, 242 Red River Road\, Thunder Bay\, Ontario\, p7b1a6\, Canada
END:VEVENT
BEGIN:VEVENT
DTSTART;TZID=America/Halifax:20260228T180000
DTEND;TZID=America/Halifax:20260228T180000
DTSTAMP:20260421T143021
CREATED:20260227T155451Z
LAST-MODIFIED:20260227T155504Z
UID:8286-1772301600-1772301600@www.waterfrontdistrict.ca
SUMMARY:Feast On Culinary Event
DESCRIPTION:Ticketed
URL:https://www.waterfrontdistrict.ca/event/feast-on-culinary-event/
LOCATION:Goods and co\, 251 Red River Rd\, Thunder Bay\, Ontario\, P7B 1A7\, Canada
END:VEVENT
BEGIN:VEVENT
DTSTART;TZID=America/Halifax:20260228T203000
DTEND;TZID=America/Halifax:20260228T203000
DTSTAMP:20260421T143021
CREATED:20260227T154325Z
LAST-MODIFIED:20260227T154341Z
UID:8274-1772310600-1772310600@www.waterfrontdistrict.ca
SUMMARY:Sober Karaoke
DESCRIPTION:
URL:https://www.waterfrontdistrict.ca/event/sober-karaoke-24/
LOCATION:Howl at The Moon Dry Bar\, 8 Cumberland st S\, Thunder Bay
END:VEVENT
BEGIN:VEVENT
DTSTART;TZID=America/Halifax:20260228T210000
DTEND;TZID=America/Halifax:20260228T210000
DTSTAMP:20260421T143021
CREATED:20260227T154151Z
LAST-MODIFIED:20260227T154218Z
UID:8272-1772312400-1772312400@www.waterfrontdistrict.ca
SUMMARY:Live Band Karaoke
DESCRIPTION:
URL:https://www.waterfrontdistrict.ca/event/live-band-karaoke-4/
LOCATION:Red Lion Smokehouse\, 16 Cumberland St S\, Thunder Bay\, ON\, 16 Cumberland St S\, Canada
END:VEVENT
BEGIN:VEVENT
DTSTART;TZID=America/Halifax:20260228T210000
DTEND;TZID=America/Halifax:20260228T210000
DTSTAMP:20260421T143021
CREATED:20260227T154512Z
LAST-MODIFIED:20260227T154526Z
UID:8276-1772312400-1772312400@www.waterfrontdistrict.ca
SUMMARY:Loud & Proud Frost Festival Edition
DESCRIPTION:
URL:https://www.waterfrontdistrict.ca/event/loud-proud-frost-festival-edition/
LOCATION:Black Pirates Pub\, 215 Red River Rd\, Suite 101\, Thunder Bay\, ON\, Canada
END:VEVENT
BEGIN:VEVENT
DTSTART;TZID=America/Halifax:20260228T210000
DTEND;TZID=America/Halifax:20260228T210000
DTSTAMP:20260421T143021
CREATED:20260227T155302Z
LAST-MODIFIED:20260227T155313Z
UID:8284-1772312400-1772312400@www.waterfrontdistrict.ca
SUMMARY:Reckless Abandon + Friends
DESCRIPTION:
URL:https://www.waterfrontdistrict.ca/event/reckless-abandon-friends/
LOCATION:Bloom Bar and Lounge\, 213 Red River Road\, Thunder Bay\, Ontario\, Canada
END:VEVENT
BEGIN:VEVENT
DTSTART;TZID=America/Halifax:20260228T220000
DTEND;TZID=America/Halifax:20260228T220000
DTSTAMP:20260421T143021
CREATED:20260227T154710Z
LAST-MODIFIED:20260227T154721Z
UID:8278-1772316000-1772316000@www.waterfrontdistrict.ca
SUMMARY:DJ Pura Vida
DESCRIPTION:
URL:https://www.waterfrontdistrict.ca/event/dj-pura-vida-11/
LOCATION:Nortenos Cantina\, 235 Red River Rd\, Thunder Bay\, ON\, Canada
END:VEVENT
BEGIN:VEVENT
DTSTART;TZID=America/Halifax:20260228T220000
DTEND;TZID=America/Halifax:20260228T220000
DTSTAMP:20260421T143021
CREATED:20260227T155124Z
LAST-MODIFIED:20260227T155136Z
UID:8282-1772316000-1772316000@www.waterfrontdistrict.ca
SUMMARY:4 Pillar DJs
DESCRIPTION:
URL:https://www.waterfrontdistrict.ca/event/4-pillar-djs-2/
LOCATION:The Foundry\, 242 Red River Road\, Thunder Bay\, Ontario\, p7b1a6\, Canada
END:VEVENT
BEGIN:VEVENT
DTSTART;TZID=America/Halifax:20260228T220000
DTEND;TZID=America/Halifax:20260228T220000
DTSTAMP:20260421T143021
CREATED:20260227T155646Z
LAST-MODIFIED:20260227T155719Z
UID:8288-1772316000-1772316000@www.waterfrontdistrict.ca
SUMMARY:Ladies Night
DESCRIPTION:
URL:https://www.waterfrontdistrict.ca/event/ladies-night-9/
LOCATION:NV Music Hall\, 228 Red River Rd\, Thunder Bay\, ON\, Canada
END:VEVENT
END:VCALENDAR