BEGIN:VCALENDAR
VERSION:2.0
PRODID:-//Waterfront District BIA - ECPv6.15.20//NONSGML v1.0//EN
CALSCALE:GREGORIAN
METHOD:PUBLISH
X-ORIGINAL-URL:https://www.waterfrontdistrict.ca
X-WR-CALDESC:Events for Waterfront District BIA
REFRESH-INTERVAL;VALUE=DURATION:PT1H
X-Robots-Tag:noindex
X-PUBLISHED-TTL:PT1H
BEGIN:VTIMEZONE
TZID:America/Halifax
BEGIN:DAYLIGHT
TZOFFSETFROM:-0400
TZOFFSETTO:-0300
TZNAME:ADT
DTSTART:20250309T060000
END:DAYLIGHT
BEGIN:STANDARD
TZOFFSETFROM:-0300
TZOFFSETTO:-0400
TZNAME:AST
DTSTART:20251102T050000
END:STANDARD
BEGIN:DAYLIGHT
TZOFFSETFROM:-0400
TZOFFSETTO:-0300
TZNAME:ADT
DTSTART:20260308T060000
END:DAYLIGHT
BEGIN:STANDARD
TZOFFSETFROM:-0300
TZOFFSETTO:-0400
TZNAME:AST
DTSTART:20261101T050000
END:STANDARD
BEGIN:DAYLIGHT
TZOFFSETFROM:-0400
TZOFFSETTO:-0300
TZNAME:ADT
DTSTART:20270314T060000
END:DAYLIGHT
BEGIN:STANDARD
TZOFFSETFROM:-0300
TZOFFSETTO:-0400
TZNAME:AST
DTSTART:20271107T050000
END:STANDARD
END:VTIMEZONE
BEGIN:VEVENT
DTSTART;TZID=America/Halifax:20260228T210000
DTEND;TZID=America/Halifax:20260228T210000
DTSTAMP:20260421T173342
CREATED:20260227T154151Z
LAST-MODIFIED:20260227T154218Z
UID:8272-1772312400-1772312400@www.waterfrontdistrict.ca
SUMMARY:Live Band Karaoke
DESCRIPTION:
URL:https://www.waterfrontdistrict.ca/event/live-band-karaoke-4/
LOCATION:Red Lion Smokehouse\, 16 Cumberland St S\, Thunder Bay\, ON\, 16 Cumberland St S\, Canada
END:VEVENT
BEGIN:VEVENT
DTSTART;TZID=America/Halifax:20260228T210000
DTEND;TZID=America/Halifax:20260228T210000
DTSTAMP:20260421T173342
CREATED:20260227T154512Z
LAST-MODIFIED:20260227T154526Z
UID:8276-1772312400-1772312400@www.waterfrontdistrict.ca
SUMMARY:Loud & Proud Frost Festival Edition
DESCRIPTION:
URL:https://www.waterfrontdistrict.ca/event/loud-proud-frost-festival-edition/
LOCATION:Black Pirates Pub\, 215 Red River Rd\, Suite 101\, Thunder Bay\, ON\, Canada
END:VEVENT
BEGIN:VEVENT
DTSTART;TZID=America/Halifax:20260228T210000
DTEND;TZID=America/Halifax:20260228T210000
DTSTAMP:20260421T173342
CREATED:20260227T155302Z
LAST-MODIFIED:20260227T155313Z
UID:8284-1772312400-1772312400@www.waterfrontdistrict.ca
SUMMARY:Reckless Abandon + Friends
DESCRIPTION:
URL:https://www.waterfrontdistrict.ca/event/reckless-abandon-friends/
LOCATION:Bloom Bar and Lounge\, 213 Red River Road\, Thunder Bay\, Ontario\, Canada
END:VEVENT
BEGIN:VEVENT
DTSTART;TZID=America/Halifax:20260228T220000
DTEND;TZID=America/Halifax:20260228T220000
DTSTAMP:20260421T173342
CREATED:20260227T154710Z
LAST-MODIFIED:20260227T154721Z
UID:8278-1772316000-1772316000@www.waterfrontdistrict.ca
SUMMARY:DJ Pura Vida
DESCRIPTION:
URL:https://www.waterfrontdistrict.ca/event/dj-pura-vida-11/
LOCATION:Nortenos Cantina\, 235 Red River Rd\, Thunder Bay\, ON\, Canada
END:VEVENT
BEGIN:VEVENT
DTSTART;TZID=America/Halifax:20260228T220000
DTEND;TZID=America/Halifax:20260228T220000
DTSTAMP:20260421T173342
CREATED:20260227T155124Z
LAST-MODIFIED:20260227T155136Z
UID:8282-1772316000-1772316000@www.waterfrontdistrict.ca
SUMMARY:4 Pillar DJs
DESCRIPTION:
URL:https://www.waterfrontdistrict.ca/event/4-pillar-djs-2/
LOCATION:The Foundry\, 242 Red River Road\, Thunder Bay\, Ontario\, p7b1a6\, Canada
END:VEVENT
BEGIN:VEVENT
DTSTART;TZID=America/Halifax:20260228T220000
DTEND;TZID=America/Halifax:20260228T220000
DTSTAMP:20260421T173342
CREATED:20260227T155646Z
LAST-MODIFIED:20260227T155719Z
UID:8288-1772316000-1772316000@www.waterfrontdistrict.ca
SUMMARY:Ladies Night
DESCRIPTION:
URL:https://www.waterfrontdistrict.ca/event/ladies-night-9/
LOCATION:NV Music Hall\, 228 Red River Rd\, Thunder Bay\, ON\, Canada
END:VEVENT
BEGIN:VEVENT
DTSTART;VALUE=DATE:20260301
DTEND;VALUE=DATE:20260302
DTSTAMP:20260421T173342
CREATED:20260227T160040Z
LAST-MODIFIED:20260227T160040Z
UID:8292-1772323200-1772409599@www.waterfrontdistrict.ca
SUMMARY:Bottomless Mimosas
DESCRIPTION:
URL:https://www.waterfrontdistrict.ca/event/bottomless-mimosas-7/
LOCATION:Red Lion Smokehouse\, 16 Cumberland St S\, Thunder Bay\, ON\, 16 Cumberland St S\, Canada
END:VEVENT
BEGIN:VEVENT
DTSTART;TZID=America/Halifax:20260301T120000
DTEND;TZID=America/Halifax:20260301T150000
DTSTAMP:20260421T173342
CREATED:20260227T160231Z
LAST-MODIFIED:20260227T160231Z
UID:8294-1772366400-1772377200@www.waterfrontdistrict.ca
SUMMARY:Costless Clothes Mending
DESCRIPTION:
URL:https://www.waterfrontdistrict.ca/event/costless-clothes-mending/
LOCATION:Loud Women Collective\, 251 Red River Road\, Thunder Bay\, ON\, P7B 1A7\, Canada
END:VEVENT
BEGIN:VEVENT
DTSTART;TZID=America/Halifax:20260301T160000
DTEND;TZID=America/Halifax:20260301T160000
DTSTAMP:20260421T173342
CREATED:20260227T155921Z
LAST-MODIFIED:20260227T155935Z
UID:8290-1772380800-1772380800@www.waterfrontdistrict.ca
SUMMARY:Movie Night
DESCRIPTION:
URL:https://www.waterfrontdistrict.ca/event/movie-night-11/
LOCATION:Paramount Live\, 24 Court St S\, Thunder Bay
END:VEVENT
BEGIN:VEVENT
DTSTART;TZID=America/Halifax:20260301T190000
DTEND;TZID=America/Halifax:20260301T190000
DTSTAMP:20260421T173342
CREATED:20260227T160409Z
LAST-MODIFIED:20260227T160422Z
UID:8297-1772391600-1772391600@www.waterfrontdistrict.ca
SUMMARY:Sharing Circle With Ron Kanutski
DESCRIPTION:Zoom or In Person
URL:https://www.waterfrontdistrict.ca/event/sharing-circle-with-ron-kanutski/
LOCATION:Howl at The Moon Dry Bar\, 8 Cumberland st S\, Thunder Bay
END:VEVENT
BEGIN:VEVENT
DTSTART;TZID=America/Halifax:20260306T170000
DTEND;TZID=America/Halifax:20260306T170000
DTSTAMP:20260421T173342
CREATED:20260306T152657Z
LAST-MODIFIED:20260306T152716Z
UID:8324-1772816400-1772816400@www.waterfrontdistrict.ca
SUMMARY:Pocket After Dark
DESCRIPTION:
URL:https://www.waterfrontdistrict.ca/event/pocket-after-dark-36/
LOCATION:Pocketchange Bar\, 234 Red River Rd\, Thunder Bay\, ON\, P7B 1A6\, Canada
END:VEVENT
BEGIN:VEVENT
DTSTART;TZID=America/Halifax:20260306T190000
DTEND;TZID=America/Halifax:20260306T220000
DTSTAMP:20260421T173342
CREATED:20260306T152515Z
LAST-MODIFIED:20260306T152515Z
UID:8322-1772823600-1772834400@www.waterfrontdistrict.ca
SUMMARY:Stones Throw Jason Miller Art Opening
DESCRIPTION:
URL:https://www.waterfrontdistrict.ca/event/stones-throw-jason-miller-art-opening/
LOCATION:Co. Lab Gallery\, 251 Red River Road\, Thunder Bay\, ON\, P7B 1A7\, Canada
END:VEVENT
BEGIN:VEVENT
DTSTART;TZID=America/Halifax:20260306T200000
DTEND;TZID=America/Halifax:20260306T200000
DTSTAMP:20260421T173342
CREATED:20260306T152332Z
LAST-MODIFIED:20260306T152346Z
UID:8320-1772827200-1772827200@www.waterfrontdistrict.ca
SUMMARY:Cover Nights
DESCRIPTION:
URL:https://www.waterfrontdistrict.ca/event/cover-nights-2/
LOCATION:Red Lion Smokehouse\, 16 Cumberland St S\, Thunder Bay\, ON\, 16 Cumberland St S\, Canada
END:VEVENT
BEGIN:VEVENT
DTSTART;TZID=America/Halifax:20260306T210000
DTEND;TZID=America/Halifax:20260306T210000
DTSTAMP:20260421T173342
CREATED:20260306T151158Z
LAST-MODIFIED:20260306T151321Z
UID:8312-1772830800-1772830800@www.waterfrontdistrict.ca
SUMMARY:The Shouldnts Cartwrights Mike Fraser
DESCRIPTION:
URL:https://www.waterfrontdistrict.ca/event/the-shouldnts-cartwrights-mike-fraser/
LOCATION:Black Pirates Pub\, 215 Red River Rd\, Suite 101\, Thunder Bay\, ON\, Canada
END:VEVENT
BEGIN:VEVENT
DTSTART;TZID=America/Halifax:20260306T210000
DTEND;TZID=America/Halifax:20260306T210000
DTSTAMP:20260421T173342
CREATED:20260306T151441Z
LAST-MODIFIED:20260306T151548Z
UID:8314-1772830800-1772830800@www.waterfrontdistrict.ca
SUMMARY:Thirsty Monks
DESCRIPTION:
URL:https://www.waterfrontdistrict.ca/event/thirsty-monks/
LOCATION:The Foundry\, 242 Red River Road\, Thunder Bay\, Ontario\, p7b1a6\, Canada
END:VEVENT
BEGIN:VEVENT
DTSTART;TZID=America/Halifax:20260306T220000
DTEND;TZID=America/Halifax:20260306T220000
DTSTAMP:20260421T173342
CREATED:20260306T151745Z
LAST-MODIFIED:20260306T151800Z
UID:8316-1772834400-1772834400@www.waterfrontdistrict.ca
SUMMARY:Holi Night
DESCRIPTION:
URL:https://www.waterfrontdistrict.ca/event/holi-night/
LOCATION:NV Music Hall\, 228 Red River Rd\, Thunder Bay\, ON\, Canada
END:VEVENT
BEGIN:VEVENT
DTSTART;TZID=America/Halifax:20260306T220000
DTEND;TZID=America/Halifax:20260306T220000
DTSTAMP:20260421T173342
CREATED:20260306T152131Z
LAST-MODIFIED:20260306T152203Z
UID:8318-1772834400-1772834400@www.waterfrontdistrict.ca
SUMMARY:Live Music With The Gintonics
DESCRIPTION:
URL:https://www.waterfrontdistrict.ca/event/live-music-with-the-gintonics/
LOCATION:Bloom Bar and Lounge\, 213 Red River Road\, Thunder Bay\, Ontario\, Canada
END:VEVENT
BEGIN:VEVENT
DTSTART;TZID=America/Halifax:20260307T170000
DTEND;TZID=America/Halifax:20260307T170000
DTSTAMP:20260421T173342
CREATED:20260306T180755Z
LAST-MODIFIED:20260306T180831Z
UID:8334-1772902800-1772902800@www.waterfrontdistrict.ca
SUMMARY:80s Rock Band Rock & Retro
DESCRIPTION:
URL:https://www.waterfrontdistrict.ca/event/80s-rock-band-rock-retro/
LOCATION:Pocketchange Bar\, 234 Red River Rd\, Thunder Bay\, ON\, P7B 1A6\, Canada
END:VEVENT
BEGIN:VEVENT
DTSTART;TZID=America/Halifax:20260307T200000
DTEND;TZID=America/Halifax:20260307T200000
DTSTAMP:20260421T173342
CREATED:20260306T181220Z
LAST-MODIFIED:20260306T181247Z
UID:8338-1772913600-1772913600@www.waterfrontdistrict.ca
SUMMARY:Live & Local: Ted Hammill
DESCRIPTION:
URL:https://www.waterfrontdistrict.ca/event/live-local-ted-hammill/
LOCATION:Red Lion Smokehouse\, 16 Cumberland St S\, Thunder Bay\, ON\, 16 Cumberland St S\, Canada
END:VEVENT
BEGIN:VEVENT
DTSTART;TZID=America/Halifax:20260307T210000
DTEND;TZID=America/Halifax:20260307T210000
DTSTAMP:20260421T173342
CREATED:20260306T152904Z
LAST-MODIFIED:20260306T152927Z
UID:8326-1772917200-1772917200@www.waterfrontdistrict.ca
SUMMARY:The Cover Show XXXIII Encore
DESCRIPTION:
URL:https://www.waterfrontdistrict.ca/event/the-cover-show-xxxiii-encore/
LOCATION:Black Pirates Pub\, 215 Red River Rd\, Suite 101\, Thunder Bay\, ON\, Canada
END:VEVENT
BEGIN:VEVENT
DTSTART;TZID=America/Halifax:20260307T210000
DTEND;TZID=America/Halifax:20260307T210000
DTSTAMP:20260421T173342
CREATED:20260306T181022Z
LAST-MODIFIED:20260306T181043Z
UID:8336-1772917200-1772917200@www.waterfrontdistrict.ca
SUMMARY:Open Mic Karaoke
DESCRIPTION:
URL:https://www.waterfrontdistrict.ca/event/open-mic-karaoke/
LOCATION:Bloom Bar and Lounge\, 213 Red River Road\, Thunder Bay\, Ontario\, Canada
END:VEVENT
BEGIN:VEVENT
DTSTART;TZID=America/Halifax:20260307T220000
DTEND;TZID=America/Halifax:20260307T220000
DTSTAMP:20260421T173342
CREATED:20260306T153040Z
LAST-MODIFIED:20260306T153138Z
UID:8328-1772920800-1772920800@www.waterfrontdistrict.ca
SUMMARY:4Pillar DJs
DESCRIPTION:
URL:https://www.waterfrontdistrict.ca/event/4pillar-djs-6/
LOCATION:The Foundry\, 242 Red River Road\, Thunder Bay\, Ontario\, p7b1a6\, Canada
END:VEVENT
BEGIN:VEVENT
DTSTART;TZID=America/Halifax:20260307T220000
DTEND;TZID=America/Halifax:20260307T220000
DTSTAMP:20260421T173342
CREATED:20260306T153317Z
LAST-MODIFIED:20260306T153349Z
UID:8330-1772920800-1772920800@www.waterfrontdistrict.ca
SUMMARY:DJ Sugarman
DESCRIPTION:
URL:https://www.waterfrontdistrict.ca/event/dj-sugarman-9/
LOCATION:The Foundry\, 242 Red River Road\, Thunder Bay\, Ontario\, p7b1a6\, Canada
END:VEVENT
BEGIN:VEVENT
DTSTART;TZID=America/Halifax:20260307T220000
DTEND;TZID=America/Halifax:20260307T220000
DTSTAMP:20260421T173342
CREATED:20260306T154814Z
LAST-MODIFIED:20260306T154828Z
UID:8332-1772920800-1772920800@www.waterfrontdistrict.ca
SUMMARY:Ladies Night
DESCRIPTION:
URL:https://www.waterfrontdistrict.ca/event/ladies-night-10/
LOCATION:NV Music Hall\, 228 Red River Rd\, Thunder Bay\, ON\, Canada
END:VEVENT
BEGIN:VEVENT
DTSTART;VALUE=DATE:20260308
DTEND;VALUE=DATE:20260309
DTSTAMP:20260421T173342
CREATED:20260306T181849Z
LAST-MODIFIED:20260306T181849Z
UID:8346-1772928000-1773014399@www.waterfrontdistrict.ca
SUMMARY:Bottomless Mimosas
DESCRIPTION:
URL:https://www.waterfrontdistrict.ca/event/bottomless-mimosas-8/
LOCATION:Red Lion Smokehouse\, 16 Cumberland St S\, Thunder Bay\, ON\, 16 Cumberland St S\, Canada
END:VEVENT
BEGIN:VEVENT
DTSTART;TZID=America/Halifax:20260308T100000
DTEND;TZID=America/Halifax:20260308T140000
DTSTAMP:20260421T173342
CREATED:20260306T181550Z
LAST-MODIFIED:20260306T181550Z
UID:8342-1772964000-1772978400@www.waterfrontdistrict.ca
SUMMARY:International Women's Day Mimosas
DESCRIPTION:
URL:https://www.waterfrontdistrict.ca/event/international-womens-day-mimosas/
LOCATION:Woodside Bar\, 251 Red River Road\, Thunder Bay\, ON\, P7B 1A7\, Canada
END:VEVENT
BEGIN:VEVENT
DTSTART;TZID=America/Halifax:20260308T120000
DTEND;TZID=America/Halifax:20260308T150000
DTSTAMP:20260421T173342
CREATED:20260306T181408Z
LAST-MODIFIED:20260306T181425Z
UID:8340-1772971200-1772982000@www.waterfrontdistrict.ca
SUMMARY:Trinket Swap
DESCRIPTION:
URL:https://www.waterfrontdistrict.ca/event/trinket-swap/
LOCATION:Loud Women Collective\, 251 Red River Road\, Thunder Bay\, ON\, P7B 1A7\, Canada
END:VEVENT
BEGIN:VEVENT
DTSTART;TZID=America/Halifax:20260308T150000
DTEND;TZID=America/Halifax:20260308T200000
DTSTAMP:20260421T173342
CREATED:20260306T181729Z
LAST-MODIFIED:20260306T181744Z
UID:8344-1772982000-1773000000@www.waterfrontdistrict.ca
SUMMARY:International Women's Day
DESCRIPTION:
URL:https://www.waterfrontdistrict.ca/event/international-womens-day/
LOCATION:Lakehead Beer Co\, 206 Park Ave\, Thunder Bay
END:VEVENT
BEGIN:VEVENT
DTSTART;TZID=America/Halifax:20260312T193000
DTEND;TZID=America/Halifax:20260312T193000
DTSTAMP:20260421T173342
CREATED:20260312T233420Z
LAST-MODIFIED:20260312T233521Z
UID:8367-1773343800-1773343800@www.waterfrontdistrict.ca
SUMMARY:Celtic Night & Wing Night
DESCRIPTION:
URL:https://www.waterfrontdistrict.ca/event/celtic-night-wing-night/
LOCATION:Red Lion Smokehouse\, 16 Cumberland St S\, Thunder Bay\, ON\, 16 Cumberland St S\, Canada
END:VEVENT
BEGIN:VEVENT
DTSTART;TZID=America/Halifax:20260313T110000
DTEND;TZID=America/Halifax:20260313T110000
DTSTAMP:20260421T173342
CREATED:20260313T012351Z
LAST-MODIFIED:20260313T012525Z
UID:8377-1773399600-1773399600@www.waterfrontdistrict.ca
SUMMARY:Cold Slate Creamery Opening
DESCRIPTION:
URL:https://www.waterfrontdistrict.ca/event/cold-slate-creamery-opening/
LOCATION:Goods and co\, 251 Red River Rd\, Thunder Bay\, Ontario\, P7B 1A7\, Canada
END:VEVENT
END:VCALENDAR