BEGIN:VCALENDAR
VERSION:2.0
PRODID:-//Waterfront District BIA - ECPv6.15.20//NONSGML v1.0//EN
CALSCALE:GREGORIAN
METHOD:PUBLISH
X-ORIGINAL-URL:https://www.waterfrontdistrict.ca
X-WR-CALDESC:Events for Waterfront District BIA
REFRESH-INTERVAL;VALUE=DURATION:PT1H
X-Robots-Tag:noindex
X-PUBLISHED-TTL:PT1H
BEGIN:VTIMEZONE
TZID:America/Halifax
BEGIN:DAYLIGHT
TZOFFSETFROM:-0400
TZOFFSETTO:-0300
TZNAME:ADT
DTSTART:20250309T060000
END:DAYLIGHT
BEGIN:STANDARD
TZOFFSETFROM:-0300
TZOFFSETTO:-0400
TZNAME:AST
DTSTART:20251102T050000
END:STANDARD
BEGIN:DAYLIGHT
TZOFFSETFROM:-0400
TZOFFSETTO:-0300
TZNAME:ADT
DTSTART:20260308T060000
END:DAYLIGHT
BEGIN:STANDARD
TZOFFSETFROM:-0300
TZOFFSETTO:-0400
TZNAME:AST
DTSTART:20261101T050000
END:STANDARD
BEGIN:DAYLIGHT
TZOFFSETFROM:-0400
TZOFFSETTO:-0300
TZNAME:ADT
DTSTART:20270314T060000
END:DAYLIGHT
BEGIN:STANDARD
TZOFFSETFROM:-0300
TZOFFSETTO:-0400
TZNAME:AST
DTSTART:20271107T050000
END:STANDARD
END:VTIMEZONE
BEGIN:VEVENT
DTSTART;TZID=America/Halifax:20260328T220000
DTEND;TZID=America/Halifax:20260328T220000
DTSTAMP:20260422T054329
CREATED:20260313T154552Z
LAST-MODIFIED:20260313T154612Z
UID:8468-1774735200-1774735200@www.waterfrontdistrict.ca
SUMMARY:Bashment
DESCRIPTION:
URL:https://www.waterfrontdistrict.ca/event/bashment/
LOCATION:The Foundry\, 242 Red River Road\, Thunder Bay\, Ontario\, p7b1a6\, Canada
END:VEVENT
BEGIN:VEVENT
DTSTART;TZID=America/Halifax:20260329T100000
DTEND;TZID=America/Halifax:20260329T140000
DTSTAMP:20260422T054329
CREATED:20260313T151954Z
LAST-MODIFIED:20260313T151954Z
UID:8448-1774778400-1774792800@www.waterfrontdistrict.ca
SUMMARY:Easter Bunny Photos
DESCRIPTION:
URL:https://www.waterfrontdistrict.ca/event/easter-bunny-photos/
LOCATION:Goods and co\, 251 Red River Rd\, Thunder Bay\, Ontario\, P7B 1A7\, Canada
END:VEVENT
BEGIN:VEVENT
DTSTART;TZID=America/Halifax:20260329T120000
DTEND;TZID=America/Halifax:20260329T150000
DTSTAMP:20260422T054329
CREATED:20260313T150739Z
LAST-MODIFIED:20260313T150739Z
UID:8436-1774785600-1774796400@www.waterfrontdistrict.ca
SUMMARY:Meet Me In The Friendzone
DESCRIPTION:
URL:https://www.waterfrontdistrict.ca/event/meet-me-in-the-friendzone-3/
LOCATION:Loud Women Collective\, 251 Red River Road\, Thunder Bay\, ON\, P7B 1A7\, Canada
END:VEVENT
BEGIN:VEVENT
DTSTART;TZID=America/Halifax:20260329T200000
DTEND;TZID=America/Halifax:20260329T200000
DTSTAMP:20260422T054329
CREATED:20260313T150132Z
LAST-MODIFIED:20260313T150149Z
UID:8430-1774814400-1774814400@www.waterfrontdistrict.ca
SUMMARY:EXCUSES EXCUSES
DESCRIPTION:All ages
URL:https://www.waterfrontdistrict.ca/event/excuses-excuses/
LOCATION:Black Pirates Pub\, 215 Red River Rd\, Suite 101\, Thunder Bay\, ON\, Canada
END:VEVENT
BEGIN:VEVENT
DTSTART;TZID=America/Halifax:20260403T190000
DTEND;TZID=America/Halifax:20260403T220000
DTSTAMP:20260422T054329
CREATED:20260327T143029Z
LAST-MODIFIED:20260327T143029Z
UID:8526-1775242800-1775253600@www.waterfrontdistrict.ca
SUMMARY:PORTALS Art Opening
DESCRIPTION:
URL:https://www.waterfrontdistrict.ca/event/portals-art-opening/
LOCATION:Co. Lab Gallery\, 251 Red River Road\, Thunder Bay\, ON\, P7B 1A7\, Canada
END:VEVENT
BEGIN:VEVENT
DTSTART;TZID=America/Halifax:20260406T210000
DTEND;TZID=America/Halifax:20260406T210000
DTSTAMP:20260422T054329
CREATED:20260326T005232Z
LAST-MODIFIED:20260326T005358Z
UID:8509-1775509200-1775509200@www.waterfrontdistrict.ca
SUMMARY:Sparrow Blue With William Murray And Mitch Tones
DESCRIPTION:
URL:https://www.waterfrontdistrict.ca/event/sparrow-blue-with-william-murray-and-mitch-tones/
LOCATION:The Foundry\, 242 Red River Road\, Thunder Bay\, Ontario\, p7b1a6\, Canada
END:VEVENT
BEGIN:VEVENT
DTSTART;TZID=America/Halifax:20260409T193000
DTEND;TZID=America/Halifax:20260409T193000
DTSTAMP:20260422T054329
CREATED:20260408T200240Z
LAST-MODIFIED:20260408T200300Z
UID:8606-1775763000-1775763000@www.waterfrontdistrict.ca
SUMMARY:Celtic Night & Wing Night
DESCRIPTION:
URL:https://www.waterfrontdistrict.ca/event/celtic-night-wing-night-2/
LOCATION:Red Lion Smokehouse\, 16 Cumberland St S\, Thunder Bay\, ON\, 16 Cumberland St S\, Canada
END:VEVENT
BEGIN:VEVENT
DTSTART;TZID=America/Halifax:20260409T210000
DTEND;TZID=America/Halifax:20260409T210000
DTSTAMP:20260422T054329
CREATED:20260408T154244Z
LAST-MODIFIED:20260408T154303Z
UID:8553-1775768400-1775768400@www.waterfrontdistrict.ca
SUMMARY:HARDCORE TROUBADOUR
DESCRIPTION:
URL:https://www.waterfrontdistrict.ca/event/hardcore-troubadour/
LOCATION:The Foundry\, 242 Red River Road\, Thunder Bay\, Ontario\, p7b1a6\, Canada
END:VEVENT
BEGIN:VEVENT
DTSTART;TZID=America/Halifax:20260410T200000
DTEND;TZID=America/Halifax:20260410T200000
DTSTAMP:20260422T054329
CREATED:20260408T200549Z
LAST-MODIFIED:20260408T200608Z
UID:8608-1775851200-1775851200@www.waterfrontdistrict.ca
SUMMARY:Live & Local: Cover Nights
DESCRIPTION:
URL:https://www.waterfrontdistrict.ca/event/live-local-cover-nights/
LOCATION:Red Lion Smokehouse\, 16 Cumberland St S\, Thunder Bay\, ON\, 16 Cumberland St S\, Canada
END:VEVENT
BEGIN:VEVENT
DTSTART;TZID=America/Halifax:20260410T210000
DTEND;TZID=America/Halifax:20260410T210000
DTSTAMP:20260422T054329
CREATED:20260313T150333Z
LAST-MODIFIED:20260313T150350Z
UID:8432-1775854800-1775854800@www.waterfrontdistrict.ca
SUMMARY:Sugar & Sound Girls To The Front A Female/Queer Artist Showcase
DESCRIPTION:
URL:https://www.waterfrontdistrict.ca/event/sugar-sound-girls-to-the-front-a-female-queer-artist-showcase/
LOCATION:Black Pirates Pub\, 215 Red River Rd\, Suite 101\, Thunder Bay\, ON\, Canada
END:VEVENT
BEGIN:VEVENT
DTSTART;TZID=America/Halifax:20260410T210000
DTEND;TZID=America/Halifax:20260410T210000
DTSTAMP:20260422T054329
CREATED:20260327T142343Z
LAST-MODIFIED:20260327T142357Z
UID:8522-1775854800-1775854800@www.waterfrontdistrict.ca
SUMMARY:White RHINO
DESCRIPTION:
URL:https://www.waterfrontdistrict.ca/event/white-rhino/
LOCATION:Bloom Bar and Lounge\, 213 Red River Road\, Thunder Bay\, Ontario\, Canada
END:VEVENT
BEGIN:VEVENT
DTSTART;TZID=America/Halifax:20260410T210000
DTEND;TZID=America/Halifax:20260410T210000
DTSTAMP:20260422T054329
CREATED:20260408T154514Z
LAST-MODIFIED:20260408T154702Z
UID:8555-1775854800-1775854800@www.waterfrontdistrict.ca
SUMMARY:LUKEWARM & THE COLD ONES
DESCRIPTION:
URL:https://www.waterfrontdistrict.ca/event/lukewarm-the-cold-ones/
LOCATION:The Foundry\, 242 Red River Road\, Thunder Bay\, Ontario\, p7b1a6\, Canada
END:VEVENT
BEGIN:VEVENT
DTSTART;TZID=America/Halifax:20260411T200000
DTEND;TZID=America/Halifax:20260411T200000
DTSTAMP:20260422T054329
CREATED:20260408T145803Z
LAST-MODIFIED:20260408T145826Z
UID:8541-1775937600-1775937600@www.waterfrontdistrict.ca
SUMMARY:Derelicte 16 A Fashion Odyssey
DESCRIPTION:19+
URL:https://www.waterfrontdistrict.ca/event/derelicte-16-a-fashion-odyssey/
LOCATION:Black Pirates Pub\, 215 Red River Rd\, Suite 101\, Thunder Bay\, ON\, Canada
END:VEVENT
BEGIN:VEVENT
DTSTART;TZID=America/Halifax:20260411T200000
DTEND;TZID=America/Halifax:20260411T200000
DTSTAMP:20260422T054329
CREATED:20260408T200902Z
LAST-MODIFIED:20260408T200925Z
UID:8610-1775937600-1775937600@www.waterfrontdistrict.ca
SUMMARY:B!tches Be Funny Women's All Inclusive Open Mic Comedy
DESCRIPTION:
URL:https://www.waterfrontdistrict.ca/event/btches-be-funny-womens-all-inclusive-open-mic-comedy-2/
LOCATION:Red Lion Smokehouse\, 16 Cumberland St S\, Thunder Bay\, ON\, 16 Cumberland St S\, Canada
END:VEVENT
BEGIN:VEVENT
DTSTART;TZID=America/Halifax:20260411T220000
DTEND;TZID=America/Halifax:20260411T220000
DTSTAMP:20260422T054329
CREATED:20260408T161251Z
LAST-MODIFIED:20260408T161332Z
UID:8571-1775944800-1775944800@www.waterfrontdistrict.ca
SUMMARY:4PILLAR DJs
DESCRIPTION:
URL:https://www.waterfrontdistrict.ca/event/4pillar-djs-8/
LOCATION:The Foundry\, 242 Red River Road\, Thunder Bay\, Ontario\, p7b1a6\, Canada
END:VEVENT
BEGIN:VEVENT
DTSTART;TZID=America/Halifax:20260411T220000
DTEND;TZID=America/Halifax:20260411T220000
DTSTAMP:20260422T054329
CREATED:20260408T203011Z
LAST-MODIFIED:20260408T203044Z
UID:8630-1775944800-1775944800@www.waterfrontdistrict.ca
SUMMARY:DAME MAS DANCE PRESENTS DJ EZ EDDIE'S BIRTHDAY BASH AN AFRO-LATIN PARTY
DESCRIPTION:19+ \n$5 ADVANCE OR $10 AT THE DOOR.
URL:https://www.waterfrontdistrict.ca/event/dame-mas-dance-presents-dj-ez-eddies-birthday-bash-an-afro-latin-party/
LOCATION:Lakehead Beer Co\, 206 Park Ave\, Thunder Bay
END:VEVENT
BEGIN:VEVENT
DTSTART;TZID=America/Halifax:20260412T120000
DTEND;TZID=America/Halifax:20260412T150000
DTSTAMP:20260422T054329
CREATED:20260408T174919Z
LAST-MODIFIED:20260408T174919Z
UID:8590-1775995200-1776006000@www.waterfrontdistrict.ca
SUMMARY:Whimsical Wardrobe
DESCRIPTION:
URL:https://www.waterfrontdistrict.ca/event/whimsical-wardrobe/
LOCATION:Loud Women Collective\, 251 Red River Road\, Thunder Bay\, ON\, P7B 1A7\, Canada
END:VEVENT
BEGIN:VEVENT
DTSTART;TZID=America/Halifax:20260412T190000
DTEND;TZID=America/Halifax:20260412T190000
DTSTAMP:20260422T054329
CREATED:20260313T155122Z
LAST-MODIFIED:20260408T145324Z
UID:8472-1776020400-1776020400@www.waterfrontdistrict.ca
SUMMARY:Cancer Bats
DESCRIPTION:All Ages
URL:https://www.waterfrontdistrict.ca/event/cancer-bats/
LOCATION:Black Pirates Pub\, 215 Red River Rd\, Suite 101\, Thunder Bay\, ON\, Canada
END:VEVENT
BEGIN:VEVENT
DTSTART;TZID=America/Halifax:20260416T190000
DTEND;TZID=America/Halifax:20260416T190000
DTSTAMP:20260422T054329
CREATED:20260408T201121Z
LAST-MODIFIED:20260408T201135Z
UID:8612-1776366000-1776366000@www.waterfrontdistrict.ca
SUMMARY:Pints & Pawns - Red Lion Chess Knight
DESCRIPTION:
URL:https://www.waterfrontdistrict.ca/event/pints-pawns-red-lion-chess-knight/
LOCATION:Red Lion Smokehouse\, 16 Cumberland St S\, Thunder Bay\, ON\, 16 Cumberland St S\, Canada
END:VEVENT
BEGIN:VEVENT
DTSTART;TZID=America/Halifax:20260416T210000
DTEND;TZID=America/Halifax:20260416T210000
DTSTAMP:20260422T054329
CREATED:20260408T155100Z
LAST-MODIFIED:20260408T155129Z
UID:8557-1776373200-1776373200@www.waterfrontdistrict.ca
SUMMARY:LIVE BAND KARAOKE
DESCRIPTION:
URL:https://www.waterfrontdistrict.ca/event/live-band-karaoke-5/
LOCATION:The Foundry\, 242 Red River Road\, Thunder Bay\, Ontario\, p7b1a6\, Canada
END:VEVENT
BEGIN:VEVENT
DTSTART;VALUE=DATE:20260417
DTEND;VALUE=DATE:20260418
DTSTAMP:20260422T054329
CREATED:20260327T142814Z
LAST-MODIFIED:20260327T142814Z
UID:8524-1776384000-1776470399@www.waterfrontdistrict.ca
SUMMARY:Thunder Bay Fight Night
DESCRIPTION:More info to come
URL:https://www.waterfrontdistrict.ca/event/thunder-bay-fight-night/
LOCATION:Bloom Bar and Lounge\, 213 Red River Road\, Thunder Bay\, Ontario\, Canada
END:VEVENT
BEGIN:VEVENT
DTSTART;TZID=America/Halifax:20260417T170000
DTEND;TZID=America/Halifax:20260417T170000
DTSTAMP:20260422T054329
CREATED:20260408T162330Z
LAST-MODIFIED:20260408T162345Z
UID:8577-1776445200-1776445200@www.waterfrontdistrict.ca
SUMMARY:WEENIES & MARTINIS
DESCRIPTION:
URL:https://www.waterfrontdistrict.ca/event/weenies-martinis/
LOCATION:Pocketchange Bar\, 234 Red River Rd\, Thunder Bay\, ON\, P7B 1A6\, Canada
END:VEVENT
BEGIN:VEVENT
DTSTART;TZID=America/Halifax:20260417T210000
DTEND;TZID=America/Halifax:20260417T210000
DTSTAMP:20260422T054329
CREATED:20260408T150112Z
LAST-MODIFIED:20260408T150308Z
UID:8543-1776459600-1776459600@www.waterfrontdistrict.ca
SUMMARY:[NU] METAL NIGHT
DESCRIPTION:19+
URL:https://www.waterfrontdistrict.ca/event/nu-metal-night/
LOCATION:Black Pirates Pub\, 215 Red River Rd\, Suite 101\, Thunder Bay\, ON\, Canada
END:VEVENT
BEGIN:VEVENT
DTSTART;TZID=America/Halifax:20260417T210000
DTEND;TZID=America/Halifax:20260417T210000
DTSTAMP:20260422T054329
CREATED:20260408T155316Z
LAST-MODIFIED:20260408T155341Z
UID:8559-1776459600-1776459600@www.waterfrontdistrict.ca
SUMMARY:MY SON THE HURRICANE
DESCRIPTION:
URL:https://www.waterfrontdistrict.ca/event/my-son-the-hurricane/
LOCATION:The Foundry\, 242 Red River Road\, Thunder Bay\, Ontario\, p7b1a6\, Canada
END:VEVENT
BEGIN:VEVENT
DTSTART;TZID=America/Halifax:20260417T213000
DTEND;TZID=America/Halifax:20260417T213000
DTSTAMP:20260422T054329
CREATED:20260408T201310Z
LAST-MODIFIED:20260408T201325Z
UID:8614-1776461400-1776461400@www.waterfrontdistrict.ca
SUMMARY:Live Band Karaoke
DESCRIPTION:
URL:https://www.waterfrontdistrict.ca/event/live-band-karaoke-6/
LOCATION:Red Lion Smokehouse\, 16 Cumberland St S\, Thunder Bay\, ON\, 16 Cumberland St S\, Canada
END:VEVENT
BEGIN:VEVENT
DTSTART;TZID=America/Halifax:20260418T200000
DTEND;TZID=America/Halifax:20260418T200000
DTSTAMP:20260422T054329
CREATED:20260408T201448Z
LAST-MODIFIED:20260408T201505Z
UID:8616-1776542400-1776542400@www.waterfrontdistrict.ca
SUMMARY:Live & Local - Ted Hammil
DESCRIPTION:
URL:https://www.waterfrontdistrict.ca/event/live-local-ted-hammil/
LOCATION:Red Lion Smokehouse\, 16 Cumberland St S\, Thunder Bay\, ON\, 16 Cumberland St S\, Canada
END:VEVENT
BEGIN:VEVENT
DTSTART;TZID=America/Halifax:20260418T210000
DTEND;TZID=America/Halifax:20260418T210000
DTSTAMP:20260422T054329
CREATED:20260327T142129Z
LAST-MODIFIED:20260327T142142Z
UID:8520-1776546000-1776546000@www.waterfrontdistrict.ca
SUMMARY:LOUDTOOTH VAPE DEALER THE SHOULDN'TS
DESCRIPTION:
URL:https://www.waterfrontdistrict.ca/event/loudtooth-vape-dealer-the-shouldnts/
LOCATION:Bloom Bar and Lounge\, 213 Red River Road\, Thunder Bay\, Ontario\, Canada
END:VEVENT
BEGIN:VEVENT
DTSTART;TZID=America/Halifax:20260418T210000
DTEND;TZID=America/Halifax:20260418T210000
DTSTAMP:20260422T054329
CREATED:20260408T150630Z
LAST-MODIFIED:20260408T150720Z
UID:8545-1776546000-1776546000@www.waterfrontdistrict.ca
SUMMARY:CROOKED KING ALBUM FUNDRAISER
DESCRIPTION:19+
URL:https://www.waterfrontdistrict.ca/event/crooked-king-album-fundraiser/
LOCATION:Black Pirates Pub\, 215 Red River Rd\, Suite 101\, Thunder Bay\, ON\, Canada
END:VEVENT
BEGIN:VEVENT
DTSTART;TZID=America/Halifax:20260418T220000
DTEND;TZID=America/Halifax:20260418T220000
DTSTAMP:20260422T054329
CREATED:20260320T134256Z
LAST-MODIFIED:20260320T134340Z
UID:8484-1776549600-1776549600@www.waterfrontdistrict.ca
SUMMARY:AFROBANA AN AFRO CARIBBEAN BASHMENT
DESCRIPTION:
URL:https://www.waterfrontdistrict.ca/event/afrobana-an-afro-caribbean-bashment/
LOCATION:NV Music Hall\, 228 Red River Rd\, Thunder Bay\, ON\, Canada
END:VEVENT
BEGIN:VEVENT
DTSTART;TZID=America/Halifax:20260418T220000
DTEND;TZID=America/Halifax:20260418T220000
DTSTAMP:20260422T054329
CREATED:20260408T161535Z
LAST-MODIFIED:20260408T161654Z
UID:8573-1776549600-1776549600@www.waterfrontdistrict.ca
SUMMARY:4PILLAR DJs
DESCRIPTION:
URL:https://www.waterfrontdistrict.ca/event/4pillar-djs-9/
LOCATION:The Foundry\, 242 Red River Road\, Thunder Bay\, Ontario\, p7b1a6\, Canada
END:VEVENT
END:VCALENDAR