BEGIN:VCALENDAR
VERSION:2.0
PRODID:-//Waterfront District BIA - ECPv6.15.20//NONSGML v1.0//EN
CALSCALE:GREGORIAN
METHOD:PUBLISH
X-WR-CALNAME:Waterfront District BIA
X-ORIGINAL-URL:https://www.waterfrontdistrict.ca
X-WR-CALDESC:Events for Waterfront District BIA
REFRESH-INTERVAL;VALUE=DURATION:PT1H
X-Robots-Tag:noindex
X-PUBLISHED-TTL:PT1H
BEGIN:VTIMEZONE
TZID:America/Halifax
BEGIN:DAYLIGHT
TZOFFSETFROM:-0400
TZOFFSETTO:-0300
TZNAME:ADT
DTSTART:20230312T060000
END:DAYLIGHT
BEGIN:STANDARD
TZOFFSETFROM:-0300
TZOFFSETTO:-0400
TZNAME:AST
DTSTART:20231105T050000
END:STANDARD
BEGIN:DAYLIGHT
TZOFFSETFROM:-0400
TZOFFSETTO:-0300
TZNAME:ADT
DTSTART:20240310T060000
END:DAYLIGHT
BEGIN:STANDARD
TZOFFSETFROM:-0300
TZOFFSETTO:-0400
TZNAME:AST
DTSTART:20241103T050000
END:STANDARD
BEGIN:DAYLIGHT
TZOFFSETFROM:-0400
TZOFFSETTO:-0300
TZNAME:ADT
DTSTART:20250309T060000
END:DAYLIGHT
BEGIN:STANDARD
TZOFFSETFROM:-0300
TZOFFSETTO:-0400
TZNAME:AST
DTSTART:20251102T050000
END:STANDARD
END:VTIMEZONE
BEGIN:VEVENT
DTSTART;TZID=America/Halifax:20240719T100000
DTEND;TZID=America/Halifax:20240719T100000
DTSTAMP:20260419T223845
CREATED:20240613T174454Z
LAST-MODIFIED:20240613T174454Z
UID:5810-1721383200-1721383200@www.waterfrontdistrict.ca
SUMMARY:Port Days Market at Goods & Co. Market
DESCRIPTION:251 Red River Rd
URL:https://www.waterfrontdistrict.ca/event/port-days-market-at-goods-co-market/
LOCATION:Goods and co\, 251 Red River Rd\, Thunder Bay\, Ontario\, P7B 1A7\, Canada
END:VEVENT
BEGIN:VEVENT
DTSTART;TZID=America/Halifax:20240719T070000
DTEND;TZID=America/Halifax:20240719T180000
DTSTAMP:20260419T223845
CREATED:20240613T174401Z
LAST-MODIFIED:20240613T174401Z
UID:5808-1721372400-1721412000@www.waterfrontdistrict.ca
SUMMARY:Cruise Ship Docking: Polaris
DESCRIPTION:Pool 6
URL:https://www.waterfrontdistrict.ca/event/cruise-ship-docking-polaris-2/
LOCATION:POOL 6 Dock
END:VEVENT
BEGIN:VEVENT
DTSTART;TZID=America/Halifax:20240717T180000
DTEND;TZID=America/Halifax:20240717T210000
DTSTAMP:20260419T223845
CREATED:20240613T174310Z
LAST-MODIFIED:20240613T174310Z
UID:5806-1721239200-1721250000@www.waterfrontdistrict.ca
SUMMARY:Live on the Waterfront
DESCRIPTION:Marina Park Festival Grounds
URL:https://www.waterfrontdistrict.ca/event/live-on-the-waterfront/
LOCATION:Marina Park\, Thunder Bay\, ON\, Canada
END:VEVENT
BEGIN:VEVENT
DTSTART;TZID=America/Halifax:20240717T180000
DTEND;TZID=America/Halifax:20240717T180000
DTSTAMP:20260419T223845
CREATED:20240613T174156Z
LAST-MODIFIED:20240613T174156Z
UID:5804-1721239200-1721239200@www.waterfrontdistrict.ca
SUMMARY:Cruise Ship Docking: Octantis
DESCRIPTION:Pool 6
URL:https://www.waterfrontdistrict.ca/event/cruise-ship-docking-octantis-4/
LOCATION:Ontario
END:VEVENT
BEGIN:VEVENT
DTSTART;TZID=America/Halifax:20240706T160000
DTEND;TZID=America/Halifax:20240706T210000
DTSTAMP:20260419T223845
CREATED:20240613T174100Z
LAST-MODIFIED:20240613T174100Z
UID:5802-1720281600-1720299600@www.waterfrontdistrict.ca
SUMMARY:BrewHa! Festival
DESCRIPTION:Marina Park
URL:https://www.waterfrontdistrict.ca/event/brewha-festival-2/
LOCATION:Ontario
END:VEVENT
BEGIN:VEVENT
DTSTART;TZID=America/Halifax:20240705T200000
DTEND;TZID=America/Halifax:20240705T200000
DTSTAMP:20260419T223845
CREATED:20240613T173950Z
LAST-MODIFIED:20240613T173950Z
UID:5800-1720209600-1720209600@www.waterfrontdistrict.ca
SUMMARY:Cruise Ship Departure: Octantis
DESCRIPTION:Pool 6
URL:https://www.waterfrontdistrict.ca/event/cruise-ship-departure-octantis/
LOCATION:Ontario
END:VEVENT
BEGIN:VEVENT
DTSTART;TZID=America/Halifax:20240705T160000
DTEND;TZID=America/Halifax:20240705T210000
DTSTAMP:20260419T223845
CREATED:20240613T173848Z
LAST-MODIFIED:20240613T173848Z
UID:5798-1720195200-1720213200@www.waterfrontdistrict.ca
SUMMARY:BrewHa! Festival
DESCRIPTION:Marina Park
URL:https://www.waterfrontdistrict.ca/event/brewha-festival/
LOCATION:Marina Park\, Thunder Bay\, ON\, Canada
END:VEVENT
BEGIN:VEVENT
DTSTART;TZID=America/Halifax:20240703T180000
DTEND;TZID=America/Halifax:20240703T180000
DTSTAMP:20260419T223845
CREATED:20240613T173745Z
LAST-MODIFIED:20240613T173745Z
UID:5796-1720029600-1720029600@www.waterfrontdistrict.ca
SUMMARY:Cruise Ship Docking: Octantis
DESCRIPTION:Pool 6
URL:https://www.waterfrontdistrict.ca/event/cruise-ship-docking-octantis-3/
LOCATION:Ontario
END:VEVENT
BEGIN:VEVENT
DTSTART;TZID=America/Halifax:20240701T180000
DTEND;TZID=America/Halifax:20240701T180000
DTSTAMP:20260419T223845
CREATED:20240613T173651Z
LAST-MODIFIED:20240613T173651Z
UID:5794-1719856800-1719856800@www.waterfrontdistrict.ca
SUMMARY:Cruise Ship Departure: Pearl Mist
DESCRIPTION:Pool 6
URL:https://www.waterfrontdistrict.ca/event/cruise-ship-departure-pearl-mist/
LOCATION:POOL 6 Dock
END:VEVENT
BEGIN:VEVENT
DTSTART;TZID=America/Halifax:20240701T130000
DTEND;TZID=America/Halifax:20240701T180000
DTSTAMP:20260419T223845
CREATED:20240613T173541Z
LAST-MODIFIED:20240613T173541Z
UID:5792-1719838800-1719856800@www.waterfrontdistrict.ca
SUMMARY:Canada Day Celebrations at Marina Park
DESCRIPTION:Marina Park Festival Grounds
URL:https://www.waterfrontdistrict.ca/event/canada-day-celebrations-at-marina-park/
LOCATION:Marina Park\, Thunder Bay\, ON\, Canada
END:VEVENT
BEGIN:VEVENT
DTSTART;TZID=America/Halifax:20240630T090000
DTEND;TZID=America/Halifax:20240630T090000
DTSTAMP:20260419T223845
CREATED:20240613T172804Z
LAST-MODIFIED:20240613T172804Z
UID:5790-1719738000-1719738000@www.waterfrontdistrict.ca
SUMMARY:Cruise Ship Docking: Pearl Mist
DESCRIPTION:Pool 6
URL:https://www.waterfrontdistrict.ca/event/cruise-ship-docking-pearl-mist-2/
LOCATION:POOL 6 Dock
END:VEVENT
BEGIN:VEVENT
DTSTART;TZID=America/Halifax:20240627T190000
DTEND;TZID=America/Halifax:20240627T190000
DTSTAMP:20260419T223845
CREATED:20240613T172622Z
LAST-MODIFIED:20240613T172622Z
UID:5788-1719514800-1719514800@www.waterfrontdistrict.ca
SUMMARY:Bob Ross Paint Night
DESCRIPTION:251 Red River Rd
URL:https://www.waterfrontdistrict.ca/event/bob-ross-paint-night/
LOCATION:Goods and co\, 251 Red River Rd\, Thunder Bay\, Ontario\, P7B 1A7\, Canada
END:VEVENT
BEGIN:VEVENT
DTSTART;TZID=America/Halifax:20240627T060000
DTEND;TZID=America/Halifax:20240627T180000
DTSTAMP:20260419T223845
CREATED:20240613T172509Z
LAST-MODIFIED:20240613T172509Z
UID:5786-1719468000-1719511200@www.waterfrontdistrict.ca
SUMMARY:Cruise Ship Docking: Pearl Mist
DESCRIPTION:Pool 6
URL:https://www.waterfrontdistrict.ca/event/cruise-ship-docking-pearl-mist/
LOCATION:POOL 6 Dock
END:VEVENT
BEGIN:VEVENT
DTSTART;TZID=America/Halifax:20240623T140000
DTEND;TZID=America/Halifax:20240623T153000
DTSTAMP:20260419T223845
CREATED:20240613T172352Z
LAST-MODIFIED:20240613T172352Z
UID:5784-1719151200-1719156600@www.waterfrontdistrict.ca
SUMMARY:June Producer Social
DESCRIPTION:251 Red River Rd
URL:https://www.waterfrontdistrict.ca/event/june-producer-social/
LOCATION:Ontario
END:VEVENT
BEGIN:VEVENT
DTSTART;TZID=America/Halifax:20240623T120000
DTEND;TZID=America/Halifax:20240623T160000
DTSTAMP:20260419T223845
CREATED:20240613T172252Z
LAST-MODIFIED:20240613T172252Z
UID:5782-1719144000-1719158400@www.waterfrontdistrict.ca
SUMMARY:Old Flames Sip ‘n Pour
DESCRIPTION:251 Red River Rd
URL:https://www.waterfrontdistrict.ca/event/old-flames-sip-n-pour/
LOCATION:Goods and co\, 251 Red River Rd\, Thunder Bay\, Ontario\, P7B 1A7\, Canada
END:VEVENT
BEGIN:VEVENT
DTSTART;TZID=America/Halifax:20240622T100000
DTEND;TZID=America/Halifax:20240622T100000
DTSTAMP:20260419T223845
CREATED:20240613T172148Z
LAST-MODIFIED:20240613T172148Z
UID:5780-1719050400-1719050400@www.waterfrontdistrict.ca
SUMMARY:Block Party!
DESCRIPTION:Cumberland St
URL:https://www.waterfrontdistrict.ca/event/block-party/
LOCATION:Ontario
END:VEVENT
BEGIN:VEVENT
DTSTART;TZID=America/Halifax:20240621T120000
DTEND;TZID=America/Halifax:20240621T190000
DTSTAMP:20260419T223845
CREATED:20240613T171956Z
LAST-MODIFIED:20240613T171956Z
UID:5778-1718971200-1718996400@www.waterfrontdistrict.ca
SUMMARY:National Indigenous Peoples Day
DESCRIPTION:Marina Park
URL:https://www.waterfrontdistrict.ca/event/national-indigenous-peoples-day/
LOCATION:Marina Park\, Thunder Bay\, ON\, Canada
END:VEVENT
BEGIN:VEVENT
DTSTART;TZID=America/Halifax:20240619T183000
DTEND;TZID=America/Halifax:20240619T200000
DTSTAMP:20260419T223845
CREATED:20240613T171718Z
LAST-MODIFIED:20240613T171718Z
UID:5774-1718821800-1718827200@www.waterfrontdistrict.ca
SUMMARY:Pride & Power Workout Party!
DESCRIPTION:251 Red River Rd Suite #3
URL:https://www.waterfrontdistrict.ca/event/pride-power-workout-party/
LOCATION:Goods and co\, 251 Red River Rd\, Thunder Bay\, Ontario\, P7B 1A7\, Canada
END:VEVENT
BEGIN:VEVENT
DTSTART;TZID=America/Halifax:20240619T180000
DTEND;TZID=America/Halifax:20240619T210000
DTSTAMP:20260419T223845
CREATED:20240613T170955Z
LAST-MODIFIED:20240613T170955Z
UID:5772-1718820000-1718830800@www.waterfrontdistrict.ca
SUMMARY:Play With Pride
DESCRIPTION:251 Red River Rd
URL:https://www.waterfrontdistrict.ca/event/play-with-pride/
LOCATION:Goods and co\, 251 Red River Rd\, Thunder Bay\, Ontario\, P7B 1A7\, Canada
END:VEVENT
BEGIN:VEVENT
DTSTART;TZID=America/Halifax:20240616T130000
DTEND;TZID=America/Halifax:20240616T150000
DTSTAMP:20260419T223845
CREATED:20240613T170900Z
LAST-MODIFIED:20240613T170900Z
UID:5770-1718542800-1718550000@www.waterfrontdistrict.ca
SUMMARY:Father's Day Blues & Brews with Radar & The Rockets
DESCRIPTION:251 Red River Rd
URL:https://www.waterfrontdistrict.ca/event/fathers-day-blues-brews-with-radar-the-rockets/
LOCATION:Goods and co\, 251 Red River Rd\, Thunder Bay\, Ontario\, P7B 1A7\, Canada
END:VEVENT
BEGIN:VEVENT
DTSTART;TZID=America/Halifax:20240615T210000
DTEND;TZID=America/Halifax:20240615T210000
DTSTAMP:20260419T223845
CREATED:20240613T170805Z
LAST-MODIFIED:20240613T170805Z
UID:5768-1718485200-1718485200@www.waterfrontdistrict.ca
SUMMARY:Pride After Dark at Black Pirates Pub
DESCRIPTION:215 Red River Rd
URL:https://www.waterfrontdistrict.ca/event/pride-after-dark-at-black-pirates-pub/
LOCATION:Black Pirates Pub\, 215 Red River Rd\, Suite 101\, Thunder Bay\, ON\, Canada
END:VEVENT
BEGIN:VEVENT
DTSTART;TZID=America/Halifax:20240615T100000
DTEND;TZID=America/Halifax:20240615T160000
DTSTAMP:20260419T223845
CREATED:20240613T170710Z
LAST-MODIFIED:20240613T170710Z
UID:5766-1718445600-1718467200@www.waterfrontdistrict.ca
SUMMARY:Thunder Bay Mining Day
DESCRIPTION:Marina Park
URL:https://www.waterfrontdistrict.ca/event/thunder-bay-mining-day/
LOCATION:Marina Park\, Thunder Bay\, ON\, Canada
END:VEVENT
BEGIN:VEVENT
DTSTART;TZID=America/Halifax:20240614T190000
DTEND;TZID=America/Halifax:20240614T190000
DTSTAMP:20260419T223845
CREATED:20240613T170545Z
LAST-MODIFIED:20240613T170545Z
UID:5764-1718391600-1718391600@www.waterfrontdistrict.ca
SUMMARY:Paramount Live Play: Bye Bye Birdy
DESCRIPTION:24 Court St S
URL:https://www.waterfrontdistrict.ca/event/paramount-live-play-bye-bye-birdy-3/
LOCATION:Paramount Live\, 24 Court St S\, Thunder Bay
END:VEVENT
BEGIN:VEVENT
DTSTART;TZID=America/Halifax:20240613T193000
DTEND;TZID=America/Halifax:20240613T193000
DTSTAMP:20260419T223845
CREATED:20240613T170446Z
LAST-MODIFIED:20240613T170446Z
UID:5762-1718307000-1718307000@www.waterfrontdistrict.ca
SUMMARY:Open Stage: Featuring 2SLGBTQIA+ Performers
DESCRIPTION:206 Park Ave
URL:https://www.waterfrontdistrict.ca/event/open-stage-featuring-2slgbtqia-performers/
LOCATION:Lakehead Beer Co\, 206 Park Ave\, Thunder Bay
END:VEVENT
BEGIN:VEVENT
DTSTART;TZID=America/Halifax:20240613T190000
DTEND;TZID=America/Halifax:20240613T190000
DTSTAMP:20260419T223845
CREATED:20240613T170330Z
LAST-MODIFIED:20240613T170330Z
UID:5760-1718305200-1718305200@www.waterfrontdistrict.ca
SUMMARY:Paramount Live Play: Bye Bye Birdy
DESCRIPTION:24 Court St S
URL:https://www.waterfrontdistrict.ca/event/paramount-live-play-bye-bye-birdy-2/
LOCATION:Paramount Live\, 24 Court St S\, Thunder Bay
END:VEVENT
BEGIN:VEVENT
DTSTART;TZID=America/Halifax:20240612T190000
DTEND;TZID=America/Halifax:20240612T210000
DTSTAMP:20260419T223845
CREATED:20240613T170229Z
LAST-MODIFIED:20240613T170229Z
UID:5758-1718218800-1718226000@www.waterfrontdistrict.ca
SUMMARY:Woodside Piano Bar: OYSTERS AND SUSHI
DESCRIPTION:251 Red River Rd
URL:https://www.waterfrontdistrict.ca/event/woodside-piano-bar-oysters-and-sushi/
LOCATION:Goods and co\, 251 Red River Rd\, Thunder Bay\, Ontario\, P7B 1A7\, Canada
END:VEVENT
BEGIN:VEVENT
DTSTART;TZID=America/Halifax:20240612T190000
DTEND;TZID=America/Halifax:20240612T190000
DTSTAMP:20260419T223845
CREATED:20240613T165425Z
LAST-MODIFIED:20240613T165425Z
UID:5755-1718218800-1718218800@www.waterfrontdistrict.ca
SUMMARY:Paramount Live Play: Bye Bye Birdy
DESCRIPTION:24 Court St S
URL:https://www.waterfrontdistrict.ca/event/paramount-live-play-bye-bye-birdy/
LOCATION:Paramount Live\, 24 Court St S\, Thunder Bay
END:VEVENT
BEGIN:VEVENT
DTSTART;TZID=America/Halifax:20240612T190000
DTEND;TZID=America/Halifax:20240612T190000
DTSTAMP:20260419T223845
CREATED:20240613T165324Z
LAST-MODIFIED:20240613T165324Z
UID:5753-1718218800-1718218800@www.waterfrontdistrict.ca
SUMMARY:Queer Trivia Night at Lakehead Beer Co.
DESCRIPTION:206 Park Ave
URL:https://www.waterfrontdistrict.ca/event/queer-trivia-night-at-lakehead-beer-co/
LOCATION:Lakehead Beer Co\, 206 Park Ave\, Thunder Bay
END:VEVENT
BEGIN:VEVENT
DTSTART;TZID=America/Halifax:20240609T200000
DTEND;TZID=America/Halifax:20240609T200000
DTSTAMP:20260419T223845
CREATED:20240613T165239Z
LAST-MODIFIED:20240613T165239Z
UID:5751-1717963200-1717963200@www.waterfrontdistrict.ca
SUMMARY:Cruise Ship Departure: Polaris
DESCRIPTION:Pool 6
URL:https://www.waterfrontdistrict.ca/event/cruise-ship-departure-polaris/
LOCATION:POOL 6 Dock
END:VEVENT
BEGIN:VEVENT
DTSTART;TZID=America/Halifax:20240609T120000
DTEND;TZID=America/Halifax:20240609T120000
DTSTAMP:20260419T223845
CREATED:20240613T164941Z
LAST-MODIFIED:20240613T164941Z
UID:5749-1717934400-1717934400@www.waterfrontdistrict.ca
SUMMARY:Kite Festival at Marina Park
DESCRIPTION:Marina Park Festival Grounds
URL:https://www.waterfrontdistrict.ca/event/kite-festival-at-marina-park/
LOCATION:Marina Park\, Thunder Bay\, ON\, Canada
END:VEVENT
END:VCALENDAR