BEGIN:VCALENDAR
VERSION:2.0
PRODID:-//Waterfront District BIA - ECPv6.15.20//NONSGML v1.0//EN
CALSCALE:GREGORIAN
METHOD:PUBLISH
X-ORIGINAL-URL:https://www.waterfrontdistrict.ca
X-WR-CALDESC:Events for Waterfront District BIA
REFRESH-INTERVAL;VALUE=DURATION:PT1H
X-Robots-Tag:noindex
X-PUBLISHED-TTL:PT1H
BEGIN:VTIMEZONE
TZID:America/Halifax
BEGIN:DAYLIGHT
TZOFFSETFROM:-0400
TZOFFSETTO:-0300
TZNAME:ADT
DTSTART:20240310T060000
END:DAYLIGHT
BEGIN:STANDARD
TZOFFSETFROM:-0300
TZOFFSETTO:-0400
TZNAME:AST
DTSTART:20241103T050000
END:STANDARD
BEGIN:DAYLIGHT
TZOFFSETFROM:-0400
TZOFFSETTO:-0300
TZNAME:ADT
DTSTART:20250309T060000
END:DAYLIGHT
BEGIN:STANDARD
TZOFFSETFROM:-0300
TZOFFSETTO:-0400
TZNAME:AST
DTSTART:20251102T050000
END:STANDARD
BEGIN:DAYLIGHT
TZOFFSETFROM:-0400
TZOFFSETTO:-0300
TZNAME:ADT
DTSTART:20260308T060000
END:DAYLIGHT
BEGIN:STANDARD
TZOFFSETFROM:-0300
TZOFFSETTO:-0400
TZNAME:AST
DTSTART:20261101T050000
END:STANDARD
END:VTIMEZONE
BEGIN:VEVENT
DTSTART;TZID=America/Halifax:20250912T220000
DTEND;TZID=America/Halifax:20250912T220000
DTSTAMP:20260420T044543
CREATED:20250910T155046Z
LAST-MODIFIED:20250910T155106Z
UID:7143-1757714400-1757714400@www.waterfrontdistrict.ca
SUMMARY:Fusion Fridayz presents Back to School White Out
DESCRIPTION:BACK TO SCHOOL WHITE OUT 🪩\nFriday\, Sept 12 @ NV Music Hall\nWear your best white attire & party all night with DJ SUPA LIVE🔥 \nDoors open at 10 PM – don’t miss it! \n💵 200$ and tickets to the James Barker Band up for grabs as a attendance prize for the event \n🏫 In support of Lakehead University Nursing Association \nTICKETS HERE
URL:https://www.waterfrontdistrict.ca/event/fusion-fridayz-presents-back-to-school-white-out/
LOCATION:NV Music Hall\, 228 Red River Rd\, Thunder Bay\, ON\, Canada
END:VEVENT
BEGIN:VEVENT
DTSTART;TZID=America/Halifax:20250912T230000
DTEND;TZID=America/Halifax:20250912T230000
DTSTAMP:20260420T044544
CREATED:20250910T155318Z
LAST-MODIFIED:20250910T155448Z
UID:7145-1757718000-1757718000@www.waterfrontdistrict.ca
SUMMARY:Pocket After Dark
DESCRIPTION:No Cover // 19+
URL:https://www.waterfrontdistrict.ca/event/pocket-after-dark-21/
LOCATION:Pocketchange Bar\, 234 Red River Rd\, Thunder Bay\, ON\, P7B 1A6\, Canada
END:VEVENT
BEGIN:VEVENT
DTSTART;TZID=America/Halifax:20250913T150000
DTEND;TZID=America/Halifax:20250913T210000
DTSTAMP:20260420T044544
CREATED:20250910T161003Z
LAST-MODIFIED:20250910T161003Z
UID:7147-1757775600-1757797200@www.waterfrontdistrict.ca
SUMMARY:Vinyl Saturdays at Red Lion Smokehouse
DESCRIPTION:Dust off your records ’cause every Saturday you can be your own DJ and spin your favourite tunes on Red Lion Smokehouse’s house record player for “Bring Your Own Vinyl Saturday” \nDon’t have a record? Peruse the house crate and take the playlist into your own hands\, or better yet\, pop over to The Vinyl Frontier located right next door to Red Lion and start your own collection.
URL:https://www.waterfrontdistrict.ca/event/vinyl-saturdays-at-red-lion-smokehouse-5/
LOCATION:Red Lion Smokehouse\, 16 Cumberland St S\, Thunder Bay\, ON\, 16 Cumberland St S\, Canada
END:VEVENT
BEGIN:VEVENT
DTSTART;TZID=America/Halifax:20250913T200000
DTEND;TZID=America/Halifax:20250913T230000
DTSTAMP:20260420T044544
CREATED:20250910T161219Z
LAST-MODIFIED:20250910T161219Z
UID:7149-1757793600-1757804400@www.waterfrontdistrict.ca
SUMMARY:The Honest Heart Collective at Lakehead Beer Co.
DESCRIPTION:An intimate full band performance with The Honest Heart Collective on the outdoor stage at Lakehead Beer Company with Cole Myronuk. \n800 PM – Doors\n830 PM –  Cole Myronuk\n930 PM – The Honest Heart Collective \nTICKETS HERE
URL:https://www.waterfrontdistrict.ca/event/the-honest-heart-collective-at-lakehead-beer-co/
LOCATION:Lakehead Beer Co\, 206 Park Ave\, Thunder Bay
END:VEVENT
BEGIN:VEVENT
DTSTART;TZID=America/Halifax:20250913T203000
DTEND;TZID=America/Halifax:20250913T203000
DTSTAMP:20260420T044544
CREATED:20250910T161358Z
LAST-MODIFIED:20250910T161413Z
UID:7151-1757795400-1757795400@www.waterfrontdistrict.ca
SUMMARY:Sober Karaoke Night at Howl at the Moon
DESCRIPTION:Karaoke Tuesdays\, Thursdays\, and Saturdays at Howl! \n830pm to midnight\n$5 cover
URL:https://www.waterfrontdistrict.ca/event/sober-karaoke-night-at-howl-at-the-moon-2/
LOCATION:Howl at The Moon Dry Bar\, 8 Cumberland st S\, Thunder Bay
END:VEVENT
BEGIN:VEVENT
DTSTART;TZID=America/Halifax:20250913T210000
DTEND;TZID=America/Halifax:20250913T210000
DTSTAMP:20260420T044544
CREATED:20250910T161538Z
LAST-MODIFIED:20250910T161733Z
UID:7153-1757797200-1757797200@www.waterfrontdistrict.ca
SUMMARY:Get Schooled: A Lesson on Local Music
DESCRIPTION:Get Schooled! A rad lineup of local music! \nFeaturing:\nJordan Humeniuk\nThe Shapely\nEzra\nDongy\n$10 at the door\, 19+\nDoors at 9\, Show at 10 \n\nFacebook Event
URL:https://www.waterfrontdistrict.ca/event/get-schooled-a-lesson-on-local-music/
LOCATION:Black Pirates Pub\, 215 Red River Rd\, Suite 101\, Thunder Bay\, ON\, Canada
END:VEVENT
BEGIN:VEVENT
DTSTART;TZID=America/Halifax:20250913T220000
DTEND;TZID=America/Halifax:20250913T220000
DTSTAMP:20260420T044544
CREATED:20250910T161936Z
LAST-MODIFIED:20250910T162017Z
UID:7155-1757800800-1757800800@www.waterfrontdistrict.ca
SUMMARY:DJ Rogue Live at The Foundry
DESCRIPTION:SATURDAY\, SEPT 13 – DJ ROGUE TAKES THE DECKS 🎧🔥Thunder Bay’s own DJ Rogue is turning The Foundry into a full-on dance floor.House\, hip-hop\, EDM – whatever keeps you moving till last call. \n📍 The Foundry – Thunder Bay\, ON🕙 Music at 10PM💵 $5 Cover | 19+ \nIf you’re looking for bass drops\, sweaty crowds\, and a Saturday that goes way past midnight — you’ve found it. \nDJ Rogue
URL:https://www.waterfrontdistrict.ca/event/dj-rogue-live-at-the-foundry/
LOCATION:The Foundry\, 242 Red River Road\, Thunder Bay\, Ontario\, p7b1a6\, Canada
END:VEVENT
BEGIN:VEVENT
DTSTART;TZID=America/Halifax:20250913T230000
DTEND;TZID=America/Halifax:20250913T230000
DTSTAMP:20260420T044544
CREATED:20250910T162201Z
LAST-MODIFIED:20250910T162215Z
UID:7157-1757804400-1757804400@www.waterfrontdistrict.ca
SUMMARY:Pocket After Dark
DESCRIPTION:No Cover // 19+
URL:https://www.waterfrontdistrict.ca/event/pocket-after-dark-22/
LOCATION:Pocketchange Bar\, 234 Red River Rd\, Thunder Bay\, ON\, P7B 1A6\, Canada
END:VEVENT
BEGIN:VEVENT
DTSTART;TZID=America/Halifax:20250918T190000
DTEND;TZID=America/Halifax:20250918T220000
DTSTAMP:20260420T044544
CREATED:20250918T011432Z
LAST-MODIFIED:20250918T011432Z
UID:7171-1758222000-1758232800@www.waterfrontdistrict.ca
SUMMARY:Open Mic Night at Lakehead Beer Co
DESCRIPTION:What’s Open Mic Night all about? Fresh beer\, delicious food\, local talent\, and good vibes.🙌 \nDiscover new local talent every Thursday from 7:30-10pm in the taproom or sign up at the bar and perform for a free beverage! \nNo experience needed\, we’re here to cheer you on. \nTaproom open 4pm-11pm Thursday!🍻 \n**All ages / guardian supervision is mandatory for minors
URL:https://www.waterfrontdistrict.ca/event/open-mic-night-at-lakehead-beer-co-5/
LOCATION:Lakehead Beer Co\, 206 Park Ave\, Thunder Bay
END:VEVENT
BEGIN:VEVENT
DTSTART;TZID=America/Halifax:20250918T200000
DTEND;TZID=America/Halifax:20250918T230000
DTSTAMP:20260420T044544
CREATED:20250918T011746Z
LAST-MODIFIED:20250918T011746Z
UID:7173-1758225600-1758236400@www.waterfrontdistrict.ca
SUMMARY:Open Mic Comedy at The Foundry
DESCRIPTION:OPEN MIC THURSDAYS @ THE FOUNDRY\n*see poster for exact dates* \nJoin us at The Foundry (242 Red River Rd) for Open Mic Comedy Thursdays to either perform or watch local touring comedians work on material. Pros\, amateurs and first-timers are all welcome! *NO COVER* \nOpen Mic Comedy 9-11PM
URL:https://www.waterfrontdistrict.ca/event/open-mic-comedy-at-the-foundry-3/
LOCATION:The Foundry\, 242 Red River Road\, Thunder Bay\, Ontario\, p7b1a6\, Canada
END:VEVENT
BEGIN:VEVENT
DTSTART;TZID=America/Halifax:20250918T203000
DTEND;TZID=America/Halifax:20250918T203000
DTSTAMP:20260420T044544
CREATED:20250918T011918Z
LAST-MODIFIED:20250918T012022Z
UID:7175-1758227400-1758227400@www.waterfrontdistrict.ca
SUMMARY:Sober Karaoke Night at Howl at the Moon
DESCRIPTION:Karaoke Tuesdays\, Thursdays\, and Saturdays at Howl! \n830pm to midnight\n$5 cover
URL:https://www.waterfrontdistrict.ca/event/sober-karaoke-night-at-howl-at-the-moon-3/
LOCATION:Howl at The Moon Dry Bar\, 8 Cumberland st S\, Thunder Bay
END:VEVENT
BEGIN:VEVENT
DTSTART;TZID=America/Halifax:20250918T210000
DTEND;TZID=America/Halifax:20250918T210000
DTSTAMP:20260420T044544
CREATED:20250918T012403Z
LAST-MODIFIED:20250918T012421Z
UID:7177-1758229200-1758229200@www.waterfrontdistrict.ca
SUMMARY:Karaoke live at Nortenos Cantina
DESCRIPTION:Karaoke at the Cantina Every Thursday night.\nNo cover. \nShow Starts 9PM at Nortenos Cantina.
URL:https://www.waterfrontdistrict.ca/event/karaoke-live-at-nortenos-cantina-6/
LOCATION:Nortenos Cantina\, 235 Red River Rd\, Thunder Bay\, ON\, Canada
END:VEVENT
BEGIN:VEVENT
DTSTART;TZID=America/Halifax:20250918T210000
DTEND;TZID=America/Halifax:20250918T230000
DTSTAMP:20260420T044544
CREATED:20250918T012721Z
LAST-MODIFIED:20250918T012721Z
UID:7179-1758229200-1758236400@www.waterfrontdistrict.ca
SUMMARY:Not Your Grandma’s Bingo Night
DESCRIPTION:
URL:https://www.waterfrontdistrict.ca/event/not-your-grandmas-bingo-night/
LOCATION:Pocketchange Bar\, 234 Red River Rd\, Thunder Bay\, ON\, P7B 1A6\, Canada
END:VEVENT
BEGIN:VEVENT
DTSTART;TZID=America/Halifax:20250918T220000
DTEND;TZID=America/Halifax:20250918T220000
DTSTAMP:20260420T044544
CREATED:20250918T012929Z
LAST-MODIFIED:20250918T013019Z
UID:7181-1758232800-1758232800@www.waterfrontdistrict.ca
SUMMARY:Karaoke live at The Waterhouse
DESCRIPTION:
URL:https://www.waterfrontdistrict.ca/event/karaoke-live-at-the-waterhouse-11/
LOCATION:Waterhouse\, 9 Cumberland St S\, Thunder Bay\, ON\, P7B 2T1
END:VEVENT
BEGIN:VEVENT
DTSTART;TZID=America/Halifax:20250919T150000
DTEND;TZID=America/Halifax:20250919T150000
DTSTAMP:20260420T044544
CREATED:20250513T160318Z
LAST-MODIFIED:20250513T160428Z
UID:6435-1758294000-1758294000@www.waterfrontdistrict.ca
SUMMARY:Arts & Culture Under the Lights
DESCRIPTION:Cultural Performance Stage\nArtist Demonstrations\nFood Vendors\nCommunity Expo\nStreet Level Performances\nArtisan Market
URL:https://www.waterfrontdistrict.ca/event/arts-culture-under-the-lights/
LOCATION:Marina Park\, Thunder Bay\, ON\, Canada
END:VEVENT
BEGIN:VEVENT
DTSTART;TZID=America/Halifax:20250919T180000
DTEND;TZID=America/Halifax:20250919T210000
DTSTAMP:20260420T044544
CREATED:20250918T013324Z
LAST-MODIFIED:20250918T013324Z
UID:7183-1758304800-1758315600@www.waterfrontdistrict.ca
SUMMARY:Jazz and Old Fashioned Fridays ft. Mood Indigo
DESCRIPTION:Don’t miss the spectacular scenery\, smooth jazz and incredibly crafted cocktails and food at Anchor & Ore in The Delta Hotel with Mood Indigo!
URL:https://www.waterfrontdistrict.ca/event/jazz-and-old-fashioned-fridays-ft-mood-indigo-11/
LOCATION:Goods and co\, 251 Red River Rd\, Thunder Bay\, Ontario\, P7B 1A7\, Canada
END:VEVENT
BEGIN:VEVENT
DTSTART;TZID=America/Halifax:20250919T180000
DTEND;TZID=America/Halifax:20250919T220000
DTSTAMP:20260420T044544
CREATED:20250918T013918Z
LAST-MODIFIED:20250918T013918Z
UID:7185-1758304800-1758319200@www.waterfrontdistrict.ca
SUMMARY:Late Night Food Alley ft DJ Ducktail
DESCRIPTION:Late Night Food Alley on Fridays!!! Come grab a bite from our in house restaurants\, grab a drink at @thewoodsidebar and enjoy music by DJ @_ducktail See you there
URL:https://www.waterfrontdistrict.ca/event/late-night-food-alley-ft-dj-ducktail-11/
LOCATION:Goods and co\, 251 Red River Rd\, Thunder Bay\, Ontario\, P7B 1A7\, Canada
END:VEVENT
BEGIN:VEVENT
DTSTART;TZID=America/Halifax:20250919T190000
DTEND;TZID=America/Halifax:20250919T190000
DTSTAMP:20260420T044544
CREATED:20250918T014226Z
LAST-MODIFIED:20250918T014242Z
UID:7187-1758308400-1758308400@www.waterfrontdistrict.ca
SUMMARY:Sober Trivia Night at Howl at the Moon
DESCRIPTION:Sober Trivia at Howl at the Moon \n7pm / $3 cover
URL:https://www.waterfrontdistrict.ca/event/sober-trivia-night-at-howl-at-the-moon/
LOCATION:Howl at The Moon Dry Bar\, 8 Cumberland st S\, Thunder Bay
END:VEVENT
BEGIN:VEVENT
DTSTART;TZID=America/Halifax:20250919T210000
DTEND;TZID=America/Halifax:20250919T210000
DTSTAMP:20260420T044544
CREATED:20250918T014558Z
LAST-MODIFIED:20250918T014614Z
UID:7189-1758315600-1758315600@www.waterfrontdistrict.ca
SUMMARY:Mike Froh & The Bad News w/ This Audience & Along The Lines
DESCRIPTION:Super stoked to welcome back MIKE FROH (Holly Spring Disaster) with his new lineup THE BAD NEWS back to the pub this September! He always kills\, should be a killer time!! \nJoining them are local heavy hitters THIS AUDIENCE and ALONG THE LINES \n$15 advance tickets available on Showpass\n$20 Cash at the door\nDoors at 9pm\, Show at 10pm. 19+ \nBio: Mike Froh & The Bad News are a genre-defying band featuring the lead singer of The Holly Springs Disaster on vocals and songwriting\, Matt Reed on drums\, Riley Agopsowicz and Danton Moorhead on guitars\, and Mike Palynchuk on bass. Based out of Regina\, Saskatchewan\, a city known more for its football team than its music scene\, they feel no boundaries when it comes to heavy music. With a blend of catchy hooks and metalcore breakdowns with unconventional acoustic guitar riffs and electronic atmospheres\, why not add the occasional steel guitar? Their debut EP “Hate Me” introduces what bad news can truly encompass. Through this distinctive DIY\, self-produced approach\, they are quickly becoming a driving force in the evolving hardcore punk scene\, embodying their own form of prairie rebellion. \nTICKETS HERE
URL:https://www.waterfrontdistrict.ca/event/mike-froh-the-bad-news-w-this-audience-along-the-lines/
LOCATION:Black Pirates Pub\, 215 Red River Rd\, Suite 101\, Thunder Bay\, ON\, Canada
END:VEVENT
BEGIN:VEVENT
DTSTART;TZID=America/Halifax:20250919T210000
DTEND;TZID=America/Halifax:20250919T210000
DTSTAMP:20260420T044544
CREATED:20250918T014802Z
LAST-MODIFIED:20250918T015242Z
UID:7191-1758315600-1758315600@www.waterfrontdistrict.ca
SUMMARY:Live Music Friday ft Bill Savage at Red Lion
DESCRIPTION:
URL:https://www.waterfrontdistrict.ca/event/live-music-friday-ft-bill-savage-at-red-lion/
LOCATION:Red Lion Smokehouse\, 16 Cumberland St S\, Thunder Bay\, ON\, 16 Cumberland St S\, Canada
END:VEVENT
BEGIN:VEVENT
DTSTART;TZID=America/Halifax:20250919T220000
DTEND;TZID=America/Halifax:20250919T220000
DTSTAMP:20260420T044544
CREATED:20250918T015548Z
LAST-MODIFIED:20250918T015607Z
UID:7193-1758319200-1758319200@www.waterfrontdistrict.ca
SUMMARY:Karaoke live at The Waterhouse
DESCRIPTION:Karaoke every Thursday and Friday night at the Waterhouse!
URL:https://www.waterfrontdistrict.ca/event/karaoke-live-at-the-waterhouse-12/
LOCATION:Waterhouse\, 9 Cumberland St S\, Thunder Bay\, ON\, P7B 2T1
END:VEVENT
BEGIN:VEVENT
DTSTART;TZID=America/Halifax:20250919T220000
DTEND;TZID=America/Halifax:20250919T220000
DTSTAMP:20260420T044544
CREATED:20250918T015803Z
LAST-MODIFIED:20250918T015833Z
UID:7195-1758319200-1758319200@www.waterfrontdistrict.ca
SUMMARY:V3nom Live at The Foundry
DESCRIPTION:FRIDAY\, SEPT 19 – V3NOM HITS THE FOUNDRY 🎸⚡Thunder Bay’s V3nom is bringing the heavy to The Foundry — big riffs\, pounding drums\, and a crowd that’s ready to lose it. This is your late-night hard rock fix. \n📍 The Foundry – Thunder Bay\, ON🕙 Music at 10PM💵 $5 Cover | 19+ \nV3nom
URL:https://www.waterfrontdistrict.ca/event/v3nom-live-at-the-foundry-2/
LOCATION:The Foundry\, 242 Red River Road\, Thunder Bay\, Ontario\, p7b1a6\, Canada
END:VEVENT
BEGIN:VEVENT
DTSTART;TZID=America/Halifax:20250919T220000
DTEND;TZID=America/Halifax:20250919T220000
DTSTAMP:20260420T044544
CREATED:20250918T020119Z
LAST-MODIFIED:20250918T020131Z
UID:7197-1758319200-1758319200@www.waterfrontdistrict.ca
SUMMARY:Traffic Light Party at NV Music Hall
DESCRIPTION:🚦 TRAFFIC LIGHT PARTY IS BACK! 🚦\nThe rules are simple:\n🔴 Red = Taken ❤️\n🟡 Yellow = Ask Me 💛\n🟢 Green = Single & Ready 💚 \nNo more guessing games—just show your color and let the night decide 😉 \nThis is the party where the city comes alive\, where new faces meet familiar ones\, and where the energy stays high all night long! Expect nothing but good vibes\, non-stop music\, and the wildest crowd in town. \n⚠️ We hit capacity every single year\, so don’t play yourself—come early to secure your spot. \n✨ Event Details:\n🕙 Doors open 10PM sharp\n🎟️ NVMUSICHALL.COM\n🍹 $5 drinks special all night after\n🎶 Music powered by @djsupaofficial keeping you moving till close \nTICKETS HERE
URL:https://www.waterfrontdistrict.ca/event/traffic-light-party-at-nv-music-hall/
LOCATION:NV Music Hall\, 228 Red River Rd\, Thunder Bay\, ON\, Canada
END:VEVENT
BEGIN:VEVENT
DTSTART;TZID=America/Halifax:20250919T230000
DTEND;TZID=America/Halifax:20250919T230000
DTSTAMP:20260420T044544
CREATED:20250918T020255Z
LAST-MODIFIED:20250918T020317Z
UID:7199-1758322800-1758322800@www.waterfrontdistrict.ca
SUMMARY:Pocket After Dark
DESCRIPTION:No Cover // 19+
URL:https://www.waterfrontdistrict.ca/event/pocket-after-dark-23/
LOCATION:Pocketchange Bar\, 234 Red River Rd\, Thunder Bay\, ON\, P7B 1A6\, Canada
END:VEVENT
BEGIN:VEVENT
DTSTART;TZID=America/Halifax:20250920T150000
DTEND;TZID=America/Halifax:20250920T210000
DTSTAMP:20260420T044544
CREATED:20250918T143627Z
LAST-MODIFIED:20250918T143627Z
UID:7202-1758380400-1758402000@www.waterfrontdistrict.ca
SUMMARY:Vinyl Saturdays at Red Lion Smokehouse
DESCRIPTION:Dust off your records ’cause every Saturday you can be your own DJ and spin your favourite tunes on Red Lion Smokehouse’s house record player for “Bring Your Own Vinyl Saturday” \nDon’t have a record? Peruse the house crate and take the playlist into your own hands\, or better yet\, pop over to The Vinyl Frontier located right next door to Red Lion and start your own collection.
URL:https://www.waterfrontdistrict.ca/event/vinyl-saturdays-at-red-lion-smokehouse-6/
LOCATION:Red Lion Smokehouse\, 16 Cumberland St S\, Thunder Bay\, ON\, 16 Cumberland St S\, Canada
END:VEVENT
BEGIN:VEVENT
DTSTART;TZID=America/Halifax:20250920T200000
DTEND;TZID=America/Halifax:20250920T213000
DTSTAMP:20260420T044544
CREATED:20250918T150113Z
LAST-MODIFIED:20250918T150113Z
UID:7204-1758398400-1758403800@www.waterfrontdistrict.ca
SUMMARY:Martha Chaves at the Paramount Theatre
DESCRIPTION:MARTHA CHAVES: Martha is an award-winning comedian\, writer\, and actor whose career spans over two decades. Now Magazine described her as “smart\, sassy\, provocative\, and very funny.” \nMartha has appeared multiple times at the prestigious Just For Laughs Festival\, the Winnipeg Comedy Festival\, and the We Are Funny That Way Festival\, to name a few. \nMartha describes herself as the “most famous Nicaraguan-Canadian LGBTQ+ stand-up comedian in the world\,” but despite being an act of such a unique nature\, she’s hilariously relatable\, universally funny and accessible. \nShe tours from coast-to-coast as a headliner for Yuk-Yuks (Canada’s premiere chain of comedy clubs) and is also in high demand for corporate performances\, conferences\, and speaking engagements. \nShe can frequently be heard on CBC’s The Debaters and Laugh Out Loud. She is a regular panelist on the popular CBC show Because News. \nMartha also starred in two TV specials which were broadcast nationally: Comics! on CBC and Something About Martha on CTV and the Comedy Network. \nMartha was named 2018’s Stand-up Comic of the Year by the Canadian Comedy Awards after being nominated seven years in a row\, and her CD CHUNKY SALSA was included in a list of 2019’s best comedy records. \nDuring the pandemic\, she created a multi-media piece Living ‘La Covida Loca\, which premiered online at The Hillside Festival. She also created “Beyond the Mask\,” another multi-media piece that was featured in “Caminos” as part of the Aluna Theatre Festival 2021 program. In 2022\, she was asked to perform at the Stratford Festival. \nAs a playwright\, Martha has written and acted in several successful one-woman shows. “Staying Alive” and “In Times of Trouble” were featured in the Soulo Festival and the Aluna Theatre Festival in Toronto\, respectively. “The Diaries of a Young Lezbo” premiered at SOLOCOM in New York. \nHosted By: Mark Menei \nPlus several opening acts \nSponsors: \n\nOn The Links\nMatt Carr Repair\n\nDoors open @ 730PM \nShow starts @ 8PM \nRecommended for mature audiences due to adult content. 16+ \nFor event updates follow Campfire Comedy on social media or visit us at www.campfirecomedy.ca
URL:https://www.waterfrontdistrict.ca/event/martha-chaves-at-the-paramount-theatre/
LOCATION:Paramount Live\, 24 Court St S\, Thunder Bay
END:VEVENT
BEGIN:VEVENT
DTSTART;TZID=America/Halifax:20250920T203000
DTEND;TZID=America/Halifax:20250920T203000
DTSTAMP:20260420T044544
CREATED:20250918T150332Z
LAST-MODIFIED:20250918T150354Z
UID:7206-1758400200-1758400200@www.waterfrontdistrict.ca
SUMMARY:Sober Karaoke Night at Howl at the Moon
DESCRIPTION:Karaoke Tuesdays\, Thursdays\, and Saturdays at Howl! \n830pm to midnight\n$5 cover
URL:https://www.waterfrontdistrict.ca/event/sober-karaoke-night-at-howl-at-the-moon-4/
LOCATION:Howl at The Moon Dry Bar\, 8 Cumberland st S\, Thunder Bay
END:VEVENT
BEGIN:VEVENT
DTSTART;TZID=America/Halifax:20250920T210000
DTEND;TZID=America/Halifax:20250920T210000
DTSTAMP:20260420T044544
CREATED:20250918T150535Z
LAST-MODIFIED:20250918T150548Z
UID:7208-1758402000-1758402000@www.waterfrontdistrict.ca
SUMMARY:ThunderCon Drag Show 2025 at Black Pirates Pub
DESCRIPTION:Wiggins Productions proudly presents \n+++ THUNDERCON DRAG SHOW +++\nThe Official After Party of ThunderCon 2025 \n📅 Saturday\, September 20\, 2025\n📍 Black Pirates Pub (215 Red River Road)\n⏰ Doors 9 PM | Show 10 PM\n🔞 19+ (valid ID required) \nCATEGORY IS: Freaks & Geeks! \nAfter an action-packed first day of ThunderCon\, the party continues at Black Pirates Pub as Thunder Bay’s top drag performers cos-slay the house down for an anime-zing night where drag\, cosplay\, and pop culture collide at the official ThunderCon after party! \nCOSPLAY & DRESS UP IS HIGHLY ENCOURAGED!! \n💥💥💥 STARRING 💥💥💥\n👑 Mz. Molly Poppinz (host)\n👑 Victoria Injustice (return to the stage)\n👑 Amber Ail\n👑 Ivan Love\n👑 Miss Take\n👑 Lolita\n👑 Ophelia\n👑 Devin Devine\n👑 Shaela Vie\n👑 Olive Boogits\n👑 Seren Tonin\n👑 Anton Chinoor \n📸 Photography by Dark Forest Photographic\n🤝 Sponsored by TBShows \nTICKETS HERE \n____ \nABOUT THUNDERCON 2025 \nThunderCon is Northwestern Ontario’s premiere fan convention\, bringing together lovers of sci-fi\, fantasy\, gaming\, comics\, anime\, and pop culture for an unforgettable celebration of fandom. A volunteer-run\, not-for-profit organization\, ThunderCon is dedicated to creating a safe\, inclusive\, and exciting space where fans can connect\, learn\, and have fun. \nFrom celebrity guests and panels to cosplay competitions and gaming zones\, ThunderCon is an adventure built for fans\, by fans. \n🌐 More info: ThunderCon.ca
URL:https://www.waterfrontdistrict.ca/event/thundercon-drag-show-2025-at-black-pirates-pub/
LOCATION:Black Pirates Pub\, 215 Red River Rd\, Suite 101\, Thunder Bay\, ON\, Canada
END:VEVENT
BEGIN:VEVENT
DTSTART;TZID=America/Halifax:20250920T210000
DTEND;TZID=America/Halifax:20250920T210000
DTSTAMP:20260420T044544
CREATED:20250918T151556Z
LAST-MODIFIED:20250918T151612Z
UID:7210-1758402000-1758402000@www.waterfrontdistrict.ca
SUMMARY:Cover Nights ft Bill Murray at Red Lion
DESCRIPTION:
URL:https://www.waterfrontdistrict.ca/event/cover-nights-ft-bill-murray-at-red-lion-2/
LOCATION:Red Lion Smokehouse\, 16 Cumberland St S\, Thunder Bay\, ON\, 16 Cumberland St S\, Canada
END:VEVENT
BEGIN:VEVENT
DTSTART;TZID=America/Halifax:20250920T220000
DTEND;TZID=America/Halifax:20250920T220000
DTSTAMP:20260420T044544
CREATED:20250918T151805Z
LAST-MODIFIED:20250918T151820Z
UID:7212-1758405600-1758405600@www.waterfrontdistrict.ca
SUMMARY:The Selfies Live at The Foundry
DESCRIPTION:SATURDAY\, SEPT 20 – THE SELFIES AT THE FOUNDRY 🎤🎉Thunder Bay’s pop/rock party crew The Selfies are back to load your Saturday with hit after hit.Expect a packed floor\, sing-along anthems\, and a night that’ll go way past last call. \n📍 The Foundry – Thunder Bay\, ON🕙 Music at 10PM💵 $5 Cover | 19+ \nThe Selfies
URL:https://www.waterfrontdistrict.ca/event/the-selfies-live-at-the-foundry/
LOCATION:The Foundry\, 242 Red River Road\, Thunder Bay\, Ontario\, p7b1a6\, Canada
END:VEVENT
END:VCALENDAR