BEGIN:VCALENDAR
VERSION:2.0
PRODID:-//Waterfront District BIA - ECPv6.15.20//NONSGML v1.0//EN
CALSCALE:GREGORIAN
METHOD:PUBLISH
X-ORIGINAL-URL:https://www.waterfrontdistrict.ca
X-WR-CALDESC:Events for Waterfront District BIA
REFRESH-INTERVAL;VALUE=DURATION:PT1H
X-Robots-Tag:noindex
X-PUBLISHED-TTL:PT1H
BEGIN:VTIMEZONE
TZID:America/Halifax
BEGIN:DAYLIGHT
TZOFFSETFROM:-0400
TZOFFSETTO:-0300
TZNAME:ADT
DTSTART:20240310T060000
END:DAYLIGHT
BEGIN:STANDARD
TZOFFSETFROM:-0300
TZOFFSETTO:-0400
TZNAME:AST
DTSTART:20241103T050000
END:STANDARD
BEGIN:DAYLIGHT
TZOFFSETFROM:-0400
TZOFFSETTO:-0300
TZNAME:ADT
DTSTART:20250309T060000
END:DAYLIGHT
BEGIN:STANDARD
TZOFFSETFROM:-0300
TZOFFSETTO:-0400
TZNAME:AST
DTSTART:20251102T050000
END:STANDARD
BEGIN:DAYLIGHT
TZOFFSETFROM:-0400
TZOFFSETTO:-0300
TZNAME:ADT
DTSTART:20260308T060000
END:DAYLIGHT
BEGIN:STANDARD
TZOFFSETFROM:-0300
TZOFFSETTO:-0400
TZNAME:AST
DTSTART:20261101T050000
END:STANDARD
END:VTIMEZONE
BEGIN:VEVENT
DTSTART;VALUE=DATE:20250604
DTEND;VALUE=DATE:20250606
DTSTAMP:20260419T234504
CREATED:20250513T163354Z
LAST-MODIFIED:20250513T163354Z
UID:6461-1748995200-1749167999@www.waterfrontdistrict.ca
SUMMARY:Cruise Ship
DESCRIPTION:
URL:https://www.waterfrontdistrict.ca/event/cruise-ship-4/
LOCATION:POOL 6 Dock
CATEGORIES:Cruise Ship Arrival
END:VEVENT
BEGIN:VEVENT
DTSTART;TZID=America/Halifax:20250604T180000
DTEND;TZID=America/Halifax:20250604T200000
DTSTAMP:20260419T234504
CREATED:20250522T183024Z
LAST-MODIFIED:20250530T182825Z
UID:6566-1749060000-1749067200@www.waterfrontdistrict.ca
SUMMARY:Magic and Wine Night with Mackinley’s Delusions
DESCRIPTION:All ages
URL:https://www.waterfrontdistrict.ca/event/magic-and-wine-night-with-mackinleys-delusions/
LOCATION:Grotto Trattoria\, 28 Cumberland St N\, Thunder Bay\, ON\, Canada
CATEGORIES:Event
END:VEVENT
BEGIN:VEVENT
DTSTART;TZID=America/Halifax:20250604T200000
DTEND;TZID=America/Halifax:20250604T200000
DTSTAMP:20260419T234504
CREATED:20250522T183111Z
LAST-MODIFIED:20250530T182852Z
UID:6569-1749067200-1749067200@www.waterfrontdistrict.ca
SUMMARY:Weekly Trivia
DESCRIPTION:All ages
URL:https://www.waterfrontdistrict.ca/event/weekly-trivia/
LOCATION:The Foundry\, 242 Red River Road\, Thunder Bay\, Ontario\, p7b1a6\, Canada
CATEGORIES:Event
END:VEVENT
BEGIN:VEVENT
DTSTART;TZID=America/Halifax:20250605T193000
DTEND;TZID=America/Halifax:20250605T193000
DTSTAMP:20260419T234504
CREATED:20250522T175514Z
LAST-MODIFIED:20250530T184056Z
UID:6507-1749151800-1749151800@www.waterfrontdistrict.ca
SUMMARY:Open Mic Night
DESCRIPTION:All ages
URL:https://www.waterfrontdistrict.ca/event/lakehead-beer-co/
LOCATION:Lakehead Beer Co\, 206 Park Ave\, Thunder Bay
CATEGORIES:Event
END:VEVENT
BEGIN:VEVENT
DTSTART;TZID=America/Halifax:20250605T220000
DTEND;TZID=America/Halifax:20250605T220000
DTSTAMP:20260419T234504
CREATED:20250530T184013Z
LAST-MODIFIED:20250530T184013Z
UID:6621-1749160800-1749160800@www.waterfrontdistrict.ca
SUMMARY:Karaoke
DESCRIPTION:19+
URL:https://www.waterfrontdistrict.ca/event/karaoke-3/
LOCATION:Nortenos Cantina\, 235 Red River Rd\, Thunder Bay\, ON\, Canada
CATEGORIES:Event
END:VEVENT
BEGIN:VEVENT
DTSTART;VALUE=DATE:20250606
DTEND;VALUE=DATE:20250607
DTSTAMP:20260419T234504
CREATED:20250513T162926Z
LAST-MODIFIED:20250513T163000Z
UID:6457-1749168000-1749254399@www.waterfrontdistrict.ca
SUMMARY:Cruise Ship
DESCRIPTION:
URL:https://www.waterfrontdistrict.ca/event/cruise-ship-2/
LOCATION:POOL 6 Dock
CATEGORIES:Cruise Ship Arrival
END:VEVENT
BEGIN:VEVENT
DTSTART;TZID=America/Halifax:20250606T180000
DTEND;TZID=America/Halifax:20250606T210000
DTSTAMP:20260419T234504
CREATED:20250522T180056Z
LAST-MODIFIED:20250530T184447Z
UID:6516-1749232800-1749243600@www.waterfrontdistrict.ca
SUMMARY:Jazz and Old Fashioned Fridays ft. Mood Indigo
DESCRIPTION:All ages
URL:https://www.waterfrontdistrict.ca/event/anchor-ore/
LOCATION:Anchor & Ore\, 2240 Sleeping Giant Pkwy\, Thunder Bay\, ON\, Canada
CATEGORIES:Event
END:VEVENT
BEGIN:VEVENT
DTSTART;TZID=America/Halifax:20250608T110000
DTEND;TZID=America/Halifax:20250608T150000
DTSTAMP:20260419T234504
CREATED:20250513T160800Z
LAST-MODIFIED:20250513T160800Z
UID:6437-1749380400-1749394800@www.waterfrontdistrict.ca
SUMMARY:Kite Festival
DESCRIPTION:Outdoor games\, activities\, food vendors\, kite flying\, amusement rides\, and more!
URL:https://www.waterfrontdistrict.ca/event/kite-festival/
LOCATION:Chippewa Park\, 2465 City Rd\, Thunder Bay\, Ontario\, P7E 6B6\, Canada
CATEGORIES:Event
END:VEVENT
BEGIN:VEVENT
DTSTART;TZID=America/Halifax:20250614T100000
DTEND;TZID=America/Halifax:20250614T160000
DTSTAMP:20260419T234504
CREATED:20250513T152627Z
LAST-MODIFIED:20250513T152627Z
UID:6399-1749895200-1749916800@www.waterfrontdistrict.ca
SUMMARY:10th Annual Thunder Bay Mining Day
DESCRIPTION:The 10th Annual Mining Day in Thunder Bay is a free and fun event held at Marina Park\, raising awareness about mining\, exploration\, and related industries in Northwestern Ontario. \n 
URL:https://www.waterfrontdistrict.ca/event/10th-annual-thunder-bay-mining-day/
LOCATION:Marina Park\, Thunder Bay\, ON\, Canada
CATEGORIES:Event
END:VEVENT
BEGIN:VEVENT
DTSTART;VALUE=DATE:20250620
DTEND;VALUE=DATE:20250621
DTSTAMP:20260419T234504
CREATED:20250513T163447Z
LAST-MODIFIED:20250513T163447Z
UID:6463-1750377600-1750463999@www.waterfrontdistrict.ca
SUMMARY:Cruise Ship
DESCRIPTION:
URL:https://www.waterfrontdistrict.ca/event/cruise-ship-5/
LOCATION:POOL 6 Dock
CATEGORIES:Cruise Ship Arrival
END:VEVENT
BEGIN:VEVENT
DTSTART;VALUE=DATE:20250621
DTEND;VALUE=DATE:20250622
DTSTAMP:20260419T234504
CREATED:20250513T163606Z
LAST-MODIFIED:20250513T163606Z
UID:6465-1750464000-1750550399@www.waterfrontdistrict.ca
SUMMARY:Strong Man NIPD
DESCRIPTION:
URL:https://www.waterfrontdistrict.ca/event/strong-man-nipd/
LOCATION:Marina Park\, Thunder Bay\, ON\, Canada
CATEGORIES:Event
END:VEVENT
BEGIN:VEVENT
DTSTART;VALUE=DATE:20250626
DTEND;VALUE=DATE:20250627
DTSTAMP:20260419T234504
CREATED:20250513T163653Z
LAST-MODIFIED:20250513T163653Z
UID:6467-1750896000-1750982399@www.waterfrontdistrict.ca
SUMMARY:Cruise Ship
DESCRIPTION:
URL:https://www.waterfrontdistrict.ca/event/cruise-ship-6/
LOCATION:POOL 6 Dock
CATEGORIES:Cruise Ship Arrival
END:VEVENT
BEGIN:VEVENT
DTSTART;TZID=America/Halifax:20250626T193000
DTEND;TZID=America/Halifax:20250626T193000
DTSTAMP:20260419T234504
CREATED:20250626T181738Z
LAST-MODIFIED:20250626T181738Z
UID:6646-1750966200-1750966200@www.waterfrontdistrict.ca
SUMMARY:Open Mic Night
DESCRIPTION:All ages
URL:https://www.waterfrontdistrict.ca/event/open-mic-night/
LOCATION:Lakehead Beer Co\, 206 Park Ave\, Thunder Bay
CATEGORIES:Event
END:VEVENT
BEGIN:VEVENT
DTSTART;TZID=America/Halifax:20250626T210000
DTEND;TZID=America/Halifax:20250626T210000
DTSTAMP:20260419T234504
CREATED:20250626T181505Z
LAST-MODIFIED:20250626T181505Z
UID:6644-1750971600-1750971600@www.waterfrontdistrict.ca
SUMMARY:Karaoke
DESCRIPTION:19+
URL:https://www.waterfrontdistrict.ca/event/karaoke-4/
LOCATION:Nortenos Cantina\, 235 Red River Rd\, Thunder Bay\, ON\, Canada
CATEGORIES:Event
END:VEVENT
BEGIN:VEVENT
DTSTART;VALUE=DATE:20250628
DTEND;VALUE=DATE:20250629
DTSTAMP:20260419T234504
CREATED:20250513T163728Z
LAST-MODIFIED:20250513T163728Z
UID:6469-1751068800-1751155199@www.waterfrontdistrict.ca
SUMMARY:Cruise Ship
DESCRIPTION:
URL:https://www.waterfrontdistrict.ca/event/cruise-ship-7/
LOCATION:POOL 6 Dock
CATEGORIES:Cruise Ship Arrival
END:VEVENT
BEGIN:VEVENT
DTSTART;TZID=America/Halifax:20250628T120000
DTEND;TZID=America/Halifax:20250628T220000
DTSTAMP:20260419T234504
CREATED:20250618T175156Z
LAST-MODIFIED:20250618T175156Z
UID:6637-1751112000-1751148000@www.waterfrontdistrict.ca
SUMMARY:Block Party!
DESCRIPTION:In support of Our Kids Count! There will be chalk the block street art\, live music\, local vendors\, and community tug of war!
URL:https://www.waterfrontdistrict.ca/event/block-party-2/
LOCATION:Red Lion Smokehouse\, 16 Cumberland St S\, Thunder Bay\, ON\, 16 Cumberland St S\, Canada
CATEGORIES:Event
END:VEVENT
BEGIN:VEVENT
DTSTART;VALUE=DATE:20250629
DTEND;VALUE=DATE:20250701
DTSTAMP:20260419T234504
CREATED:20250513T163806Z
LAST-MODIFIED:20250513T163806Z
UID:6471-1751155200-1751327999@www.waterfrontdistrict.ca
SUMMARY:Cruise Ship
DESCRIPTION:
URL:https://www.waterfrontdistrict.ca/event/cruise-ship-8/
LOCATION:POOL 6 Dock
CATEGORIES:Cruise Ship Arrival
END:VEVENT
BEGIN:VEVENT
DTSTART;VALUE=DATE:20250630
DTEND;VALUE=DATE:20250702
DTSTAMP:20260419T234504
CREATED:20250513T163855Z
LAST-MODIFIED:20250513T163855Z
UID:6473-1751241600-1751414399@www.waterfrontdistrict.ca
SUMMARY:Cruise Ship
DESCRIPTION:
URL:https://www.waterfrontdistrict.ca/event/cruise-ship-9/
LOCATION:POOL 6 Dock
CATEGORIES:Cruise Ship Arrival
END:VEVENT
BEGIN:VEVENT
DTSTART;VALUE=DATE:20250701
DTEND;VALUE=DATE:20250702
DTSTAMP:20260419T234504
CREATED:20250513T163928Z
LAST-MODIFIED:20250513T163928Z
UID:6475-1751328000-1751414399@www.waterfrontdistrict.ca
SUMMARY:Cruise Ship
DESCRIPTION:
URL:https://www.waterfrontdistrict.ca/event/cruise-ship-10/
LOCATION:POOL 6 Dock
CATEGORIES:Cruise Ship Arrival
END:VEVENT
BEGIN:VEVENT
DTSTART;TZID=America/Halifax:20250701T150000
DTEND;TZID=America/Halifax:20250701T210000
DTSTAMP:20260419T234504
CREATED:20250513T152820Z
LAST-MODIFIED:20250513T152820Z
UID:6401-1751382000-1751403600@www.waterfrontdistrict.ca
SUMMARY:Canada Day on the Waterfront
DESCRIPTION:Celebrate Canada Day in Thunder Bay with an unforgettable day at Marina Park!  Enjoy family-friendly fun and tons of exciting activities: \n\nFood Vendors – Feast on delicious bites from a variety of local food vendors.\nStage Shows & Entertainment – Enjoy 3 incredible stage shows featuring diverse performances and entertainment for all ages!\nBubble Stations – Let the kids (and adults!) have fun with giant bubbles at our interactive bubble stations.\nCultural Programming & Dance Groups – Experience dynamic cultural performances and celebrate the richness of our community’s diverse heritage!\nIndoor & Outdoor Activities – Enjoy a variety of activities for the whole family\, both inside and outside.
URL:https://www.waterfrontdistrict.ca/event/canada-day-on-the-waterfront/
LOCATION:Marina Park\, Thunder Bay\, ON\, Canada
CATEGORIES:Event
END:VEVENT
BEGIN:VEVENT
DTSTART;VALUE=DATE:20250702
DTEND;VALUE=DATE:20250703
DTSTAMP:20260419T234504
CREATED:20250513T164032Z
LAST-MODIFIED:20250513T164032Z
UID:6477-1751414400-1751500799@www.waterfrontdistrict.ca
SUMMARY:Cruise Ship
DESCRIPTION:
URL:https://www.waterfrontdistrict.ca/event/cruise-ship-11/
LOCATION:POOL 6 Dock
CATEGORIES:Cruise Ship Arrival
END:VEVENT
BEGIN:VEVENT
DTSTART;TZID=America/Halifax:20250708T110000
DTEND;TZID=America/Halifax:20250708T150000
DTSTAMP:20260419T234504
CREATED:20250513T161110Z
LAST-MODIFIED:20250513T161110Z
UID:6442-1751972400-1751986800@www.waterfrontdistrict.ca
SUMMARY:Teddy Bears Picnic
DESCRIPTION:Stage Show – Enjoy a lively performance for kids and families that will keep everyone entertained!\nTeddy Bear Parade – Dress up your teddy and join in the adorable parade!\nFirst Responders Display – Learn about safety with our first responders display area – meet the heroes who keep us safe!\nBoo-Boo Bear Station – Has your teddy bear had a little accident? Bring them to the Boo-Boo Bear station for a fun teddy bear mending session!\nFace Painting – Get your face painted in fun and creative designs!\nFood Vendors – Grab a snack or treat from our local food vendors!\nCommunity Group Expo – Explore booths with valuable information and services available to families in our community.\nFamily Fun for All Ages – While it’s a kids’ event\, the whole family will enjoy the charm of this beloved tradition!
URL:https://www.waterfrontdistrict.ca/event/teddy-bears-picnic/
LOCATION:Vickers Park\, 1700 Arthur St E\, Thunder Bay\, Ontario\, P7E 2R6\, Canada
CATEGORIES:Event,Food,Kids
END:VEVENT
BEGIN:VEVENT
DTSTART;TZID=America/Halifax:20250710T170000
DTEND;TZID=America/Halifax:20250710T230000
DTSTAMP:20260419T234504
CREATED:20250709T175753Z
LAST-MODIFIED:20250709T175753Z
UID:6725-1752166800-1752188400@www.waterfrontdistrict.ca
SUMMARY:Tiki Bar
DESCRIPTION:
URL:https://www.waterfrontdistrict.ca/event/tiki-bar/
LOCATION:The Foundry\, 242 Red River Road\, Thunder Bay\, Ontario\, p7b1a6\, Canada
END:VEVENT
BEGIN:VEVENT
DTSTART;TZID=America/Halifax:20250710T190000
DTEND;TZID=America/Halifax:20250710T220000
DTSTAMP:20260419T234504
CREATED:20250708T190907Z
LAST-MODIFIED:20250708T191116Z
UID:6678-1752174000-1752184800@www.waterfrontdistrict.ca
SUMMARY:Piano Men: Breslin Plays the Music of Billy Joel and Elton John
DESCRIPTION:Mark your calendars pals! So excited for these two upcoming shows! 🤙🎶 \nBreslin will be taking the stage solo behind the keys paying homage to two of his all time favourite songwriters in two of his favourite places. \n 
URL:https://www.waterfrontdistrict.ca/event/piano-men-breslin-plays-the-music-of-billy-joel-and-elton-john/
LOCATION:Woodside Bar\, 251 Red River Road\, Thunder Bay\, ON\, P7B 1A7\, Canada
CATEGORIES:Concert,Event,Food
END:VEVENT
BEGIN:VEVENT
DTSTART;TZID=America/Halifax:20250710T190000
DTEND;TZID=America/Halifax:20250710T220000
DTSTAMP:20260419T234504
CREATED:20250708T191641Z
LAST-MODIFIED:20250708T191641Z
UID:6681-1752174000-1752184800@www.waterfrontdistrict.ca
SUMMARY:Open Mic Night
DESCRIPTION:What’s Open Mic Night all about? Fresh beer\, delicious food\, local talent\, and good vibes.🙌 \nDiscover new local talent every Thursday from 7:30-10pm in the taproom or sign up at the bar and perform for a free beverage! \nNo experience needed\, we’re here to cheer you on. \nTaproom open 4pm-11pm Thursday!🍻 \n**All ages / guardian supervision is mandatory for minors
URL:https://www.waterfrontdistrict.ca/event/open-mic-night-2/
LOCATION:Lakehead Beer Co\, 206 Park Ave\, Thunder Bay
CATEGORIES:Concert,Event,Food,Kids
END:VEVENT
BEGIN:VEVENT
DTSTART;TZID=America/Halifax:20250710T210000
DTEND;TZID=America/Halifax:20250710T210000
DTSTAMP:20260419T234504
CREATED:20250708T192935Z
LAST-MODIFIED:20250708T193240Z
UID:6683-1752181200-1752181200@www.waterfrontdistrict.ca
SUMMARY:Sober Karaoke
DESCRIPTION:THURSDAYS & SATURDAYS are KARAOKE NIGHT\nKaraoke starts @ 9pm\n5$
URL:https://www.waterfrontdistrict.ca/event/sober-karaoke-2/
LOCATION:Howl at The Moon Dry Bar\, 8 Cumberland st S\, Thunder Bay
CATEGORIES:Concert,Event,Food
END:VEVENT
BEGIN:VEVENT
DTSTART;TZID=America/Halifax:20250710T210000
DTEND;TZID=America/Halifax:20250710T210000
DTSTAMP:20260419T234504
CREATED:20250708T193856Z
LAST-MODIFIED:20250708T193930Z
UID:6685-1752181200-1752181200@www.waterfrontdistrict.ca
SUMMARY:Karaoke
DESCRIPTION:Karaoke at the Cantina Every Thursday night.\nNo cover. \nShow Starts 9PM at Nortenos Cantina.
URL:https://www.waterfrontdistrict.ca/event/karaoke-5/
LOCATION:Nortenos Cantina\, 235 Red River Rd\, Thunder Bay\, ON\, Canada
CATEGORIES:Concert,Event,Food
END:VEVENT
BEGIN:VEVENT
DTSTART;TZID=America/Halifax:20250710T220000
DTEND;TZID=America/Halifax:20250710T220000
DTSTAMP:20260419T234504
CREATED:20250708T194247Z
LAST-MODIFIED:20250708T195108Z
UID:6687-1752184800-1752184800@www.waterfrontdistrict.ca
SUMMARY:Karaoke
DESCRIPTION:
URL:https://www.waterfrontdistrict.ca/event/karaoke-6/
LOCATION:Waterhouse\, 9 Cumberland St S\, Thunder Bay\, ON\, P7B 2T1
CATEGORIES:Concert
END:VEVENT
BEGIN:VEVENT
DTSTART;TZID=America/Halifax:20250711T180000
DTEND;TZID=America/Halifax:20250711T210000
DTSTAMP:20260419T234504
CREATED:20250708T195454Z
LAST-MODIFIED:20250708T195454Z
UID:6689-1752256800-1752267600@www.waterfrontdistrict.ca
SUMMARY:Jazz and Old Fashioned Fridays Ft Mood Indigo
DESCRIPTION:Don’t miss the spectacular scenery\, smooth jazz and incredibly crafted cocktails and food at Anchor & Ore in The Delta Hotel with Mood Indigo!
URL:https://www.waterfrontdistrict.ca/event/jazz-and-old-fashioned-fridays-ft-mood-indigo/
LOCATION:Anchor & Ore\, 2240 Sleeping Giant Pkwy\, Thunder Bay\, ON\, Canada
CATEGORIES:Concert,Event,Food
END:VEVENT
BEGIN:VEVENT
DTSTART;TZID=America/Halifax:20250711T180000
DTEND;TZID=America/Halifax:20250711T220000
DTSTAMP:20260419T234504
CREATED:20250708T230916Z
LAST-MODIFIED:20250708T230916Z
UID:6691-1752256800-1752271200@www.waterfrontdistrict.ca
SUMMARY:Late Night Food Alley Ft DJ Ducktail
DESCRIPTION:Late Night Food Alley on Fridays!!! Come grab a bite from our in house restaurants\, grab a drink at @thewoodsidebar and enjoy music by DJ @_ducktail See you there
URL:https://www.waterfrontdistrict.ca/event/late-night-food-alley-ft-dj-ducktail/
LOCATION:Goods and co\, 251 Red River Rd\, Thunder Bay\, Ontario\, P7B 1A7\, Canada
CATEGORIES:Event
END:VEVENT
END:VCALENDAR