BEGIN:VCALENDAR
VERSION:2.0
PRODID:-//Waterfront District BIA - ECPv6.15.20//NONSGML v1.0//EN
CALSCALE:GREGORIAN
METHOD:PUBLISH
X-ORIGINAL-URL:https://www.waterfrontdistrict.ca
X-WR-CALDESC:Events for Waterfront District BIA
REFRESH-INTERVAL;VALUE=DURATION:PT1H
X-Robots-Tag:noindex
X-PUBLISHED-TTL:PT1H
BEGIN:VTIMEZONE
TZID:America/Halifax
BEGIN:DAYLIGHT
TZOFFSETFROM:-0400
TZOFFSETTO:-0300
TZNAME:ADT
DTSTART:20240310T060000
END:DAYLIGHT
BEGIN:STANDARD
TZOFFSETFROM:-0300
TZOFFSETTO:-0400
TZNAME:AST
DTSTART:20241103T050000
END:STANDARD
BEGIN:DAYLIGHT
TZOFFSETFROM:-0400
TZOFFSETTO:-0300
TZNAME:ADT
DTSTART:20250309T060000
END:DAYLIGHT
BEGIN:STANDARD
TZOFFSETFROM:-0300
TZOFFSETTO:-0400
TZNAME:AST
DTSTART:20251102T050000
END:STANDARD
BEGIN:DAYLIGHT
TZOFFSETFROM:-0400
TZOFFSETTO:-0300
TZNAME:ADT
DTSTART:20260308T060000
END:DAYLIGHT
BEGIN:STANDARD
TZOFFSETFROM:-0300
TZOFFSETTO:-0400
TZNAME:AST
DTSTART:20261101T050000
END:STANDARD
END:VTIMEZONE
BEGIN:VEVENT
DTSTART;TZID=America/Halifax:20250815T220000
DTEND;TZID=America/Halifax:20250815T220000
DTSTAMP:20260420T043855
CREATED:20250811T160026Z
LAST-MODIFIED:20250811T160036Z
UID:6963-1755295200-1755295200@www.waterfrontdistrict.ca
SUMMARY:DJ Mo live at Nortenos Cantina
DESCRIPTION:
URL:https://www.waterfrontdistrict.ca/event/dj-mo-live-at-nortenos-cantina/
LOCATION:Nortenos Cantina\, 235 Red River Rd\, Thunder Bay\, ON\, Canada
END:VEVENT
BEGIN:VEVENT
DTSTART;TZID=America/Halifax:20250815T230000
DTEND;TZID=America/Halifax:20250815T230000
DTSTAMP:20260420T043855
CREATED:20250811T164310Z
LAST-MODIFIED:20250811T164349Z
UID:6965-1755298800-1755298800@www.waterfrontdistrict.ca
SUMMARY:Pocket After Dark
DESCRIPTION:No Cover // 19+
URL:https://www.waterfrontdistrict.ca/event/pocket-after-dark-13/
LOCATION:Pocketchange Bar\, 234 Red River Rd\, Thunder Bay\, ON\, P7B 1A6\, Canada
END:VEVENT
BEGIN:VEVENT
DTSTART;TZID=America/Halifax:20250816T130000
DTEND;TZID=America/Halifax:20250816T170000
DTSTAMP:20260420T043855
CREATED:20250811T170742Z
LAST-MODIFIED:20250811T170742Z
UID:6977-1755349200-1755363600@www.waterfrontdistrict.ca
SUMMARY:Sober Matinee Karaoke at Howl at the Moon
DESCRIPTION:Sunday Afternoons 1pm to 5pm!
URL:https://www.waterfrontdistrict.ca/event/sober-matinee-karaoke-at-howl-at-the-moon/
LOCATION:Howl at The Moon Dry Bar\, 8 Cumberland st S\, Thunder Bay
END:VEVENT
BEGIN:VEVENT
DTSTART;TZID=America/Halifax:20250816T150000
DTEND;TZID=America/Halifax:20250816T210000
DTSTAMP:20260420T043855
CREATED:20250811T164547Z
LAST-MODIFIED:20250811T164547Z
UID:6967-1755356400-1755378000@www.waterfrontdistrict.ca
SUMMARY:Vinyl Saturdays at Red Lion Smokehouse
DESCRIPTION:Dust off your records ’cause every Saturday you can be your own DJ and spin your favourite tunes on Red Lion Smokehouse’s house record player for “Bring Your Own Vinyl Saturday” \nDon’t have a record? Peruse the house crate and take the playlist into your own hands\, or better yet\, pop over to The Vinyl Frontier located right next door to Red Lion and start your own collection.
URL:https://www.waterfrontdistrict.ca/event/vinyl-saturdays-at-red-lion-smokehouse/
LOCATION:Red Lion Smokehouse\, 16 Cumberland St S\, Thunder Bay\, ON\, 16 Cumberland St S\, Canada
END:VEVENT
BEGIN:VEVENT
DTSTART;TZID=America/Halifax:20250816T210000
DTEND;TZID=America/Halifax:20250816T210000
DTSTAMP:20260420T043855
CREATED:20250811T165401Z
LAST-MODIFIED:20250811T165420Z
UID:6969-1755378000-1755378000@www.waterfrontdistrict.ca
SUMMARY:Sober Karaoke live at Howl at the Moon
DESCRIPTION:THURSDAYS & SATURDAYS are KARAOKE NIGHT\nKaraoke starts @ 9pm\n5$
URL:https://www.waterfrontdistrict.ca/event/sober-karaoke-live-at-howl-at-the-moon/
LOCATION:Howl at The Moon Dry Bar\, 8 Cumberland st S\, Thunder Bay
END:VEVENT
BEGIN:VEVENT
DTSTART;TZID=America/Halifax:20250816T213000
DTEND;TZID=America/Halifax:20250816T213000
DTSTAMP:20260420T043855
CREATED:20250811T165825Z
LAST-MODIFIED:20250811T165848Z
UID:6971-1755379800-1755379800@www.waterfrontdistrict.ca
SUMMARY:Wax Philosophic Summer Pop-Up Show
DESCRIPTION:Join your boys MC Reach & d-cyphur for this Pop-up Summer Show feat Rogue. Doors @ 9:30pm \nFacebook Event HERE
URL:https://www.waterfrontdistrict.ca/event/wax-philosophic-summer-pop-up-show/
LOCATION:The Foundry\, 242 Red River Road\, Thunder Bay\, Ontario\, p7b1a6\, Canada
END:VEVENT
BEGIN:VEVENT
DTSTART;TZID=America/Halifax:20250816T220000
DTEND;TZID=America/Halifax:20250816T220000
DTSTAMP:20260420T043855
CREATED:20250811T170035Z
LAST-MODIFIED:20250811T170053Z
UID:6973-1755381600-1755381600@www.waterfrontdistrict.ca
SUMMARY:Deejay Dizzle live at Nortenos Cantina
DESCRIPTION:
URL:https://www.waterfrontdistrict.ca/event/deejay-dizzle-live-at-nortenos-cantina/
LOCATION:Nortenos Cantina\, 235 Red River Rd\, Thunder Bay\, ON\, Canada
END:VEVENT
BEGIN:VEVENT
DTSTART;TZID=America/Halifax:20250816T230000
DTEND;TZID=America/Halifax:20250816T230000
DTSTAMP:20260420T043855
CREATED:20250811T170310Z
LAST-MODIFIED:20250811T170348Z
UID:6975-1755385200-1755385200@www.waterfrontdistrict.ca
SUMMARY:Pocket After Dark
DESCRIPTION:No Cover // 19+
URL:https://www.waterfrontdistrict.ca/event/pocket-after-dark-14/
LOCATION:Pocketchange Bar\, 234 Red River Rd\, Thunder Bay\, ON\, P7B 1A6\, Canada
END:VEVENT
BEGIN:VEVENT
DTSTART;TZID=America/Halifax:20250820T180000
DTEND;TZID=America/Halifax:20250820T210000
DTSTAMP:20260420T043855
CREATED:20250513T154815Z
LAST-MODIFIED:20250513T154815Z
UID:6419-1755712800-1755723600@www.waterfrontdistrict.ca
SUMMARY:Live on the Waterfront Wednesdays
DESCRIPTION:Live on the Waterfront is a highly anticipated 8-part concert series that takes place every Wednesday evening during the summer season at Prince Arthur’s Landing\, Marina Park that featuring an impressive lineup of musical acts! Come out every Wednesday this summer at Marina Park\, starting on July 16th till August 20th. PLUS the Summer Send Off\, two back-to-back days\, August 27 and 28\, at Marina Park.
URL:https://www.waterfrontdistrict.ca/event/live-on-the-waterfront-wednesdays-6/
LOCATION:Marina Park\, Thunder Bay\, ON\, Canada
CATEGORIES:Concert,Event
END:VEVENT
BEGIN:VEVENT
DTSTART;TZID=America/Halifax:20250821T110000
DTEND;TZID=America/Halifax:20250821T200000
DTSTAMP:20260420T043855
CREATED:20250513T155401Z
LAST-MODIFIED:20250513T155401Z
UID:6425-1755774000-1755806400@www.waterfrontdistrict.ca
SUMMARY:Ribfest 2025
DESCRIPTION:Ribfest is a local charity fundraiser event in support of Our Kids Count\, and our volunteers work hard to make this event a success every year!
URL:https://www.waterfrontdistrict.ca/event/ribfest-2025/
LOCATION:Marina Park\, Thunder Bay\, ON\, Canada
CATEGORIES:Event,Food
END:VEVENT
BEGIN:VEVENT
DTSTART;TZID=America/Halifax:20250821T170000
DTEND;TZID=America/Halifax:20250821T230000
DTSTAMP:20260420T043855
CREATED:20250707T154534Z
LAST-MODIFIED:20250714T183408Z
UID:6640-1755795600-1755817200@www.waterfrontdistrict.ca
SUMMARY:HarbourFest!
DESCRIPTION:HarbourFest is Back and we are celebrating the Red River Road Street Grand Opening! \n🎶After decades of waiting\, Harbour Fest is back to celebrate the grand reopening of Red River Road in true summer fashion—just like the ’90s! Get ready to relive the vibe with: \n🎶 Live concerts with your favourite local acts🏰 Carnival-style games & friendly contests for all ages🎨 Vibrant face-painting to spark creativity🏆 Fun community competitions and endless summer energy \nHarbour Fest returns – relive the vibe\, revive the downtown!Come join us with friends and family for an unforgettable evening of music\, art\, and that classic Harbour Fest spirit. Let’s bring back the memories—and create new ones!
URL:https://www.waterfrontdistrict.ca/event/red-river-road-street-grand-opening/
LOCATION:Red River Road\, 214 Red River Road\, Thunder Bay\, ON\, P7B 1A7\, Canada
END:VEVENT
BEGIN:VEVENT
DTSTART;TZID=America/Halifax:20250821T190000
DTEND;TZID=America/Halifax:20250821T220000
DTSTAMP:20260420T043855
CREATED:20250818T152908Z
LAST-MODIFIED:20250818T152908Z
UID:6980-1755802800-1755813600@www.waterfrontdistrict.ca
SUMMARY:Open Mic Night at Lakehead Beer Co
DESCRIPTION:What’s Open Mic Night all about? Fresh beer\, delicious food\, local talent\, and good vibes.🙌 \nDiscover new local talent every Thursday from 7:30-10pm in the taproom or sign up at the bar and perform for a free beverage! \nNo experience needed\, we’re here to cheer you on. \nTaproom open 4pm-11pm Thursday!🍻 \n**All ages / guardian supervision is mandatory for minors
URL:https://www.waterfrontdistrict.ca/event/open-mic-night-at-lakehead-beer-co/
LOCATION:Lakehead Beer Co\, 206 Park Ave\, Thunder Bay
END:VEVENT
BEGIN:VEVENT
DTSTART;TZID=America/Halifax:20250821T200000
DTEND;TZID=America/Halifax:20250821T230000
DTSTAMP:20260420T043855
CREATED:20250818T153242Z
LAST-MODIFIED:20250818T153242Z
UID:6982-1755806400-1755817200@www.waterfrontdistrict.ca
SUMMARY:Open Mic Comedy at The Foundry
DESCRIPTION:OPEN MIC THURSDAYS @ THE FOUNDRY\n*see poster for exact dates* \nJoin us at The Foundry (242 Red River Rd) for Open Mic Comedy Thursdays to either perform or watch local touring comedians work on material. Pros\, amateurs and first-timers are all welcome! *NO COVER* \nOpen Mic Comedy 9-11PM
URL:https://www.waterfrontdistrict.ca/event/open-mic-comedy-at-the-foundry/
LOCATION:The Foundry\, 242 Red River Road\, Thunder Bay\, Ontario\, p7b1a6\, Canada
END:VEVENT
BEGIN:VEVENT
DTSTART;TZID=America/Halifax:20250821T210000
DTEND;TZID=America/Halifax:20250821T210000
DTSTAMP:20260420T043855
CREATED:20250818T154114Z
LAST-MODIFIED:20250818T154141Z
UID:6984-1755810000-1755810000@www.waterfrontdistrict.ca
SUMMARY:Sober Karaoke at Howl at the Moon
DESCRIPTION:THURSDAYS & SATURDAYS are KARAOKE NIGHT\nKaraoke starts @ 9pm\n5$
URL:https://www.waterfrontdistrict.ca/event/sober-karaoke-at-howl-at-the-moon/
LOCATION:Howl at The Moon Dry Bar\, 8 Cumberland st S\, Thunder Bay
END:VEVENT
BEGIN:VEVENT
DTSTART;TZID=America/Halifax:20250821T210000
DTEND;TZID=America/Halifax:20250821T210000
DTSTAMP:20260420T043855
CREATED:20250818T154639Z
LAST-MODIFIED:20250818T154655Z
UID:6986-1755810000-1755810000@www.waterfrontdistrict.ca
SUMMARY:Karaoke live at Nortenos Cantina
DESCRIPTION:Karaoke at the Cantina Every Thursday night.\nNo cover. \nShow Starts 9PM at Nortenos Cantina.
URL:https://www.waterfrontdistrict.ca/event/karaoke-live-at-nortenos-cantina-2/
LOCATION:Nortenos Cantina\, 235 Red River Rd\, Thunder Bay\, ON\, Canada
END:VEVENT
BEGIN:VEVENT
DTSTART;TZID=America/Halifax:20250821T220000
DTEND;TZID=America/Halifax:20250821T220000
DTSTAMP:20260420T043855
CREATED:20250818T155002Z
LAST-MODIFIED:20250818T155029Z
UID:6988-1755813600-1755813600@www.waterfrontdistrict.ca
SUMMARY:Karaoke live at The Waterhouse
DESCRIPTION:
URL:https://www.waterfrontdistrict.ca/event/karaoke-live-at-the-waterhouse-3/
LOCATION:Waterhouse\, 9 Cumberland St S\, Thunder Bay\, ON\, P7B 2T1
END:VEVENT
BEGIN:VEVENT
DTSTART;TZID=America/Halifax:20250822T110000
DTEND;TZID=America/Halifax:20250822T200000
DTSTAMP:20260420T043855
CREATED:20250513T155448Z
LAST-MODIFIED:20250513T155448Z
UID:6427-1755860400-1755892800@www.waterfrontdistrict.ca
SUMMARY:Ribfest 2025
DESCRIPTION:Ribfest is a local charity fundraiser event in support of Our Kids Count\, and our volunteers work hard to make this event a success every year!
URL:https://www.waterfrontdistrict.ca/event/ribfest-2025-2/
LOCATION:Marina Park\, Thunder Bay\, ON\, Canada
CATEGORIES:Event,Food
END:VEVENT
BEGIN:VEVENT
DTSTART;TZID=America/Halifax:20250822T180000
DTEND;TZID=America/Halifax:20250822T210000
DTSTAMP:20260420T043855
CREATED:20250818T155437Z
LAST-MODIFIED:20250818T155437Z
UID:6990-1755885600-1755896400@www.waterfrontdistrict.ca
SUMMARY:Jazz and Old Fashioned Fridays ft. Mood Indigo
DESCRIPTION:Don’t miss the spectacular scenery\, smooth jazz and incredibly crafted cocktails and food at Anchor & Ore in The Delta Hotel with Mood Indigo!
URL:https://www.waterfrontdistrict.ca/event/jazz-and-old-fashioned-fridays-ft-mood-indigo-7/
LOCATION:Anchor & Ore\, 2240 Sleeping Giant Pkwy\, Thunder Bay\, ON\, Canada
END:VEVENT
BEGIN:VEVENT
DTSTART;TZID=America/Halifax:20250822T180000
DTEND;TZID=America/Halifax:20250822T220000
DTSTAMP:20260420T043855
CREATED:20250818T155718Z
LAST-MODIFIED:20250818T155718Z
UID:6992-1755885600-1755900000@www.waterfrontdistrict.ca
SUMMARY:Late Night Food Alley ft DJ Ducktail
DESCRIPTION:Late Night Food Alley on Fridays!!! Come grab a bite from our in house restaurants\, grab a drink at @thewoodsidebar and enjoy music by DJ @_ducktail See you there
URL:https://www.waterfrontdistrict.ca/event/late-night-food-alley-ft-dj-ducktail-7/
LOCATION:Goods and co\, 251 Red River Rd\, Thunder Bay\, Ontario\, P7B 1A7\, Canada
END:VEVENT
BEGIN:VEVENT
DTSTART;TZID=America/Halifax:20250822T220000
DTEND;TZID=America/Halifax:20250822T220000
DTSTAMP:20260420T043855
CREATED:20250818T160512Z
LAST-MODIFIED:20250818T161026Z
UID:6994-1755900000-1755900000@www.waterfrontdistrict.ca
SUMMARY:Karaoke live at The Waterhouse
DESCRIPTION:Karaoke every Thursday and Friday night at the Waterhouse!
URL:https://www.waterfrontdistrict.ca/event/karaoke-live-at-the-waterhouse-4/
LOCATION:Waterhouse\, 9 Cumberland St S\, Thunder Bay\, ON\, P7B 2T1
END:VEVENT
BEGIN:VEVENT
DTSTART;TZID=America/Halifax:20250822T220000
DTEND;TZID=America/Halifax:20250822T220000
DTSTAMP:20260420T043855
CREATED:20250818T161707Z
LAST-MODIFIED:20250818T161732Z
UID:6996-1755900000-1755900000@www.waterfrontdistrict.ca
SUMMARY:V3nom live at the Foundry
DESCRIPTION:FRIDAY\, AUGUST 22 — V3NOM LIVE @ THE FOUNDRY 🎸Pop-punk anthems. Rock bangers. No skips. V3nom is back and blasting the hits you grew up screaming. \nDetails:📍 The Foundry🕙 10PM🎟️ $5 at the door🔞 19+ \nCome yell your heart out. It’s gonna be loud. \n#V3nomLive #FoundryFridays #PopPunkTBay #supportlocalmusic #thunderbay
URL:https://www.waterfrontdistrict.ca/event/v3nom-live-at-the-foundry/
LOCATION:The Foundry\, 242 Red River Road\, Thunder Bay\, Ontario\, p7b1a6\, Canada
END:VEVENT
BEGIN:VEVENT
DTSTART;TZID=America/Halifax:20250822T220000
DTEND;TZID=America/Halifax:20250822T220000
DTSTAMP:20260420T043855
CREATED:20250818T162716Z
LAST-MODIFIED:20250818T162725Z
UID:7000-1755900000-1755900000@www.waterfrontdistrict.ca
SUMMARY:DJ Sugarman Live at Nortenos Cantina
DESCRIPTION:
URL:https://www.waterfrontdistrict.ca/event/dj-sugarman-live-at-nortenos-cantina/
LOCATION:Nortenos Cantina\, 235 Red River Rd\, Thunder Bay\, ON\, Canada
END:VEVENT
BEGIN:VEVENT
DTSTART;TZID=America/Halifax:20250822T230000
DTEND;TZID=America/Halifax:20250822T230000
DTSTAMP:20260420T043855
CREATED:20250818T162140Z
LAST-MODIFIED:20250818T162217Z
UID:6998-1755903600-1755903600@www.waterfrontdistrict.ca
SUMMARY:Pocket After Dark
DESCRIPTION:No Cover // 19+
URL:https://www.waterfrontdistrict.ca/event/pocket-after-dark-15/
LOCATION:Pocketchange Bar\, 234 Red River Rd\, Thunder Bay\, ON\, P7B 1A6\, Canada
END:VEVENT
BEGIN:VEVENT
DTSTART;TZID=America/Halifax:20250823T110000
DTEND;TZID=America/Halifax:20250823T200000
DTSTAMP:20260420T043855
CREATED:20250513T155512Z
LAST-MODIFIED:20250513T155512Z
UID:6429-1755946800-1755979200@www.waterfrontdistrict.ca
SUMMARY:Ribfest 2025
DESCRIPTION:Ribfest is a local charity fundraiser event in support of Our Kids Count\, and our volunteers work hard to make this event a success every year!
URL:https://www.waterfrontdistrict.ca/event/ribfest-2025-3/
LOCATION:Marina Park\, Thunder Bay\, ON\, Canada
CATEGORIES:Event,Food
END:VEVENT
BEGIN:VEVENT
DTSTART;TZID=America/Halifax:20250823T150000
DTEND;TZID=America/Halifax:20250823T210000
DTSTAMP:20260420T043855
CREATED:20250818T162927Z
LAST-MODIFIED:20250818T162927Z
UID:7002-1755961200-1755982800@www.waterfrontdistrict.ca
SUMMARY:Vinyl Saturdays at Red Lion Smokehouse
DESCRIPTION:Dust off your records ’cause every Saturday you can be your own DJ and spin your favourite tunes on Red Lion Smokehouse’s house record player for “Bring Your Own Vinyl Saturday” \nDon’t have a record? Peruse the house crate and take the playlist into your own hands\, or better yet\, pop over to The Vinyl Frontier located right next door to Red Lion and start your own collection.
URL:https://www.waterfrontdistrict.ca/event/vinyl-saturdays-at-red-lion-smokehouse-2/
LOCATION:Red Lion Smokehouse\, 16 Cumberland St S\, Thunder Bay\, ON\, 16 Cumberland St S\, Canada
END:VEVENT
BEGIN:VEVENT
DTSTART;TZID=America/Halifax:20250823T210000
DTEND;TZID=America/Halifax:20250823T210000
DTSTAMP:20260420T043855
CREATED:20250818T163418Z
LAST-MODIFIED:20250818T163440Z
UID:7004-1755982800-1755982800@www.waterfrontdistrict.ca
SUMMARY:Sober Karaoke live at Howl at the Moon
DESCRIPTION:THURSDAYS & SATURDAYS are KARAOKE NIGHT\nKaraoke starts @ 9pm\n5$
URL:https://www.waterfrontdistrict.ca/event/sober-karaoke-live-at-howl-at-the-moon-2/
LOCATION:Howl at The Moon Dry Bar\, 8 Cumberland st S\, Thunder Bay
END:VEVENT
BEGIN:VEVENT
DTSTART;TZID=America/Halifax:20250823T210000
DTEND;TZID=America/Halifax:20250823T210000
DTSTAMP:20260420T043855
CREATED:20250818T163628Z
LAST-MODIFIED:20250818T164041Z
UID:7006-1755982800-1755982800@www.waterfrontdistrict.ca
SUMMARY:Loud & Proud 2: Queer Dance Party Extravaganza
DESCRIPTION:Wiggins Productions proudly presents \n🏳️‍🌈🏳️‍⚧️ LOUD & PROUD 2 🏳️‍⚧️🏳️‍🌈\nQueer Dance Party Extravaganza \nThe dance floor is calling\, and it’s time to answer LOUD! Join us Saturday\, August 23 at Black Pirates Pub for the ultimate queer dance party featuring: \n🎧 DJ Amber Ail – back to bring unstoppable energy after her unforgettable debut!\n🎧 DJ Ariah – spinning all-night anthems guaranteed to keep you moving!\n👯 Go-Go Dancers: Mister E & Beatrix Muse – turning up the heat and keeping the floor sizzling! \nThis is Loud & Proud 2: bigger\, bolder\, and wilder than ever. Dance like everyone is watching and leave it ALL on the dance floor! \n📅 Saturday\, August 23\n📍 Black Pirates Pub\n⏰ Doors 9PM | Show 10PM\n🎟️ $10 at the door\n🪪 19+ (ID required) \n#tbaydrag #thunderbay #tbshows \nFor more WP events check out\nhttps://www.tbshows.com/organizer/wiggins-productions\nhttps://linktr.ee/wigginsproductions
URL:https://www.waterfrontdistrict.ca/event/loud-proud-2-queer-dance-party-extravaganza/
LOCATION:Black Pirates Pub\, 215 Red River Rd\, Suite 101\, Thunder Bay\, ON\, Canada
END:VEVENT
BEGIN:VEVENT
DTSTART;TZID=America/Halifax:20250823T220000
DTEND;TZID=America/Halifax:20250823T220000
DTSTAMP:20260420T043855
CREATED:20250818T164313Z
LAST-MODIFIED:20250818T164405Z
UID:7008-1755986400-1755986400@www.waterfrontdistrict.ca
SUMMARY:Summer Caliente featuring DJ Alex Mex
DESCRIPTION:
URL:https://www.waterfrontdistrict.ca/event/summer-caliente-featuring-dj-alex-mex/
LOCATION:Nortenos Cantina\, 235 Red River Rd\, Thunder Bay\, ON\, Canada
END:VEVENT
BEGIN:VEVENT
DTSTART;TZID=America/Halifax:20250823T230000
DTEND;TZID=America/Halifax:20250823T230000
DTSTAMP:20260420T043855
CREATED:20250818T164805Z
LAST-MODIFIED:20250818T164842Z
UID:7010-1755990000-1755990000@www.waterfrontdistrict.ca
SUMMARY:Pocket After Dark
DESCRIPTION:No Cover // 19+
URL:https://www.waterfrontdistrict.ca/event/pocket-after-dark-16/
LOCATION:Pocketchange Bar\, 234 Red River Rd\, Thunder Bay\, ON\, P7B 1A6\, Canada
END:VEVENT
BEGIN:VEVENT
DTSTART;TZID=America/Halifax:20250824T110000
DTEND;TZID=America/Halifax:20250824T200000
DTSTAMP:20260420T043855
CREATED:20250513T155533Z
LAST-MODIFIED:20250513T155533Z
UID:6431-1756033200-1756065600@www.waterfrontdistrict.ca
SUMMARY:Ribfest 2025
DESCRIPTION:Ribfest is a local charity fundraiser event in support of Our Kids Count\, and our volunteers work hard to make this event a success every year!
URL:https://www.waterfrontdistrict.ca/event/ribfest-2025-4/
LOCATION:Marina Park\, Thunder Bay\, ON\, Canada
CATEGORIES:Event,Food
END:VEVENT
END:VCALENDAR