BEGIN:VCALENDAR
VERSION:2.0
PRODID:-//Waterfront District BIA - ECPv6.15.20//NONSGML v1.0//EN
CALSCALE:GREGORIAN
METHOD:PUBLISH
X-WR-CALNAME:Waterfront District BIA
X-ORIGINAL-URL:https://www.waterfrontdistrict.ca
X-WR-CALDESC:Events for Waterfront District BIA
REFRESH-INTERVAL;VALUE=DURATION:PT1H
X-Robots-Tag:noindex
X-PUBLISHED-TTL:PT1H
BEGIN:VTIMEZONE
TZID:America/Halifax
BEGIN:DAYLIGHT
TZOFFSETFROM:-0400
TZOFFSETTO:-0300
TZNAME:ADT
DTSTART:20240310T060000
END:DAYLIGHT
BEGIN:STANDARD
TZOFFSETFROM:-0300
TZOFFSETTO:-0400
TZNAME:AST
DTSTART:20241103T050000
END:STANDARD
BEGIN:DAYLIGHT
TZOFFSETFROM:-0400
TZOFFSETTO:-0300
TZNAME:ADT
DTSTART:20250309T060000
END:DAYLIGHT
BEGIN:STANDARD
TZOFFSETFROM:-0300
TZOFFSETTO:-0400
TZNAME:AST
DTSTART:20251102T050000
END:STANDARD
BEGIN:DAYLIGHT
TZOFFSETFROM:-0400
TZOFFSETTO:-0300
TZNAME:ADT
DTSTART:20260308T060000
END:DAYLIGHT
BEGIN:STANDARD
TZOFFSETFROM:-0300
TZOFFSETTO:-0400
TZNAME:AST
DTSTART:20261101T050000
END:STANDARD
END:VTIMEZONE
BEGIN:VEVENT
DTSTART;TZID=America/Halifax:20250724T210000
DTEND;TZID=America/Halifax:20250724T210000
DTSTAMP:20260420T040718
CREATED:20250722T132516Z
LAST-MODIFIED:20250722T132536Z
UID:6801-1753390800-1753390800@www.waterfrontdistrict.ca
SUMMARY:Karaoke
DESCRIPTION:Karaoke at the Cantina Every Thursday night.\nNo cover. \nShow Starts 9PM at Nortenos Cantina.
URL:https://www.waterfrontdistrict.ca/event/karaoke-11/
LOCATION:Nortenos Cantina\, 235 Red River Rd\, Thunder Bay\, ON\, Canada
CATEGORIES:Food
END:VEVENT
BEGIN:VEVENT
DTSTART;TZID=America/Halifax:20250724T220000
DTEND;TZID=America/Halifax:20250724T220000
DTSTAMP:20260420T040718
CREATED:20250722T132746Z
LAST-MODIFIED:20250722T132802Z
UID:6803-1753394400-1753394400@www.waterfrontdistrict.ca
SUMMARY:Karaoke
DESCRIPTION:
URL:https://www.waterfrontdistrict.ca/event/karaoke-12/
LOCATION:Waterhouse\, 9 Cumberland St S\, Thunder Bay\, ON\, P7B 2T1
END:VEVENT
BEGIN:VEVENT
DTSTART;TZID=America/Halifax:20250725T180000
DTEND;TZID=America/Halifax:20250725T210000
DTSTAMP:20260420T040718
CREATED:20250722T133136Z
LAST-MODIFIED:20250722T133136Z
UID:6805-1753466400-1753477200@www.waterfrontdistrict.ca
SUMMARY:Jazz and Old Fashioned Fridays Ft. Mood Indigo
DESCRIPTION:Don’t miss the spectacular scenery\, smooth jazz and incredibly crafted cocktails and food at Anchor & Ore in The Delta Hotel with Mood Indigo!
URL:https://www.waterfrontdistrict.ca/event/jazz-and-old-fashioned-fridays-ft-mood-indigo-3/
LOCATION:Anchor & Ore\, 2240 Sleeping Giant Pkwy\, Thunder Bay\, ON\, Canada
CATEGORIES:Food
END:VEVENT
BEGIN:VEVENT
DTSTART;TZID=America/Halifax:20250725T180000
DTEND;TZID=America/Halifax:20250725T220000
DTSTAMP:20260420T040718
CREATED:20250722T133459Z
LAST-MODIFIED:20250722T133459Z
UID:6807-1753466400-1753480800@www.waterfrontdistrict.ca
SUMMARY:Late Night Food Alley Ft DJ Ducktail
DESCRIPTION:Late Night Food Alley on Fridays!!! Come grab a bite from our in house restaurants\, grab a drink at @thewoodsidebar and enjoy music by DJ @_ducktail See you there
URL:https://www.waterfrontdistrict.ca/event/late-night-food-alley-ft-dj-ducktail-3/
LOCATION:Goods and co\, 251 Red River Rd\, Thunder Bay\, Ontario\, P7B 1A7\, Canada
CATEGORIES:Food
END:VEVENT
BEGIN:VEVENT
DTSTART;TZID=America/Halifax:20250725T190000
DTEND;TZID=America/Halifax:20250725T220000
DTSTAMP:20260420T040718
CREATED:20250722T133817Z
LAST-MODIFIED:20250722T133846Z
UID:6809-1753470000-1753480800@www.waterfrontdistrict.ca
SUMMARY:Busker Kickoff Party
DESCRIPTION:🤹‍♂️Buskers Kickoff Party🎉 \nJoin us at Goods and Co. Friday\, July 25\, 7 to 10 PM for the first ever Buskers Kickoff Party. This is a chance to grab a cocktail from @thewoodsidebar and see sneak peeks of performances from some of the international buskers\, including six different performers\, live music\, live performance and a kicked up celebratory vibe to start the @tbaybuskers off right!
URL:https://www.waterfrontdistrict.ca/event/busker-kickoff-party/
LOCATION:Goods and co\, 251 Red River Rd\, Thunder Bay\, Ontario\, P7B 1A7\, Canada
END:VEVENT
BEGIN:VEVENT
DTSTART;TZID=America/Halifax:20250725T200000
DTEND;TZID=America/Halifax:20250725T200000
DTSTAMP:20260420T040718
CREATED:20250723T140043Z
LAST-MODIFIED:20250723T140354Z
UID:6836-1753473600-1753473600@www.waterfrontdistrict.ca
SUMMARY:DJ Luv
DESCRIPTION:
URL:https://www.waterfrontdistrict.ca/event/dj-luv-2/
LOCATION:Woodside Bar\, 251 Red River Road\, Thunder Bay\, ON\, P7B 1A7\, Canada
END:VEVENT
BEGIN:VEVENT
DTSTART;TZID=America/Halifax:20250725T210000
DTEND;TZID=America/Halifax:20250725T210000
DTSTAMP:20260420T040718
CREATED:20250722T134846Z
LAST-MODIFIED:20250722T134907Z
UID:6811-1753477200-1753477200@www.waterfrontdistrict.ca
SUMMARY:Toga Party for Amy's 40th Ft V3nom
DESCRIPTION:BPP is super stoked to throw our good friend Amy Restoule a smashing pop-punk TOGA party for her 40th bday!!! \nThe boys in V3nom will be playing all your favourite party hits followed by a kick ass playlist for you to rock out to! \nCostume prizes for best and worst Toga!\n$10 at the door\, 19+\nParty starts at 9pm!
URL:https://www.waterfrontdistrict.ca/event/toga-party-for-amys-40th-ft-v3nom/
LOCATION:Black Pirates Pub\, 215 Red River Rd\, Suite 101\, Thunder Bay\, ON\, Canada
END:VEVENT
BEGIN:VEVENT
DTSTART;TZID=America/Halifax:20250725T220000
DTEND;TZID=America/Halifax:20250725T220000
DTSTAMP:20260420T040718
CREATED:20250722T135330Z
LAST-MODIFIED:20250722T135356Z
UID:6813-1753480800-1753480800@www.waterfrontdistrict.ca
SUMMARY:Karaoke
DESCRIPTION:Karaoke every Thursday and Friday night at the Waterhouse!
URL:https://www.waterfrontdistrict.ca/event/karaoke-13/
LOCATION:Waterhouse\, 9 Cumberland St S\, Thunder Bay\, ON\, P7B 2T1
END:VEVENT
BEGIN:VEVENT
DTSTART;TZID=America/Halifax:20250725T220000
DTEND;TZID=America/Halifax:20250725T220000
DTSTAMP:20260420T040718
CREATED:20250722T135703Z
LAST-MODIFIED:20250722T135729Z
UID:6815-1753480800-1753480800@www.waterfrontdistrict.ca
SUMMARY:Throwback
DESCRIPTION:
URL:https://www.waterfrontdistrict.ca/event/throwback/
LOCATION:The Foundry\, 242 Red River Road\, Thunder Bay\, Ontario\, p7b1a6\, Canada
END:VEVENT
BEGIN:VEVENT
DTSTART;TZID=America/Halifax:20250725T220000
DTEND;TZID=America/Halifax:20250725T220000
DTSTAMP:20260420T040718
CREATED:20250722T140014Z
LAST-MODIFIED:20250722T140127Z
UID:6817-1753480800-1753480800@www.waterfrontdistrict.ca
SUMMARY:DJ Supa
DESCRIPTION:
URL:https://www.waterfrontdistrict.ca/event/dj-supa/
LOCATION:Nortenos Cantina\, 235 Red River Rd\, Thunder Bay\, ON\, Canada
END:VEVENT
BEGIN:VEVENT
DTSTART;TZID=America/Halifax:20250725T230000
DTEND;TZID=America/Halifax:20250725T230000
DTSTAMP:20260420T040718
CREATED:20250722T140550Z
LAST-MODIFIED:20250722T140648Z
UID:6819-1753484400-1753484400@www.waterfrontdistrict.ca
SUMMARY:Pocket After Dark
DESCRIPTION:No Cover // 19+
URL:https://www.waterfrontdistrict.ca/event/pocket-after-dark-7/
LOCATION:Pocketchange Bar\, 234 Red River Rd\, Thunder Bay\, ON\, P7B 1A6\, Canada
END:VEVENT
BEGIN:VEVENT
DTSTART;TZID=America/Halifax:20250726T150000
DTEND;TZID=America/Halifax:20250726T210000
DTSTAMP:20260420T040718
CREATED:20250722T141315Z
LAST-MODIFIED:20250722T141315Z
UID:6821-1753542000-1753563600@www.waterfrontdistrict.ca
SUMMARY:Vinyl Saturdays
DESCRIPTION:Dust off your records ’cause every Saturday you can be your own DJ and spin your favourite tunes on Red Lion Smokehouse’s house record player for “Bring Your Own Vinyl Saturday”\nDon’t have a record? Peruse the house crate and take the playlist into your own hands\, or better yet\, pop over to The Vinyl Frontier located right next door to Red Lion and start your own collection.
URL:https://www.waterfrontdistrict.ca/event/vinyl-saturdays-3/
LOCATION:Red Lion Smokehouse\, 16 Cumberland St S\, Thunder Bay\, ON\, 16 Cumberland St S\, Canada
END:VEVENT
BEGIN:VEVENT
DTSTART;TZID=America/Halifax:20250726T180000
DTEND;TZID=America/Halifax:20250726T220000
DTSTAMP:20260420T040718
CREATED:20250723T141058Z
LAST-MODIFIED:20250723T141058Z
UID:6838-1753552800-1753567200@www.waterfrontdistrict.ca
SUMMARY:After Hours Charity Art Show
DESCRIPTION:
URL:https://www.waterfrontdistrict.ca/event/after-hours-charity-art-show/
LOCATION:Goods and co\, 251 Red River Rd\, Thunder Bay\, Ontario\, P7B 1A7\, Canada
END:VEVENT
BEGIN:VEVENT
DTSTART;TZID=America/Halifax:20250726T210000
DTEND;TZID=America/Halifax:20250726T210000
DTSTAMP:20260420T040718
CREATED:20250722T141537Z
LAST-MODIFIED:20250722T141550Z
UID:6823-1753563600-1753563600@www.waterfrontdistrict.ca
SUMMARY:Sober Karaoke
DESCRIPTION:THURSDAYS & SATURDAYS are KARAOKE NIGHT\nKaraoke starts @ 9pm\n5$
URL:https://www.waterfrontdistrict.ca/event/sober-karaoke-7/
LOCATION:Howl at The Moon Dry Bar\, 8 Cumberland st S\, Thunder Bay
END:VEVENT
BEGIN:VEVENT
DTSTART;TZID=America/Halifax:20250726T210000
DTEND;TZID=America/Halifax:20250726T210000
DTSTAMP:20260420T040718
CREATED:20250722T141958Z
LAST-MODIFIED:20250722T142024Z
UID:6825-1753563600-1753563600@www.waterfrontdistrict.ca
SUMMARY:Ripcordz
DESCRIPTION:Ripcordz\nFraudulents\nThe Vertebraekers\nForever Dead!\n$20\ndoors 9pm\nbands 10pm
URL:https://www.waterfrontdistrict.ca/event/ripcordz/
LOCATION:Black Pirates Pub\, 215 Red River Rd\, Suite 101\, Thunder Bay\, ON\, Canada
END:VEVENT
BEGIN:VEVENT
DTSTART;TZID=America/Halifax:20250726T220000
DTEND;TZID=America/Halifax:20250726T220000
DTSTAMP:20260420T040718
CREATED:20250722T142318Z
LAST-MODIFIED:20250722T142337Z
UID:6827-1753567200-1753567200@www.waterfrontdistrict.ca
SUMMARY:Freeground
DESCRIPTION:
URL:https://www.waterfrontdistrict.ca/event/freeground/
LOCATION:The Foundry\, 242 Red River Road\, Thunder Bay\, Ontario\, p7b1a6\, Canada
END:VEVENT
BEGIN:VEVENT
DTSTART;TZID=America/Halifax:20250726T220000
DTEND;TZID=America/Halifax:20250726T220000
DTSTAMP:20260420T040718
CREATED:20250722T142827Z
LAST-MODIFIED:20250722T142843Z
UID:6829-1753567200-1753567200@www.waterfrontdistrict.ca
SUMMARY:DJ Pura Vida
DESCRIPTION:
URL:https://www.waterfrontdistrict.ca/event/dj-pura-vida-3/
LOCATION:Nortenos Cantina\, 235 Red River Rd\, Thunder Bay\, ON\, Canada
END:VEVENT
BEGIN:VEVENT
DTSTART;TZID=America/Halifax:20250726T230000
DTEND;TZID=America/Halifax:20250726T230000
DTSTAMP:20260420T040718
CREATED:20250722T143550Z
LAST-MODIFIED:20250722T143612Z
UID:6831-1753570800-1753570800@www.waterfrontdistrict.ca
SUMMARY:Pocket After Dark
DESCRIPTION:No Cover // 19+
URL:https://www.waterfrontdistrict.ca/event/pocket-after-dark-8/
LOCATION:Pocketchange Bar\, 234 Red River Rd\, Thunder Bay\, ON\, P7B 1A6\, Canada
END:VEVENT
BEGIN:VEVENT
DTSTART;TZID=America/Halifax:20250727T130000
DTEND;TZID=America/Halifax:20250727T170000
DTSTAMP:20260420T040718
CREATED:20250722T144211Z
LAST-MODIFIED:20250722T144211Z
UID:6833-1753621200-1753635600@www.waterfrontdistrict.ca
SUMMARY:Sober Matinee Karaoke
DESCRIPTION:Sunday Afternoons 1pm to 5pm!
URL:https://www.waterfrontdistrict.ca/event/sober-matinee-karaoke-4/
LOCATION:Howl at The Moon Dry Bar\, 8 Cumberland st S\, Thunder Bay
END:VEVENT
BEGIN:VEVENT
DTSTART;TZID=America/Halifax:20250730T180000
DTEND;TZID=America/Halifax:20250730T210000
DTSTAMP:20260420T040718
CREATED:20250513T154630Z
LAST-MODIFIED:20250513T154630Z
UID:6413-1753898400-1753909200@www.waterfrontdistrict.ca
SUMMARY:Live on the Waterfront Wednesdays
DESCRIPTION:Live on the Waterfront is a highly anticipated 8-part concert series that takes place every Wednesday evening during the summer season at Prince Arthur’s Landing\, Marina Park that featuring an impressive lineup of musical acts! Come out every Wednesday this summer at Marina Park\, starting on July 16th till August 20th. PLUS the Summer Send Off\, two back-to-back days\, August 27 and 28\, at Marina Park.
URL:https://www.waterfrontdistrict.ca/event/live-on-the-waterfront-wednesdays-3/
LOCATION:Marina Park\, Thunder Bay\, ON\, Canada
CATEGORIES:Concert,Event
END:VEVENT
BEGIN:VEVENT
DTSTART;TZID=America/Halifax:20250731T190000
DTEND;TZID=America/Halifax:20250731T220000
DTSTAMP:20260420T040718
CREATED:20250728T142210Z
LAST-MODIFIED:20250728T142210Z
UID:6841-1753988400-1753999200@www.waterfrontdistrict.ca
SUMMARY:Open Mic Night
DESCRIPTION:What’s Open Mic Night all about? Fresh beer\, delicious food\, local talent\, and good vibes.🙌 \nDiscover new local talent every Thursday from 7:30-10pm in the taproom or sign up at the bar and perform for a free beverage! \nNo experience needed\, we’re here to cheer you on. \nTaproom open 4pm-11pm Thursday!🍻 \n**All ages / guardian supervision is mandatory for minors
URL:https://www.waterfrontdistrict.ca/event/open-mic-night-5/
LOCATION:Lakehead Beer Co\, 206 Park Ave\, Thunder Bay
END:VEVENT
BEGIN:VEVENT
DTSTART;TZID=America/Halifax:20250731T200000
DTEND;TZID=America/Halifax:20250731T200000
DTSTAMP:20260420T040718
CREATED:20250728T142638Z
LAST-MODIFIED:20250728T142745Z
UID:6843-1753992000-1753992000@www.waterfrontdistrict.ca
SUMMARY:Insurrection (Montreal) W/Killer & More
DESCRIPTION:Our pals in INSURRECTION are back to destroy our stage once again at the end of the month! Crazy good death metal band from Quebec\, you don’t want to miss this! \nLocal support from KILLER and more TBA \n$15\, All Ages/Licensed\nDoors at 8pm\, Show at 830
URL:https://www.waterfrontdistrict.ca/event/insurrection-montreal-w-killer-more/
LOCATION:Black Pirates Pub\, 215 Red River Rd\, Suite 101\, Thunder Bay\, ON\, Canada
END:VEVENT
BEGIN:VEVENT
DTSTART;TZID=America/Halifax:20250731T200000
DTEND;TZID=America/Halifax:20250731T230000
DTSTAMP:20260420T040718
CREATED:20250730T131009Z
LAST-MODIFIED:20250730T131009Z
UID:6875-1753992000-1754002800@www.waterfrontdistrict.ca
SUMMARY:Not Your Grandmas Bingo
DESCRIPTION:
URL:https://www.waterfrontdistrict.ca/event/not-your-grandmas-bingo/
LOCATION:Pocketchange Bar\, 234 Red River Rd\, Thunder Bay\, ON\, P7B 1A6\, Canada
END:VEVENT
BEGIN:VEVENT
DTSTART;TZID=America/Halifax:20250731T210000
DTEND;TZID=America/Halifax:20250731T210000
DTSTAMP:20260420T040718
CREATED:20250728T143116Z
LAST-MODIFIED:20250728T143132Z
UID:6845-1753995600-1753995600@www.waterfrontdistrict.ca
SUMMARY:Sober Karaoke
DESCRIPTION:THURSDAYS & SATURDAYS are KARAOKE NIGHT\nKaraoke starts @ 9pm\n5$
URL:https://www.waterfrontdistrict.ca/event/sober-karaoke-8/
LOCATION:Howl at The Moon Dry Bar\, 8 Cumberland st S\, Thunder Bay
END:VEVENT
BEGIN:VEVENT
DTSTART;TZID=America/Halifax:20250731T210000
DTEND;TZID=America/Halifax:20250731T210000
DTSTAMP:20260420T040718
CREATED:20250728T143429Z
LAST-MODIFIED:20250728T143446Z
UID:6847-1753995600-1753995600@www.waterfrontdistrict.ca
SUMMARY:Karaoke
DESCRIPTION:Karaoke at the Cantina Every Thursday night.\nNo cover. \nShow Starts 9PM at Nortenos Cantina.
URL:https://www.waterfrontdistrict.ca/event/karaoke-14/
LOCATION:Nortenos Cantina\, 235 Red River Rd\, Thunder Bay\, ON\, Canada
END:VEVENT
BEGIN:VEVENT
DTSTART;TZID=America/Halifax:20250731T220000
DTEND;TZID=America/Halifax:20250731T220000
DTSTAMP:20260420T040718
CREATED:20250728T143727Z
LAST-MODIFIED:20250728T143739Z
UID:6849-1753999200-1753999200@www.waterfrontdistrict.ca
SUMMARY:Karaoke
DESCRIPTION:
URL:https://www.waterfrontdistrict.ca/event/karaoke-15/
LOCATION:Waterhouse\, 9 Cumberland St S\, Thunder Bay\, ON\, P7B 2T1
END:VEVENT
BEGIN:VEVENT
DTSTART;TZID=America/Halifax:20250801T000000
DTEND;TZID=America/Halifax:20250823T000000
DTSTAMP:20260420T040718
CREATED:20250801T140838Z
LAST-MODIFIED:20250801T152716Z
UID:6877-1754006400-1755907200@www.waterfrontdistrict.ca
SUMMARY:🎉 Your Harbourfest & Ribfest 2025 Home Base: Exclusive Hotel Deal! 🏨🌊
DESCRIPTION:Heading to Thunder Bay for Harbourfest & Ribfest 2025? Make it a weekend to remember! 🌊🍔 Book your lakeside stay at The Prince Arthur Waterfront Hotel for just $154/night + taxes. Limited rooms at this exclusive rate—lakeside views included (based on availability)! Use code HFEST online or mention Confirmation #339937 when calling. 🛏️🔥 \n📅 Valid for stays Aug 21–23\, 2025📆 Room block held until Aug 11\, 2025📞 1-800-267-2675 | 🌐 princearthurwaterfront.com \nDon’t miss the music\, food\, and waterfront vibes! 🎸🌭
URL:https://www.waterfrontdistrict.ca/event/%f0%9f%8e%89-your-harbourfest-ribfest-2025-home-base-exclusive-hotel-deal-%f0%9f%8f%a8%f0%9f%8c%8a/
LOCATION:Prince Arthur Waterfront Hotel\, 17 Cumberland St N\, Thunder Bay\, ON\, P7B 2T1\, Canada
END:VEVENT
BEGIN:VEVENT
DTSTART;TZID=America/Halifax:20250801T180000
DTEND;TZID=America/Halifax:20250801T210000
DTSTAMP:20260420T040718
CREATED:20250728T145322Z
LAST-MODIFIED:20250728T145413Z
UID:6851-1754071200-1754082000@www.waterfrontdistrict.ca
SUMMARY:Jazz and Old Fashioned Fridays Ft. Mood Indigo
DESCRIPTION:Don’t miss the spectacular scenery\, smooth jazz and incredibly crafted cocktails and food at Anchor & Ore in The Delta Hotel with Mood Indigo!
URL:https://www.waterfrontdistrict.ca/event/jazz-and-old-fashioned-fridays-ft-mood-indigo-4/
LOCATION:Anchor & Ore\, 2240 Sleeping Giant Pkwy\, Thunder Bay\, ON\, Canada
END:VEVENT
BEGIN:VEVENT
DTSTART;TZID=America/Halifax:20250801T180000
DTEND;TZID=America/Halifax:20250801T220000
DTSTAMP:20260420T040718
CREATED:20250728T145732Z
LAST-MODIFIED:20250728T145732Z
UID:6853-1754071200-1754085600@www.waterfrontdistrict.ca
SUMMARY:Late Night Food Alley Ft DJ Ducktail
DESCRIPTION:Late Night Food Alley on Fridays!!! Come grab a bite from our in house restaurants\, grab a drink at @thewoodsidebar and enjoy music by DJ @_ducktail See you there
URL:https://www.waterfrontdistrict.ca/event/late-night-food-alley-ft-dj-ducktail-4/
LOCATION:Goods and co\, 251 Red River Rd\, Thunder Bay\, Ontario\, P7B 1A7\, Canada
END:VEVENT
BEGIN:VEVENT
DTSTART;TZID=America/Halifax:20250801T203000
DTEND;TZID=America/Halifax:20250801T230000
DTSTAMP:20260420T040718
CREATED:20250728T150014Z
LAST-MODIFIED:20250728T150047Z
UID:6855-1754080200-1754089200@www.waterfrontdistrict.ca
SUMMARY:Tiny Dusk Sets
DESCRIPTION:RESCHEDULED FROM JULY  11 TO FRIDAY\, AUGUST 1. \nWe’ve rescheduled the first TINY DUSK SET to Friday\, August 1. Mark your calendar! Tell your friends!Golden hour hits different with DJs\, drinks\, and glowing skies. TINY DUSK SETS Friday\, August 1 ON THE PATIO. 8:30pm. Don’t be late for the glow. \nNo cover!Taproom open 3pm-1am Friday.
URL:https://www.waterfrontdistrict.ca/event/tiny-dusk-sets/
LOCATION:Lakehead Beer Co\, 206 Park Ave\, Thunder Bay
END:VEVENT
END:VCALENDAR