BEGIN:VCALENDAR
VERSION:2.0
PRODID:-//Waterfront District BIA - ECPv6.15.20//NONSGML v1.0//EN
CALSCALE:GREGORIAN
METHOD:PUBLISH
X-WR-CALNAME:Waterfront District BIA
X-ORIGINAL-URL:https://www.waterfrontdistrict.ca
X-WR-CALDESC:Events for Waterfront District BIA
REFRESH-INTERVAL;VALUE=DURATION:PT1H
X-Robots-Tag:noindex
X-PUBLISHED-TTL:PT1H
BEGIN:VTIMEZONE
TZID:America/Halifax
BEGIN:DAYLIGHT
TZOFFSETFROM:-0400
TZOFFSETTO:-0300
TZNAME:ADT
DTSTART:20240310T060000
END:DAYLIGHT
BEGIN:STANDARD
TZOFFSETFROM:-0300
TZOFFSETTO:-0400
TZNAME:AST
DTSTART:20241103T050000
END:STANDARD
BEGIN:DAYLIGHT
TZOFFSETFROM:-0400
TZOFFSETTO:-0300
TZNAME:ADT
DTSTART:20250309T060000
END:DAYLIGHT
BEGIN:STANDARD
TZOFFSETFROM:-0300
TZOFFSETTO:-0400
TZNAME:AST
DTSTART:20251102T050000
END:STANDARD
BEGIN:DAYLIGHT
TZOFFSETFROM:-0400
TZOFFSETTO:-0300
TZNAME:ADT
DTSTART:20260308T060000
END:DAYLIGHT
BEGIN:STANDARD
TZOFFSETFROM:-0300
TZOFFSETTO:-0400
TZNAME:AST
DTSTART:20261101T050000
END:STANDARD
END:VTIMEZONE
BEGIN:VEVENT
DTSTART;TZID=America/Halifax:20251018T220000
DTEND;TZID=America/Halifax:20251018T220000
DTSTAMP:20260420T151923
CREATED:20251016T200541Z
LAST-MODIFIED:20251016T200621Z
UID:7507-1760824800-1760824800@www.waterfrontdistrict.ca
SUMMARY:Ladies Night Saturdays ft DJ Mo at NV Music Hall
DESCRIPTION:
URL:https://www.waterfrontdistrict.ca/event/ladies-night-saturdays-ft-dj-mo-at-nv-music-hall-3/
LOCATION:NV Music Hall\, 228 Red River Rd\, Thunder Bay\, ON\, Canada
END:VEVENT
BEGIN:VEVENT
DTSTART;TZID=America/Halifax:20251018T230000
DTEND;TZID=America/Halifax:20251018T230000
DTSTAMP:20260420T151923
CREATED:20251016T200817Z
LAST-MODIFIED:20251016T200919Z
UID:7509-1760828400-1760828400@www.waterfrontdistrict.ca
SUMMARY:Pocket After Dark
DESCRIPTION:No Cover // 19+
URL:https://www.waterfrontdistrict.ca/event/pocket-after-dark-31/
LOCATION:Pocketchange Bar\, 234 Red River Rd\, Thunder Bay\, ON\, P7B 1A6\, Canada
END:VEVENT
BEGIN:VEVENT
DTSTART;TZID=America/Halifax:20251019T090000
DTEND;TZID=America/Halifax:20251019T180000
DTSTAMP:20260420T151923
CREATED:20251016T201519Z
LAST-MODIFIED:20251016T201519Z
UID:7514-1760864400-1760896800@www.waterfrontdistrict.ca
SUMMARY:Lake Superior Paranormal Convention (ParaCon)
DESCRIPTION:
URL:https://www.waterfrontdistrict.ca/event/lake-superior-paranormal-convention-paracon-5/
LOCATION:Anchor & Ore\, 2240 Sleeping Giant Pkwy\, Thunder Bay\, ON\, Canada
END:VEVENT
BEGIN:VEVENT
DTSTART;TZID=America/Halifax:20251019T130000
DTEND;TZID=America/Halifax:20251019T150000
DTSTAMP:20260420T151923
CREATED:20251016T201704Z
LAST-MODIFIED:20251016T201704Z
UID:7516-1760878800-1760886000@www.waterfrontdistrict.ca
SUMMARY:Sex Toy Bingo at Nortenos Cantina
DESCRIPTION:
URL:https://www.waterfrontdistrict.ca/event/sex-toy-bingo-at-nortenos-cantina-2/
LOCATION:Nortenos Cantina\, 235 Red River Rd\, Thunder Bay\, ON\, Canada
END:VEVENT
BEGIN:VEVENT
DTSTART;TZID=America/Halifax:20251019T160000
DTEND;TZID=America/Halifax:20251019T160000
DTSTAMP:20260420T151923
CREATED:20251016T202023Z
LAST-MODIFIED:20251016T202037Z
UID:7518-1760889600-1760889600@www.waterfrontdistrict.ca
SUMMARY:Movie Night
DESCRIPTION:
URL:https://www.waterfrontdistrict.ca/event/movie-night-5/
LOCATION:Paramount Live\, 24 Court St S\, Thunder Bay
END:VEVENT
BEGIN:VEVENT
DTSTART;TZID=America/Halifax:20251024T180000
DTEND;TZID=America/Halifax:20251024T180000
DTSTAMP:20260420T151923
CREATED:20251024T155710Z
LAST-MODIFIED:20251024T163346Z
UID:7538-1761328800-1761328800@www.waterfrontdistrict.ca
SUMMARY:Mystic Market
DESCRIPTION:Once a year… when the veil thins and the shadows shimmer like silk\,\n\n\na market unlike any other appears between worlds.\n\n\nTOMORROW NIGHT (Friday October 24th\, 6-12am)\n\n\nthe 3rd Annual Midnight Mystic Market returns…\n\n\nsummoning the essence of Persephone and Hades\, dripping in deep burgundy\, black lace\, and the hush of forbidden bloom.\n\n\n Expect whispers of fire and silk.\n\n\n Performances that stir something ancient and wild.\n\n\n Mystics who read the threads of your fate.\n\n\n Vendors from the other side with wares that hum with hidden power.
URL:https://www.waterfrontdistrict.ca/event/mystic-market/
LOCATION:Goods and co\, 251 Red River Rd\, Thunder Bay\, Ontario\, P7B 1A7\, Canada
END:VEVENT
BEGIN:VEVENT
DTSTART;TZID=America/Halifax:20251024T180000
DTEND;TZID=America/Halifax:20251024T210000
DTSTAMP:20260420T151923
CREATED:20251024T170116Z
LAST-MODIFIED:20251024T170116Z
UID:7552-1761328800-1761339600@www.waterfrontdistrict.ca
SUMMARY:Jazz and Old Fashioned Fridays Ft. Mood Indigo
DESCRIPTION:
URL:https://www.waterfrontdistrict.ca/event/jazz-and-old-fashioned-fridays-ft-mood-indigo-16/
LOCATION:Anchor & Ore\, 2240 Sleeping Giant Pkwy\, Thunder Bay\, ON\, Canada
END:VEVENT
BEGIN:VEVENT
DTSTART;TZID=America/Halifax:20251024T200000
DTEND;TZID=America/Halifax:20251024T200000
DTSTAMP:20260420T151923
CREATED:20251024T164403Z
LAST-MODIFIED:20251024T164419Z
UID:7544-1761336000-1761336000@www.waterfrontdistrict.ca
SUMMARY:Pocket After Dark + World Series Game 1
DESCRIPTION:Game Starts at 8pm \nPocket After Dark starts at 11
URL:https://www.waterfrontdistrict.ca/event/pocket-after-dark-world-series-game-1/
LOCATION:Pocketchange Bar\, 234 Red River Rd\, Thunder Bay\, ON\, P7B 1A6\, Canada
END:VEVENT
BEGIN:VEVENT
DTSTART;TZID=America/Halifax:20251024T210000
DTEND;TZID=America/Halifax:20251024T210000
DTSTAMP:20260420T151923
CREATED:20251024T164018Z
LAST-MODIFIED:20251024T164034Z
UID:7542-1761339600-1761339600@www.waterfrontdistrict.ca
SUMMARY:Goth Night II Halloween Edition
DESCRIPTION:
URL:https://www.waterfrontdistrict.ca/event/goth-night-ii-halloween-edition/
LOCATION:Black Pirates Pub\, 215 Red River Rd\, Suite 101\, Thunder Bay\, ON\, Canada
END:VEVENT
BEGIN:VEVENT
DTSTART;TZID=America/Halifax:20251024T210000
DTEND;TZID=America/Halifax:20251024T210000
DTSTAMP:20260420T151923
CREATED:20251024T164850Z
LAST-MODIFIED:20251024T164904Z
UID:7546-1761339600-1761339600@www.waterfrontdistrict.ca
SUMMARY:Music Bingo
DESCRIPTION:Music Bingo is Back!!!What is Music Bingo you ask? Well\, Music Bingo – Hosted by City Wide Sound takes the familiar concept of traditional bingo and gives it a refreshing spin with musical tracks rather than numbers on you Bingo card.Music Bingo is a social\, interactive game that’s both fun and engaging. Whether you’ve played before or are a newbie\, these energetic nights will have you and your friends singing along!
URL:https://www.waterfrontdistrict.ca/event/music-bingo-2/
LOCATION:Red Lion Smokehouse\, 16 Cumberland St S\, Thunder Bay\, ON\, 16 Cumberland St S\, Canada
END:VEVENT
BEGIN:VEVENT
DTSTART;TZID=America/Halifax:20251024T220000
DTEND;TZID=America/Halifax:20251024T220000
DTSTAMP:20260420T151923
CREATED:20251024T163753Z
LAST-MODIFIED:20251024T163819Z
UID:7540-1761343200-1761343200@www.waterfrontdistrict.ca
SUMMARY:Back 40
DESCRIPTION:
URL:https://www.waterfrontdistrict.ca/event/back-40/
LOCATION:The Foundry\, 242 Red River Road\, Thunder Bay\, Ontario\, p7b1a6\, Canada
END:VEVENT
BEGIN:VEVENT
DTSTART;TZID=America/Halifax:20251024T220000
DTEND;TZID=America/Halifax:20251024T220000
DTSTAMP:20260420T151923
CREATED:20251024T165041Z
LAST-MODIFIED:20251024T165101Z
UID:7548-1761343200-1761343200@www.waterfrontdistrict.ca
SUMMARY:DJ Sugarman
DESCRIPTION:
URL:https://www.waterfrontdistrict.ca/event/dj-sugarman/
LOCATION:Nortenos Cantina\, 235 Red River Rd\, Thunder Bay\, ON\, Canada
END:VEVENT
BEGIN:VEVENT
DTSTART;TZID=America/Halifax:20251024T220000
DTEND;TZID=America/Halifax:20251024T220000
DTSTAMP:20260420T151923
CREATED:20251024T165221Z
LAST-MODIFIED:20251024T165234Z
UID:7550-1761343200-1761343200@www.waterfrontdistrict.ca
SUMMARY:Halloween Southside Rave
DESCRIPTION:
URL:https://www.waterfrontdistrict.ca/event/halloween-southside-rave/
LOCATION:NV Music Hall\, 228 Red River Rd\, Thunder Bay\, ON\, Canada
END:VEVENT
BEGIN:VEVENT
DTSTART;TZID=America/Halifax:20251025T100000
DTEND;TZID=America/Halifax:20251025T140000
DTSTAMP:20260420T151923
CREATED:20250925T165306Z
LAST-MODIFIED:20250925T165403Z
UID:7284-1761386400-1761400800@www.waterfrontdistrict.ca
SUMMARY:Trick-Or-Treating In The BIA
DESCRIPTION:Calling all ghouls\, goblins\, witches\, and superheroes! 🕸️ Trick-or-treating returns to the BIA on Saturday\, October 25th from 10 AM to 2 PM. Get ready for candy galore\, spooky photo ops\, and fun contests. 👻 Keep an eye out for more details—including a map of participating businesses—as the big day creeps closer!
URL:https://www.waterfrontdistrict.ca/event/trick-or-treating-in-the-bia/
LOCATION:Red River Road\, 214 Red River Road\, Thunder Bay\, ON\, P7B 1A7\, Canada
END:VEVENT
BEGIN:VEVENT
DTSTART;TZID=America/Halifax:20251025T150000
DTEND;TZID=America/Halifax:20251025T210000
DTSTAMP:20260420T151923
CREATED:20251024T170422Z
LAST-MODIFIED:20251024T170504Z
UID:7554-1761404400-1761426000@www.waterfrontdistrict.ca
SUMMARY:Vinyl Saturday
DESCRIPTION:
URL:https://www.waterfrontdistrict.ca/event/vinyl-saturday/
LOCATION:Red Lion Smokehouse\, 16 Cumberland St S\, Thunder Bay\, ON\, 16 Cumberland St S\, Canada
END:VEVENT
BEGIN:VEVENT
DTSTART;TZID=America/Halifax:20251025T200000
DTEND;TZID=America/Halifax:20251025T200000
DTSTAMP:20260420T151923
CREATED:20251024T171116Z
LAST-MODIFIED:20251024T171205Z
UID:7560-1761422400-1761422400@www.waterfrontdistrict.ca
SUMMARY:Pocket After Dark + World Series Game 2
DESCRIPTION:Game starts at 8pm \nPocket After Dark 11pm
URL:https://www.waterfrontdistrict.ca/event/pocket-after-dark-world-series-game-2/
LOCATION:Pocketchange Bar\, 234 Red River Rd\, Thunder Bay\, ON\, P7B 1A6\, Canada
END:VEVENT
BEGIN:VEVENT
DTSTART;TZID=America/Halifax:20251025T210000
DTEND;TZID=America/Halifax:20251025T210000
DTSTAMP:20260420T151923
CREATED:20251024T170853Z
LAST-MODIFIED:20251024T170911Z
UID:7558-1761426000-1761426000@www.waterfrontdistrict.ca
SUMMARY:Halloween Drag Show
DESCRIPTION:
URL:https://www.waterfrontdistrict.ca/event/halloween-drag-show/
LOCATION:Black Pirates Pub\, 215 Red River Rd\, Suite 101\, Thunder Bay\, ON\, Canada
END:VEVENT
BEGIN:VEVENT
DTSTART;TZID=America/Halifax:20251025T220000
DTEND;TZID=America/Halifax:20251025T220000
DTSTAMP:20260420T151923
CREATED:20251024T170724Z
LAST-MODIFIED:20251024T170743Z
UID:7556-1761429600-1761429600@www.waterfrontdistrict.ca
SUMMARY:V3NOM
DESCRIPTION:
URL:https://www.waterfrontdistrict.ca/event/v3nom/
LOCATION:The Foundry\, 242 Red River Road\, Thunder Bay\, Ontario\, p7b1a6\, Canada
END:VEVENT
BEGIN:VEVENT
DTSTART;TZID=America/Halifax:20251025T220000
DTEND;TZID=America/Halifax:20251025T220000
DTSTAMP:20260420T151923
CREATED:20251024T171305Z
LAST-MODIFIED:20251024T171327Z
UID:7562-1761429600-1761429600@www.waterfrontdistrict.ca
SUMMARY:DJ Supa
DESCRIPTION:
URL:https://www.waterfrontdistrict.ca/event/dj-supa-2/
LOCATION:Nortenos Cantina\, 235 Red River Rd\, Thunder Bay\, ON\, Canada
END:VEVENT
BEGIN:VEVENT
DTSTART;TZID=America/Halifax:20251026T120000
DTEND;TZID=America/Halifax:20251026T120000
DTSTAMP:20260420T151923
CREATED:20251024T171430Z
LAST-MODIFIED:20251024T171735Z
UID:7564-1761480000-1761480000@www.waterfrontdistrict.ca
SUMMARY:Chefs Table
DESCRIPTION:
URL:https://www.waterfrontdistrict.ca/event/chefs-table/
LOCATION:Red Lion Smokehouse\, 16 Cumberland St S\, Thunder Bay\, ON\, 16 Cumberland St S\, Canada
END:VEVENT
BEGIN:VEVENT
DTSTART;TZID=America/Halifax:20251031T110000
DTEND;TZID=America/Halifax:20251101T000000
DTSTAMP:20260420T151923
CREATED:20251031T180254Z
LAST-MODIFIED:20251031T180718Z
UID:7567-1761908400-1761955200@www.waterfrontdistrict.ca
SUMMARY:Halloween Specials Woodside Bar
DESCRIPTION:
URL:https://www.waterfrontdistrict.ca/event/halloween-specials-woodside-bar/
LOCATION:Woodside Bar\, 251 Red River Road\, Thunder Bay\, ON\, P7B 1A7\, Canada
END:VEVENT
BEGIN:VEVENT
DTSTART;TZID=America/Halifax:20251031T170000
DTEND;TZID=America/Halifax:20251031T170000
DTSTAMP:20260420T151923
CREATED:20251031T182027Z
LAST-MODIFIED:20251031T182056Z
UID:7571-1761930000-1761930000@www.waterfrontdistrict.ca
SUMMARY:Beyond The Grave
DESCRIPTION:
URL:https://www.waterfrontdistrict.ca/event/beyond-the-grave/
LOCATION:Pocketchange Bar\, 234 Red River Rd\, Thunder Bay\, ON\, P7B 1A6\, Canada
END:VEVENT
BEGIN:VEVENT
DTSTART;TZID=America/Halifax:20251031T170000
DTEND;TZID=America/Halifax:20251101T020000
DTSTAMP:20260420T151923
CREATED:20251031T183402Z
LAST-MODIFIED:20251031T184002Z
UID:7577-1761930000-1761962400@www.waterfrontdistrict.ca
SUMMARY:Live DJ
DESCRIPTION:
URL:https://www.waterfrontdistrict.ca/event/live-dj/
LOCATION:The Foundry\, 242 Red River Road\, Thunder Bay\, Ontario\, p7b1a6\, Canada
END:VEVENT
BEGIN:VEVENT
DTSTART;TZID=America/Halifax:20251031T193000
DTEND;TZID=America/Halifax:20251031T193000
DTSTAMP:20260420T151923
CREATED:20251031T182311Z
LAST-MODIFIED:20251031T182334Z
UID:7573-1761939000-1761939000@www.waterfrontdistrict.ca
SUMMARY:Chase The Ace
DESCRIPTION:
URL:https://www.waterfrontdistrict.ca/event/chase-the-ace/
LOCATION:Magnus Theatre\, 10 Algoma St S\, Thunder Bay\, Ontario\, P7B 3A7\, Canada
END:VEVENT
BEGIN:VEVENT
DTSTART;TZID=America/Halifax:20251031T210000
DTEND;TZID=America/Halifax:20251101T020000
DTSTAMP:20260420T151923
CREATED:20250919T202459Z
LAST-MODIFIED:20250919T202757Z
UID:7221-1761944400-1761962400@www.waterfrontdistrict.ca
SUMMARY:The Hunger 18
DESCRIPTION:THE HUNGER | 18th EditionThunder Bay’s ultimate downtown-wide Halloween festival returns! One night\, 9 venues\, 56 acts\, and 275+ performers — all for just $20.Friday\, October 31st | 9 PM – 2 AMLive bands\, DJs\, wild costumes\, massive prizes\, and nonstop energy. Pick your path\, haunt the city\, and experience the largest Halloween party in town.19+ | ID Required | Wristband & Multi-Pass at the doorCome early — you don’t want to miss a thing.
URL:https://www.waterfrontdistrict.ca/event/the-hunger-18/
LOCATION:Waterfront District Bars
END:VEVENT
BEGIN:VEVENT
DTSTART;TZID=America/Halifax:20251031T220000
DTEND;TZID=America/Halifax:20251031T220000
DTSTAMP:20260420T151923
CREATED:20251031T180833Z
LAST-MODIFIED:20251031T180902Z
UID:7569-1761948000-1761948000@www.waterfrontdistrict.ca
SUMMARY:Hauntober
DESCRIPTION:
URL:https://www.waterfrontdistrict.ca/event/hauntober/
LOCATION:NV Music Hall\, 228 Red River Rd\, Thunder Bay\, ON\, Canada
END:VEVENT
BEGIN:VEVENT
DTSTART;TZID=America/Halifax:20251031T220000
DTEND;TZID=America/Halifax:20251031T220000
DTSTAMP:20260420T151923
CREATED:20251031T182508Z
LAST-MODIFIED:20251031T182545Z
UID:7575-1761948000-1761948000@www.waterfrontdistrict.ca
SUMMARY:Thirst Ft. DJ Amber Ail
DESCRIPTION:24+
URL:https://www.waterfrontdistrict.ca/event/thirst-ft-dj-amber-ail/
LOCATION:Lakehead Beer Co\, 206 Park Ave\, Thunder Bay
END:VEVENT
BEGIN:VEVENT
DTSTART;TZID=America/Halifax:20251101T190000
DTEND;TZID=America/Halifax:20251101T220000
DTSTAMP:20260420T151923
CREATED:20251031T185703Z
LAST-MODIFIED:20251031T185703Z
UID:7587-1762023600-1762034400@www.waterfrontdistrict.ca
SUMMARY:Art Opening Connor Remus
DESCRIPTION:
URL:https://www.waterfrontdistrict.ca/event/art-opening-connor-remus/
LOCATION:Co. Lab Gallery\, 251 Red River Road\, Thunder Bay\, ON\, P7B 1A7\, Canada
END:VEVENT
BEGIN:VEVENT
DTSTART;TZID=America/Halifax:20251101T193000
DTEND;TZID=America/Halifax:20251101T193000
DTSTAMP:20260420T151923
CREATED:20251031T184752Z
LAST-MODIFIED:20251031T184806Z
UID:7583-1762025400-1762025400@www.waterfrontdistrict.ca
SUMMARY:Chase The Ace A Comedy By Mark Crawford
DESCRIPTION:
URL:https://www.waterfrontdistrict.ca/event/chase-the-ace-a-comedy-by-mark-crawford/
LOCATION:Magnus Theatre\, 10 Algoma St S\, Thunder Bay\, Ontario\, P7B 3A7\, Canada
END:VEVENT
BEGIN:VEVENT
DTSTART;TZID=America/Halifax:20251101T210000
DTEND;TZID=America/Halifax:20251101T210000
DTSTAMP:20260420T151923
CREATED:20251031T184207Z
LAST-MODIFIED:20251031T184226Z
UID:7579-1762030800-1762030800@www.waterfrontdistrict.ca
SUMMARY:The Ultimate Ozzy Experince With Hellbourne
DESCRIPTION:
URL:https://www.waterfrontdistrict.ca/event/the-ultimate-ozzy-experince-with-hellbourne/
LOCATION:NV Music Hall\, 228 Red River Rd\, Thunder Bay\, ON\, Canada
END:VEVENT
END:VCALENDAR