BEGIN:VCALENDAR
VERSION:2.0
PRODID:-//Waterfront District BIA - ECPv6.15.20//NONSGML v1.0//EN
CALSCALE:GREGORIAN
METHOD:PUBLISH
X-WR-CALNAME:Waterfront District BIA
X-ORIGINAL-URL:https://www.waterfrontdistrict.ca
X-WR-CALDESC:Events for Waterfront District BIA
REFRESH-INTERVAL;VALUE=DURATION:PT1H
X-Robots-Tag:noindex
X-PUBLISHED-TTL:PT1H
BEGIN:VTIMEZONE
TZID:America/Halifax
BEGIN:DAYLIGHT
TZOFFSETFROM:-0400
TZOFFSETTO:-0300
TZNAME:ADT
DTSTART:20240310T060000
END:DAYLIGHT
BEGIN:STANDARD
TZOFFSETFROM:-0300
TZOFFSETTO:-0400
TZNAME:AST
DTSTART:20241103T050000
END:STANDARD
BEGIN:DAYLIGHT
TZOFFSETFROM:-0400
TZOFFSETTO:-0300
TZNAME:ADT
DTSTART:20250309T060000
END:DAYLIGHT
BEGIN:STANDARD
TZOFFSETFROM:-0300
TZOFFSETTO:-0400
TZNAME:AST
DTSTART:20251102T050000
END:STANDARD
BEGIN:DAYLIGHT
TZOFFSETFROM:-0400
TZOFFSETTO:-0300
TZNAME:ADT
DTSTART:20260308T060000
END:DAYLIGHT
BEGIN:STANDARD
TZOFFSETFROM:-0300
TZOFFSETTO:-0400
TZNAME:AST
DTSTART:20261101T050000
END:STANDARD
END:VTIMEZONE
BEGIN:VEVENT
DTSTART;TZID=America/Halifax:20250717T200000
DTEND;TZID=America/Halifax:20250717T233000
DTSTAMP:20260420T040626
CREATED:20250716T133857Z
LAST-MODIFIED:20250716T133857Z
UID:6736-1752782400-1752795000@www.waterfrontdistrict.ca
SUMMARY:Ethereal Tomb W/Mile End & Smuther
DESCRIPTION:BPP is proud to present the Unified By Demise Tour on Thursday\, July 17th! \nAll Ages showcase featuring: \nETHEREAL TOMB (Barrie\, ON)\nMILE END (Brampton\, ON)\nSMUTHER (Vancouver \,BC)\nLocals Support TBA \nAll Ages/Licensed\n8pm Doors\, 830pm Show\n$20/PWYC at the door
URL:https://www.waterfrontdistrict.ca/event/ethereal-tomb-w-mile-end-smuther/
LOCATION:Black Pirates Pub\, 215 Red River Rd\, Suite 101\, Thunder Bay\, ON\, Canada
CATEGORIES:Concert,Kids
END:VEVENT
BEGIN:VEVENT
DTSTART;TZID=America/Halifax:20250717T210000
DTEND;TZID=America/Halifax:20250717T210000
DTSTAMP:20260420T040626
CREATED:20250716T134258Z
LAST-MODIFIED:20250716T134317Z
UID:6738-1752786000-1752786000@www.waterfrontdistrict.ca
SUMMARY:Sober Karaoke
DESCRIPTION:THURSDAYS & SATURDAYS are KARAOKE NIGHT\nKaraoke starts @ 9pm\n5$
URL:https://www.waterfrontdistrict.ca/event/sober-karaoke-4/
LOCATION:Howl at The Moon Dry Bar\, 8 Cumberland st S\, Thunder Bay
END:VEVENT
BEGIN:VEVENT
DTSTART;TZID=America/Halifax:20250717T210000
DTEND;TZID=America/Halifax:20250717T210000
DTSTAMP:20260420T040626
CREATED:20250716T134612Z
LAST-MODIFIED:20250716T134629Z
UID:6740-1752786000-1752786000@www.waterfrontdistrict.ca
SUMMARY:Karaoke
DESCRIPTION:Karaoke at the Cantina Every Thursday night.\nNo cover. \nShow Starts 9PM at Nortenos Cantina.
URL:https://www.waterfrontdistrict.ca/event/karaoke-8/
LOCATION:Nortenos Cantina\, 235 Red River Rd\, Thunder Bay\, ON\, Canada
CATEGORIES:Food
END:VEVENT
BEGIN:VEVENT
DTSTART;TZID=America/Halifax:20250718T180000
DTEND;TZID=America/Halifax:20250718T210000
DTSTAMP:20260420T040626
CREATED:20250716T140212Z
LAST-MODIFIED:20250716T140212Z
UID:6746-1752861600-1752872400@www.waterfrontdistrict.ca
SUMMARY:Jazz and Old Fashioned Fridays Ft. Mood Indigo
DESCRIPTION:Don’t miss the spectacular scenery\, smooth jazz and incredibly crafted cocktails and food at Anchor & Ore in The Delta Hotel with Mood Indigo!
URL:https://www.waterfrontdistrict.ca/event/jazz-and-old-fashioned-fridays-ft-mood-indigo-2/
LOCATION:Anchor & Ore\, 2240 Sleeping Giant Pkwy\, Thunder Bay\, ON\, Canada
CATEGORIES:Concert,Food
END:VEVENT
BEGIN:VEVENT
DTSTART;TZID=America/Halifax:20250718T180000
DTEND;TZID=America/Halifax:20250718T220000
DTSTAMP:20260420T040626
CREATED:20250716T140525Z
LAST-MODIFIED:20250716T140525Z
UID:6748-1752861600-1752876000@www.waterfrontdistrict.ca
SUMMARY:Late Night Food Alley Ft DJ Ducktail
DESCRIPTION:Late Night Food Alley on Fridays!!! Come grab a bite from our in house restaurants\, grab a drink at @thewoodsidebar and enjoy music by DJ @_ducktail See you there
URL:https://www.waterfrontdistrict.ca/event/late-night-food-alley-ft-dj-ducktail-2/
LOCATION:Goods and co\, 251 Red River Rd\, Thunder Bay\, Ontario\, P7B 1A7\, Canada
CATEGORIES:Food
END:VEVENT
BEGIN:VEVENT
DTSTART;TZID=America/Halifax:20250718T190000
DTEND;TZID=America/Halifax:20250718T220000
DTSTAMP:20260420T040626
CREATED:20250716T143619Z
LAST-MODIFIED:20250716T144012Z
UID:6761-1752865200-1752876000@www.waterfrontdistrict.ca
SUMMARY:Dave Mancuso Art Opening
DESCRIPTION:
URL:https://www.waterfrontdistrict.ca/event/dave-mancuso-art-opening/
LOCATION:Co. Lab Gallery\, 251 Red River Road\, Thunder Bay\, ON\, P7B 1A7\, Canada
END:VEVENT
BEGIN:VEVENT
DTSTART;TZID=America/Halifax:20250718T200000
DTEND;TZID=America/Halifax:20250718T200000
DTSTAMP:20260420T040626
CREATED:20250716T144611Z
LAST-MODIFIED:20250716T144656Z
UID:6766-1752868800-1752868800@www.waterfrontdistrict.ca
SUMMARY:DJ Luv
DESCRIPTION:
URL:https://www.waterfrontdistrict.ca/event/dj-luv/
LOCATION:Woodside Bar\, 251 Red River Road\, Thunder Bay\, ON\, P7B 1A7\, Canada
END:VEVENT
BEGIN:VEVENT
DTSTART;TZID=America/Halifax:20250718T210000
DTEND;TZID=America/Halifax:20250718T210000
DTSTAMP:20260420T040626
CREATED:20250716T141057Z
LAST-MODIFIED:20250716T141112Z
UID:6750-1752872400-1752872400@www.waterfrontdistrict.ca
SUMMARY:Local Flavours Mixed Vibe Variety Show
DESCRIPTION:So Yummy!!! You know what’s best about our scene\, we got so much flavour! BPP is proud to present LOCAL FLAVOURS! An evening full of killer local talent. Featuring: \nEZRA (Pop/Independent)\nJordan Humeniuk (Country/Roots)\nKilli Vanilla (Eclectic Rock/Pop)\nBrazen Bull (Hard Rock/Heavy Metal) \n$10 at the door\, 19+\nDoors at 9pm\, Show at 10pm
URL:https://www.waterfrontdistrict.ca/event/local-flavours-mixed-vibe-variety-show/
LOCATION:Black Pirates Pub\, 215 Red River Rd\, Suite 101\, Thunder Bay\, ON\, Canada
END:VEVENT
BEGIN:VEVENT
DTSTART;TZID=America/Halifax:20250718T220000
DTEND;TZID=America/Halifax:20250718T220000
DTSTAMP:20260420T040626
CREATED:20250716T141352Z
LAST-MODIFIED:20250716T141410Z
UID:6752-1752876000-1752876000@www.waterfrontdistrict.ca
SUMMARY:Karaoke
DESCRIPTION:Karaoke every Thursday and Friday night at the Waterhouse!
URL:https://www.waterfrontdistrict.ca/event/karaoke-10/
LOCATION:Waterhouse\, 9 Cumberland St S\, Thunder Bay\, ON\, P7B 2T1
END:VEVENT
BEGIN:VEVENT
DTSTART;TZID=America/Halifax:20250718T220000
DTEND;TZID=America/Halifax:20250718T220000
DTSTAMP:20260420T040626
CREATED:20250716T141954Z
LAST-MODIFIED:20250716T142021Z
UID:6754-1752876000-1752876000@www.waterfrontdistrict.ca
SUMMARY:The Selfies
DESCRIPTION:Ain’t no party like a Selfies party because The Selfies parties don’t stop! Come on down to the Foundry on July 18th and get ready to DANCE! 💃🏼🕺🏽
URL:https://www.waterfrontdistrict.ca/event/the-selfies-2/
LOCATION:The Foundry\, 242 Red River Road\, Thunder Bay\, Ontario\, p7b1a6\, Canada
END:VEVENT
BEGIN:VEVENT
DTSTART;TZID=America/Halifax:20250718T220000
DTEND;TZID=America/Halifax:20250718T220000
DTSTAMP:20260420T040626
CREATED:20250716T142514Z
LAST-MODIFIED:20250716T142645Z
UID:6756-1752876000-1752876000@www.waterfrontdistrict.ca
SUMMARY:DJ Dizzle
DESCRIPTION:
URL:https://www.waterfrontdistrict.ca/event/dj-dizzle/
LOCATION:Nortenos Cantina\, 235 Red River Rd\, Thunder Bay\, ON\, Canada
END:VEVENT
BEGIN:VEVENT
DTSTART;TZID=America/Halifax:20250718T230000
DTEND;TZID=America/Halifax:20250718T230000
DTSTAMP:20260420T040626
CREATED:20250716T143300Z
LAST-MODIFIED:20250716T143321Z
UID:6759-1752879600-1752879600@www.waterfrontdistrict.ca
SUMMARY:Pocket After Dark
DESCRIPTION:No Cover // 19+
URL:https://www.waterfrontdistrict.ca/event/pocket-after-dark-5/
LOCATION:Pocketchange Bar\, 234 Red River Rd\, Thunder Bay\, ON\, P7B 1A6\, Canada
END:VEVENT
BEGIN:VEVENT
DTSTART;TZID=America/Halifax:20250719T150000
DTEND;TZID=America/Halifax:20250719T200000
DTSTAMP:20260420T040626
CREATED:20250513T153622Z
LAST-MODIFIED:20250513T153622Z
UID:6405-1752937200-1752955200@www.waterfrontdistrict.ca
SUMMARY:Festival of India
DESCRIPTION:Experience the rhythm of Indian beats\, indulge in delicious Indian cuisine\, and witness mesmerizing performances that will transport you to the heart of India!
URL:https://www.waterfrontdistrict.ca/event/festival-of-india-2/
LOCATION:Marina Park\, Thunder Bay\, ON\, Canada
CATEGORIES:Concert,Event
END:VEVENT
BEGIN:VEVENT
DTSTART;TZID=America/Halifax:20250719T150000
DTEND;TZID=America/Halifax:20250719T210000
DTSTAMP:20260420T040626
CREATED:20250716T145005Z
LAST-MODIFIED:20250716T145204Z
UID:6768-1752937200-1752958800@www.waterfrontdistrict.ca
SUMMARY:Vinyl Saturdays
DESCRIPTION:Dust off your records ’cause every Saturday you can be your own DJ and spin your favourite tunes on Red Lion Smokehouse’s house record player for “Bring Your Own Vinyl Saturday”\nDon’t have a record? Peruse the house crate and take the playlist into your own hands\, or better yet\, pop over to The Vinyl Frontier located right next door to Red Lion and start your own collection.
URL:https://www.waterfrontdistrict.ca/event/vinyl-saturdays-2/
LOCATION:Red Lion Smokehouse\, 16 Cumberland St S\, Thunder Bay\, ON\, 16 Cumberland St S\, Canada
CATEGORIES:Food
END:VEVENT
BEGIN:VEVENT
DTSTART;TZID=America/Halifax:20250719T160000
DTEND;TZID=America/Halifax:20250719T180000
DTSTAMP:20260420T040626
CREATED:20250716T150839Z
LAST-MODIFIED:20250716T150839Z
UID:6778-1752940800-1752948000@www.waterfrontdistrict.ca
SUMMARY:Acoustic Cover With Bill and Shan
DESCRIPTION:
URL:https://www.waterfrontdistrict.ca/event/acoustic-cover-with-bill-and-shan/
LOCATION:Red Lion Smokehouse\, 16 Cumberland St S\, Thunder Bay\, ON\, 16 Cumberland St S\, Canada
END:VEVENT
BEGIN:VEVENT
DTSTART;TZID=America/Halifax:20250719T210000
DTEND;TZID=America/Halifax:20250719T210000
DTSTAMP:20260420T040626
CREATED:20250716T145442Z
LAST-MODIFIED:20250716T145504Z
UID:6770-1752958800-1752958800@www.waterfrontdistrict.ca
SUMMARY:Sober Karaoke
DESCRIPTION:THURSDAYS & SATURDAYS are KARAOKE NIGHT\nKaraoke starts @ 9pm\n5$
URL:https://www.waterfrontdistrict.ca/event/sober-karaoke-5/
LOCATION:Howl at The Moon Dry Bar\, 8 Cumberland st S\, Thunder Bay
END:VEVENT
BEGIN:VEVENT
DTSTART;TZID=America/Halifax:20250719T220000
DTEND;TZID=America/Halifax:20250719T220000
DTSTAMP:20260420T040626
CREATED:20250716T145841Z
LAST-MODIFIED:20250716T145855Z
UID:6772-1752962400-1752962400@www.waterfrontdistrict.ca
SUMMARY:Pulse Ft DJ Rogue
DESCRIPTION: 4P Productions presents: PULSE This Saturday\, July 19th\, the party turns up with DJ Rogue spinning the hottest tracks; urban\, dance\, pop & more  Beats that move you. Vibes that last. Only $5 cover 19+ event Don’t miss out! come feel the pulse 
URL:https://www.waterfrontdistrict.ca/event/pulse-ft-dj-rogue/
LOCATION:The Foundry\, 242 Red River Road\, Thunder Bay\, Ontario\, p7b1a6\, Canada
END:VEVENT
BEGIN:VEVENT
DTSTART;TZID=America/Halifax:20250719T220000
DTEND;TZID=America/Halifax:20250719T220000
DTSTAMP:20260420T040626
CREATED:20250716T150148Z
LAST-MODIFIED:20250716T150210Z
UID:6774-1752962400-1752962400@www.waterfrontdistrict.ca
SUMMARY:Heat Wave Ft DJ Big D
DESCRIPTION:
URL:https://www.waterfrontdistrict.ca/event/heat-wave-ft-dj-big-d/
LOCATION:Nortenos Cantina\, 235 Red River Rd\, Thunder Bay\, ON\, Canada
END:VEVENT
BEGIN:VEVENT
DTSTART;TZID=America/Halifax:20250719T230000
DTEND;TZID=America/Halifax:20250719T230000
DTSTAMP:20260420T040626
CREATED:20250716T150456Z
LAST-MODIFIED:20250716T150512Z
UID:6776-1752966000-1752966000@www.waterfrontdistrict.ca
SUMMARY:Pocket After Dark
DESCRIPTION:No Cover // 19+
URL:https://www.waterfrontdistrict.ca/event/pocket-after-dark-6/
LOCATION:Pocketchange Bar\, 234 Red River Rd\, Thunder Bay\, ON\, P7B 1A6\, Canada
END:VEVENT
BEGIN:VEVENT
DTSTART;TZID=America/Halifax:20250720T130000
DTEND;TZID=America/Halifax:20250720T170000
DTSTAMP:20260420T040626
CREATED:20250716T151056Z
LAST-MODIFIED:20250716T151056Z
UID:6780-1753016400-1753030800@www.waterfrontdistrict.ca
SUMMARY:Sober Matinee Karaoke
DESCRIPTION:Sunday Afternoons 1pm to 5pm!
URL:https://www.waterfrontdistrict.ca/event/sober-matinee-karaoke-3/
LOCATION:Howl at The Moon Dry Bar\, 8 Cumberland st S\, Thunder Bay
END:VEVENT
BEGIN:VEVENT
DTSTART;TZID=America/Halifax:20250720T150000
DTEND;TZID=America/Halifax:20250720T190000
DTSTAMP:20260420T040626
CREATED:20250513T153931Z
LAST-MODIFIED:20250513T153931Z
UID:6407-1753023600-1753038000@www.waterfrontdistrict.ca
SUMMARY:Festival of Colours
DESCRIPTION:Participants play\, chase and colour each other with dry powder. There will be Interactive Dance\, Live Kirtan Bands\, DJs\, Yoga\, Cuisine\, Colours\, and… Lots of Fun.
URL:https://www.waterfrontdistrict.ca/event/festival-of-colours-2/
LOCATION:Marina Park\, Thunder Bay\, ON\, Canada
CATEGORIES:Concert,Event
END:VEVENT
BEGIN:VEVENT
DTSTART;TZID=America/Halifax:20250720T160000
DTEND;TZID=America/Halifax:20250720T160000
DTSTAMP:20260420T040626
CREATED:20250716T151410Z
LAST-MODIFIED:20250716T151429Z
UID:6782-1753027200-1753027200@www.waterfrontdistrict.ca
SUMMARY:Movie Night
DESCRIPTION:
URL:https://www.waterfrontdistrict.ca/event/movie-night/
LOCATION:Paramount Live\, 24 Court St S\, Thunder Bay
CATEGORIES:Event,Kids
END:VEVENT
BEGIN:VEVENT
DTSTART;TZID=America/Halifax:20250723T180000
DTEND;TZID=America/Halifax:20250723T210000
DTSTAMP:20260420T040626
CREATED:20250513T154543Z
LAST-MODIFIED:20250513T154549Z
UID:6411-1753293600-1753304400@www.waterfrontdistrict.ca
SUMMARY:Live on the Waterfront Wednesdays
DESCRIPTION:Live on the Waterfront is a highly anticipated 8-part concert series that takes place every Wednesday evening during the summer season at Prince Arthur’s Landing\, Marina Park that featuring an impressive lineup of musical acts! Come out every Wednesday this summer at Marina Park\, starting on July 16th till August 20th. PLUS the Summer Send Off\, two back-to-back days\, August 27 and 28\, at Marina Park.
URL:https://www.waterfrontdistrict.ca/event/live-on-the-waterfront-wednesdays-2/
LOCATION:Marina Park\, Thunder Bay\, ON\, Canada
CATEGORIES:Concert,Event
END:VEVENT
BEGIN:VEVENT
DTSTART;TZID=America/Halifax:20250724T190000
DTEND;TZID=America/Halifax:20250724T220000
DTSTAMP:20260420T040626
CREATED:20250722T131008Z
LAST-MODIFIED:20250722T131008Z
UID:6795-1753383600-1753394400@www.waterfrontdistrict.ca
SUMMARY:Open Mic Night
DESCRIPTION:What’s Open Mic Night all about? Fresh beer\, delicious food\, local talent\, and good vibes.🙌 \nDiscover new local talent every Thursday from 7:30-10pm in the taproom or sign up at the bar and perform for a free beverage! \nNo experience needed\, we’re here to cheer you on. \nTaproom open 4pm-11pm Thursday!🍻 \n**All ages / guardian supervision is mandatory for minors
URL:https://www.waterfrontdistrict.ca/event/open-mic-night-4/
LOCATION:Lakehead Beer Co\, 206 Park Ave\, Thunder Bay
CATEGORIES:Food
END:VEVENT
BEGIN:VEVENT
DTSTART;TZID=America/Halifax:20250724T200000
DTEND;TZID=America/Halifax:20250724T233000
DTSTAMP:20260420T040626
CREATED:20250722T131800Z
LAST-MODIFIED:20250722T131800Z
UID:6797-1753387200-1753399800@www.waterfrontdistrict.ca
SUMMARY:The Defamed W/ Crooked King\, The Vertebraekers & Coyote SwitchBlade
DESCRIPTION:Montreal street punk rockers THE DEFAMED are touring the country and hitting up Black Pirates Pub on Thursday\, July 24th. Killer band\, great energy\, you don’t want to miss it!! \nStacked lineup of local Support from:\nCrooked King\nCoyote Switchblade\nThe Vertebraekers \n$15 at the door\, All Ages.\nDoors at 8pm\, Show at 830pm
URL:https://www.waterfrontdistrict.ca/event/the-defamed-w-crooked-king-the-vertebraekers-coyote-switchblade/
LOCATION:Black Pirates Pub\, 215 Red River Rd\, Suite 101\, Thunder Bay\, ON\, Canada
END:VEVENT
BEGIN:VEVENT
DTSTART;TZID=America/Halifax:20250724T210000
DTEND;TZID=America/Halifax:20250724T210000
DTSTAMP:20260420T040626
CREATED:20250722T132236Z
LAST-MODIFIED:20250722T132255Z
UID:6799-1753390800-1753390800@www.waterfrontdistrict.ca
SUMMARY:Sober Karaoke
DESCRIPTION:THURSDAYS & SATURDAYS are KARAOKE NIGHT\nKaraoke starts @ 9pm\n5$
URL:https://www.waterfrontdistrict.ca/event/sober-karaoke-6/
LOCATION:Howl at The Moon Dry Bar\, 8 Cumberland st S\, Thunder Bay
END:VEVENT
BEGIN:VEVENT
DTSTART;TZID=America/Halifax:20250724T210000
DTEND;TZID=America/Halifax:20250724T210000
DTSTAMP:20260420T040626
CREATED:20250722T132516Z
LAST-MODIFIED:20250722T132536Z
UID:6801-1753390800-1753390800@www.waterfrontdistrict.ca
SUMMARY:Karaoke
DESCRIPTION:Karaoke at the Cantina Every Thursday night.\nNo cover. \nShow Starts 9PM at Nortenos Cantina.
URL:https://www.waterfrontdistrict.ca/event/karaoke-11/
LOCATION:Nortenos Cantina\, 235 Red River Rd\, Thunder Bay\, ON\, Canada
CATEGORIES:Food
END:VEVENT
BEGIN:VEVENT
DTSTART;TZID=America/Halifax:20250724T220000
DTEND;TZID=America/Halifax:20250724T220000
DTSTAMP:20260420T040626
CREATED:20250722T132746Z
LAST-MODIFIED:20250722T132802Z
UID:6803-1753394400-1753394400@www.waterfrontdistrict.ca
SUMMARY:Karaoke
DESCRIPTION:
URL:https://www.waterfrontdistrict.ca/event/karaoke-12/
LOCATION:Waterhouse\, 9 Cumberland St S\, Thunder Bay\, ON\, P7B 2T1
END:VEVENT
BEGIN:VEVENT
DTSTART;TZID=America/Halifax:20250725T180000
DTEND;TZID=America/Halifax:20250725T210000
DTSTAMP:20260420T040626
CREATED:20250722T133136Z
LAST-MODIFIED:20250722T133136Z
UID:6805-1753466400-1753477200@www.waterfrontdistrict.ca
SUMMARY:Jazz and Old Fashioned Fridays Ft. Mood Indigo
DESCRIPTION:Don’t miss the spectacular scenery\, smooth jazz and incredibly crafted cocktails and food at Anchor & Ore in The Delta Hotel with Mood Indigo!
URL:https://www.waterfrontdistrict.ca/event/jazz-and-old-fashioned-fridays-ft-mood-indigo-3/
LOCATION:Anchor & Ore\, 2240 Sleeping Giant Pkwy\, Thunder Bay\, ON\, Canada
CATEGORIES:Food
END:VEVENT
BEGIN:VEVENT
DTSTART;TZID=America/Halifax:20250725T180000
DTEND;TZID=America/Halifax:20250725T220000
DTSTAMP:20260420T040626
CREATED:20250722T133459Z
LAST-MODIFIED:20250722T133459Z
UID:6807-1753466400-1753480800@www.waterfrontdistrict.ca
SUMMARY:Late Night Food Alley Ft DJ Ducktail
DESCRIPTION:Late Night Food Alley on Fridays!!! Come grab a bite from our in house restaurants\, grab a drink at @thewoodsidebar and enjoy music by DJ @_ducktail See you there
URL:https://www.waterfrontdistrict.ca/event/late-night-food-alley-ft-dj-ducktail-3/
LOCATION:Goods and co\, 251 Red River Rd\, Thunder Bay\, Ontario\, P7B 1A7\, Canada
CATEGORIES:Food
END:VEVENT
END:VCALENDAR