BEGIN:VCALENDAR
VERSION:2.0
PRODID:-//Waterfront District BIA - ECPv6.15.20//NONSGML v1.0//EN
CALSCALE:GREGORIAN
METHOD:PUBLISH
X-ORIGINAL-URL:https://www.waterfrontdistrict.ca
X-WR-CALDESC:Events for Waterfront District BIA
REFRESH-INTERVAL;VALUE=DURATION:PT1H
X-Robots-Tag:noindex
X-PUBLISHED-TTL:PT1H
BEGIN:VTIMEZONE
TZID:America/Halifax
BEGIN:DAYLIGHT
TZOFFSETFROM:-0400
TZOFFSETTO:-0300
TZNAME:ADT
DTSTART:20240310T060000
END:DAYLIGHT
BEGIN:STANDARD
TZOFFSETFROM:-0300
TZOFFSETTO:-0400
TZNAME:AST
DTSTART:20241103T050000
END:STANDARD
BEGIN:DAYLIGHT
TZOFFSETFROM:-0400
TZOFFSETTO:-0300
TZNAME:ADT
DTSTART:20250309T060000
END:DAYLIGHT
BEGIN:STANDARD
TZOFFSETFROM:-0300
TZOFFSETTO:-0400
TZNAME:AST
DTSTART:20251102T050000
END:STANDARD
BEGIN:DAYLIGHT
TZOFFSETFROM:-0400
TZOFFSETTO:-0300
TZNAME:ADT
DTSTART:20260308T060000
END:DAYLIGHT
BEGIN:STANDARD
TZOFFSETFROM:-0300
TZOFFSETTO:-0400
TZNAME:AST
DTSTART:20261101T050000
END:STANDARD
END:VTIMEZONE
BEGIN:VEVENT
DTSTART;TZID=America/Halifax:20251212T220000
DTEND;TZID=America/Halifax:20251212T220000
DTSTAMP:20260420T170001
CREATED:20251211T202509Z
LAST-MODIFIED:20251211T202526Z
UID:7811-1765576800-1765576800@www.waterfrontdistrict.ca
SUMMARY:Pocket After Dark
DESCRIPTION:
URL:https://www.waterfrontdistrict.ca/event/pocket-after-dark-33/
LOCATION:Pocketchange Bar\, 234 Red River Rd\, Thunder Bay\, ON\, P7B 1A6\, Canada
END:VEVENT
BEGIN:VEVENT
DTSTART;TZID=America/Halifax:20251213T100000
DTEND;TZID=America/Halifax:20251213T160000
DTSTAMP:20260420T170001
CREATED:20251211T204646Z
LAST-MODIFIED:20251211T204646Z
UID:7813-1765620000-1765641600@www.waterfrontdistrict.ca
SUMMARY:Holiday Market Pop Ups
DESCRIPTION:
URL:https://www.waterfrontdistrict.ca/event/holiday-market-pop-ups-2/
LOCATION:Goods and co\, 251 Red River Rd\, Thunder Bay\, Ontario\, P7B 1A7\, Canada
END:VEVENT
BEGIN:VEVENT
DTSTART;TZID=America/Halifax:20251213T140000
DTEND;TZID=America/Halifax:20251213T140000
DTSTAMP:20260420T170001
CREATED:20251211T205523Z
LAST-MODIFIED:20251211T205536Z
UID:7819-1765634400-1765634400@www.waterfrontdistrict.ca
SUMMARY:Every Christmas Story Ever Told (And Then Some)
DESCRIPTION:Show one at 2pm \nShow two at 7:30pm
URL:https://www.waterfrontdistrict.ca/event/every-christmas-story-ever-told-and-then-some-2/
LOCATION:Magnus Theatre\, 10 Algoma St S\, Thunder Bay\, Ontario\, P7B 3A7\, Canada
END:VEVENT
BEGIN:VEVENT
DTSTART;TZID=America/Halifax:20251213T200000
DTEND;TZID=America/Halifax:20251213T200000
DTSTAMP:20260420T170001
CREATED:20251211T205757Z
LAST-MODIFIED:20251211T205815Z
UID:7821-1765656000-1765656000@www.waterfrontdistrict.ca
SUMMARY:B!TCHES BEE FUNNY
DESCRIPTION:
URL:https://www.waterfrontdistrict.ca/event/btches-bee-funny/
LOCATION:Red Lion Smokehouse\, 16 Cumberland St S\, Thunder Bay\, ON\, 16 Cumberland St S\, Canada
END:VEVENT
BEGIN:VEVENT
DTSTART;TZID=America/Halifax:20251213T203000
DTEND;TZID=America/Halifax:20251213T203000
DTSTAMP:20260420T170001
CREATED:20251211T210510Z
LAST-MODIFIED:20251211T210523Z
UID:7827-1765657800-1765657800@www.waterfrontdistrict.ca
SUMMARY:Sober Karaoke
DESCRIPTION:AA
URL:https://www.waterfrontdistrict.ca/event/sober-karaoke-17/
LOCATION:Howl at The Moon Dry Bar\, 8 Cumberland st S\, Thunder Bay
END:VEVENT
BEGIN:VEVENT
DTSTART;TZID=America/Halifax:20251213T210000
DTEND;TZID=America/Halifax:20251213T210000
DTSTAMP:20260420T170001
CREATED:20251211T210244Z
LAST-MODIFIED:20251211T210344Z
UID:7825-1765659600-1765659600@www.waterfrontdistrict.ca
SUMMARY:The 12th Annual Ho Ho Ho Dragshow
DESCRIPTION:19+
URL:https://www.waterfrontdistrict.ca/event/the-12th-annual-ho-ho-ho-dragshow/
LOCATION:Black Pirates Pub\, 215 Red River Rd\, Suite 101\, Thunder Bay\, ON\, Canada
END:VEVENT
BEGIN:VEVENT
DTSTART;TZID=America/Halifax:20251213T220000
DTEND;TZID=America/Halifax:20251213T220000
DTSTAMP:20260420T170001
CREATED:20251211T204902Z
LAST-MODIFIED:20251211T204912Z
UID:7815-1765663200-1765663200@www.waterfrontdistrict.ca
SUMMARY:Ladies Night
DESCRIPTION:19+
URL:https://www.waterfrontdistrict.ca/event/ladies-night-5/
LOCATION:NV Music Hall\, 228 Red River Rd\, Thunder Bay\, ON\, Canada
END:VEVENT
BEGIN:VEVENT
DTSTART;TZID=America/Halifax:20251213T220000
DTEND;TZID=America/Halifax:20251213T220000
DTSTAMP:20260420T170001
CREATED:20251211T205048Z
LAST-MODIFIED:20251211T205109Z
UID:7817-1765663200-1765663200@www.waterfrontdistrict.ca
SUMMARY:DJ Big D Ugly Sweater  Dance Party
DESCRIPTION:19+
URL:https://www.waterfrontdistrict.ca/event/dj-big-d-ugly-sweater-dance-party/
LOCATION:Nortenos Cantina\, 235 Red River Rd\, Thunder Bay\, ON\, Canada
END:VEVENT
BEGIN:VEVENT
DTSTART;TZID=America/Halifax:20251213T220000
DTEND;TZID=America/Halifax:20251213T220000
DTSTAMP:20260420T170001
CREATED:20251211T210022Z
LAST-MODIFIED:20251211T210038Z
UID:7823-1765663200-1765663200@www.waterfrontdistrict.ca
SUMMARY:Sugarplum Shakedown The Ugly Sweater Party
DESCRIPTION:19+
URL:https://www.waterfrontdistrict.ca/event/sugarplum-shakedown-the-ugly-sweater-party/
LOCATION:The Foundry\, 242 Red River Road\, Thunder Bay\, Ontario\, p7b1a6\, Canada
END:VEVENT
BEGIN:VEVENT
DTSTART;TZID=America/Halifax:20251213T220000
DTEND;TZID=America/Halifax:20251213T220000
DTSTAMP:20260420T170001
CREATED:20251211T210804Z
LAST-MODIFIED:20251211T210823Z
UID:7829-1765663200-1765663200@www.waterfrontdistrict.ca
SUMMARY:Pocket After Dark
DESCRIPTION:19+
URL:https://www.waterfrontdistrict.ca/event/pocket-after-dark-34/
LOCATION:Pocketchange Bar\, 234 Red River Rd\, Thunder Bay\, ON\, P7B 1A6\, Canada
END:VEVENT
BEGIN:VEVENT
DTSTART;VALUE=DATE:20251214
DTEND;VALUE=DATE:20251215
DTSTAMP:20260420T170001
CREATED:20250513T171901Z
LAST-MODIFIED:20250513T171901Z
UID:6485-1765670400-1765756799@www.waterfrontdistrict.ca
SUMMARY:Frostbite Run
DESCRIPTION:
URL:https://www.waterfrontdistrict.ca/event/frostbite-run/
LOCATION:Marina Park\, Thunder Bay\, ON\, Canada
CATEGORIES:Event
END:VEVENT
BEGIN:VEVENT
DTSTART;TZID=America/Halifax:20251214T100000
DTEND;TZID=America/Halifax:20251214T160000
DTSTAMP:20260420T170001
CREATED:20251211T211123Z
LAST-MODIFIED:20251211T211123Z
UID:7831-1765706400-1765728000@www.waterfrontdistrict.ca
SUMMARY:Holiday Market Pop Ups
DESCRIPTION:
URL:https://www.waterfrontdistrict.ca/event/holiday-market-pop-ups-3/
LOCATION:Goods and co\, 251 Red River Rd\, Thunder Bay\, Ontario\, P7B 1A7\, Canada
END:VEVENT
BEGIN:VEVENT
DTSTART;TZID=America/Halifax:20251214T120000
DTEND;TZID=America/Halifax:20251214T150000
DTSTAMP:20260420T170001
CREATED:20251211T212004Z
LAST-MODIFIED:20251211T212040Z
UID:7839-1765713600-1765724400@www.waterfrontdistrict.ca
SUMMARY:Bottomless Mimosas Every Sunday
DESCRIPTION:
URL:https://www.waterfrontdistrict.ca/event/bottomless-mimosas-every-sunday/
LOCATION:Red Lion Smokehouse\, 16 Cumberland St S\, Thunder Bay\, ON\, 16 Cumberland St S\, Canada
END:VEVENT
BEGIN:VEVENT
DTSTART;TZID=America/Halifax:20251214T130000
DTEND;TZID=America/Halifax:20251214T130000
DTSTAMP:20260420T170001
CREATED:20251211T211256Z
LAST-MODIFIED:20251211T211312Z
UID:7833-1765717200-1765717200@www.waterfrontdistrict.ca
SUMMARY:Live Concert: HANNELE KORMANO
DESCRIPTION:
URL:https://www.waterfrontdistrict.ca/event/live-concert-hannele-kormano/
LOCATION:Goods and co\, 251 Red River Rd\, Thunder Bay\, Ontario\, P7B 1A7\, Canada
END:VEVENT
BEGIN:VEVENT
DTSTART;TZID=America/Halifax:20251214T140000
DTEND;TZID=America/Halifax:20251214T140000
DTSTAMP:20260420T170001
CREATED:20251211T211552Z
LAST-MODIFIED:20251211T211603Z
UID:7835-1765720800-1765720800@www.waterfrontdistrict.ca
SUMMARY:Every Christmas Story Ever Told (And Then Some)
DESCRIPTION:
URL:https://www.waterfrontdistrict.ca/event/every-christmas-story-ever-told-and-then-some-3/
LOCATION:Magnus Theatre\, 10 Algoma St S\, Thunder Bay\, Ontario\, P7B 3A7\, Canada
END:VEVENT
BEGIN:VEVENT
DTSTART;TZID=America/Halifax:20251214T160000
DTEND;TZID=America/Halifax:20251214T160000
DTSTAMP:20260420T170001
CREATED:20251211T211831Z
LAST-MODIFIED:20251211T211844Z
UID:7837-1765728000-1765728000@www.waterfrontdistrict.ca
SUMMARY:Movie Night
DESCRIPTION:
URL:https://www.waterfrontdistrict.ca/event/movie-night-7/
LOCATION:Paramount Live\, 24 Court St S\, Thunder Bay
END:VEVENT
BEGIN:VEVENT
DTSTART;TZID=America/Halifax:20251219T110000
DTEND;TZID=America/Halifax:20251219T160000
DTSTAMP:20260420T170001
CREATED:20251219T165041Z
LAST-MODIFIED:20251219T165041Z
UID:7850-1766142000-1766160000@www.waterfrontdistrict.ca
SUMMARY:Holiday Market Pop Ups
DESCRIPTION:
URL:https://www.waterfrontdistrict.ca/event/holiday-market-pop-ups-4/
LOCATION:Goods and co\, 251 Red River Rd\, Thunder Bay\, Ontario\, P7B 1A7\, Canada
END:VEVENT
BEGIN:VEVENT
DTSTART;TZID=America/Halifax:20251219T190000
DTEND;TZID=America/Halifax:20251219T220000
DTSTAMP:20260420T170001
CREATED:20251219T164848Z
LAST-MODIFIED:20251219T164848Z
UID:7848-1766170800-1766181600@www.waterfrontdistrict.ca
SUMMARY:Not Your Grandmas Bingo Night Bad Santa Edition
DESCRIPTION:
URL:https://www.waterfrontdistrict.ca/event/not-your-grandmas-bingo-night-bad-santa-edition/
LOCATION:Pocketchange Bar\, 234 Red River Rd\, Thunder Bay\, ON\, P7B 1A6\, Canada
END:VEVENT
BEGIN:VEVENT
DTSTART;TZID=America/Halifax:20251219T210000
DTEND;TZID=America/Halifax:20251219T210000
DTSTAMP:20260420T170001
CREATED:20251219T164607Z
LAST-MODIFIED:20251219T164623Z
UID:7846-1766178000-1766178000@www.waterfrontdistrict.ca
SUMMARY:A Very Merry Metal Kissmas Tribute Show
DESCRIPTION:
URL:https://www.waterfrontdistrict.ca/event/a-very-merry-metal-kissmas-tribute-show/
LOCATION:Black Pirates Pub\, 215 Red River Rd\, Suite 101\, Thunder Bay\, ON\, Canada
END:VEVENT
BEGIN:VEVENT
DTSTART;TZID=America/Halifax:20251219T210000
DTEND;TZID=America/Halifax:20251219T210000
DTSTAMP:20260420T170001
CREATED:20251219T165144Z
LAST-MODIFIED:20251219T165158Z
UID:7852-1766178000-1766178000@www.waterfrontdistrict.ca
SUMMARY:Music Bingo
DESCRIPTION:
URL:https://www.waterfrontdistrict.ca/event/music-bingo-4/
LOCATION:Red Lion Smokehouse\, 16 Cumberland St S\, Thunder Bay\, ON\, 16 Cumberland St S\, Canada
END:VEVENT
BEGIN:VEVENT
DTSTART;TZID=America/Halifax:20251219T220000
DTEND;TZID=America/Halifax:20251219T220000
DTSTAMP:20260420T170001
CREATED:20251219T161506Z
LAST-MODIFIED:20251219T161529Z
UID:7842-1766181600-1766181600@www.waterfrontdistrict.ca
SUMMARY:Bollywood Night
DESCRIPTION:
URL:https://www.waterfrontdistrict.ca/event/bollywood-night/
LOCATION:NV Music Hall\, 228 Red River Rd\, Thunder Bay\, ON\, Canada
END:VEVENT
BEGIN:VEVENT
DTSTART;TZID=America/Halifax:20251219T220000
DTEND;TZID=America/Halifax:20251219T220000
DTSTAMP:20260420T170001
CREATED:20251219T164410Z
LAST-MODIFIED:20251219T164431Z
UID:7844-1766181600-1766181600@www.waterfrontdistrict.ca
SUMMARY:Mother Of Wolves
DESCRIPTION:
URL:https://www.waterfrontdistrict.ca/event/mother-of-wolves-2/
LOCATION:The Foundry\, 242 Red River Road\, Thunder Bay\, Ontario\, p7b1a6\, Canada
END:VEVENT
BEGIN:VEVENT
DTSTART;TZID=America/Halifax:20251219T220000
DTEND;TZID=America/Halifax:20251219T220000
DTSTAMP:20260420T170001
CREATED:20251219T165307Z
LAST-MODIFIED:20251219T165326Z
UID:7854-1766181600-1766181600@www.waterfrontdistrict.ca
SUMMARY:DJ Sugarman
DESCRIPTION:
URL:https://www.waterfrontdistrict.ca/event/dj-sugarman-5/
LOCATION:Nortenos Cantina\, 235 Red River Rd\, Thunder Bay\, ON\, Canada
END:VEVENT
BEGIN:VEVENT
DTSTART;TZID=America/Halifax:20251220T100000
DTEND;TZID=America/Halifax:20251220T160000
DTSTAMP:20260420T170001
CREATED:20251219T180402Z
LAST-MODIFIED:20251219T180402Z
UID:7864-1766224800-1766246400@www.waterfrontdistrict.ca
SUMMARY:Holiday Market Pop Ups
DESCRIPTION:
URL:https://www.waterfrontdistrict.ca/event/holiday-market-pop-ups-5/
LOCATION:Goods and co\, 251 Red River Rd\, Thunder Bay\, Ontario\, P7B 1A7\, Canada
END:VEVENT
BEGIN:VEVENT
DTSTART;TZID=America/Halifax:20251220T110000
DTEND;TZID=America/Halifax:20251220T140000
DTSTAMP:20260420T170001
CREATED:20251219T182808Z
LAST-MODIFIED:20251219T182827Z
UID:7866-1766228400-1766239200@www.waterfrontdistrict.ca
SUMMARY:Photos With The Mean Green Guy
DESCRIPTION:
URL:https://www.waterfrontdistrict.ca/event/photos-with-the-mean-green-guy/
LOCATION:Red Lion Smokehouse\, 16 Cumberland St S\, Thunder Bay\, ON\, 16 Cumberland St S\, Canada
END:VEVENT
BEGIN:VEVENT
DTSTART;TZID=America/Halifax:20251220T170000
DTEND;TZID=America/Halifax:20251220T170000
DTSTAMP:20260420T170001
CREATED:20251219T174231Z
LAST-MODIFIED:20251219T180229Z
UID:7862-1766250000-1766250000@www.waterfrontdistrict.ca
SUMMARY:Baddie Santa Bash
DESCRIPTION:
URL:https://www.waterfrontdistrict.ca/event/baddie-santa-bash/
LOCATION:Pocketchange Bar\, 234 Red River Rd\, Thunder Bay\, ON\, P7B 1A6\, Canada
END:VEVENT
BEGIN:VEVENT
DTSTART;TZID=America/Halifax:20251220T200000
DTEND;TZID=America/Halifax:20251220T200000
DTSTAMP:20260420T170001
CREATED:20251219T183905Z
LAST-MODIFIED:20251219T183923Z
UID:7868-1766260800-1766260800@www.waterfrontdistrict.ca
SUMMARY:Christmas Sing-A-Long
DESCRIPTION:
URL:https://www.waterfrontdistrict.ca/event/christmas-sing-a-long/
LOCATION:Red Lion Smokehouse\, 16 Cumberland St S\, Thunder Bay\, ON\, 16 Cumberland St S\, Canada
END:VEVENT
BEGIN:VEVENT
DTSTART;TZID=America/Halifax:20251220T210000
DTEND;TZID=America/Halifax:20251220T210000
DTSTAMP:20260420T170001
CREATED:20251219T170034Z
LAST-MODIFIED:20251219T170054Z
UID:7858-1766264400-1766264400@www.waterfrontdistrict.ca
SUMMARY:EGGNOGGER
DESCRIPTION:
URL:https://www.waterfrontdistrict.ca/event/eggnogger/
LOCATION:The Foundry\, 242 Red River Road\, Thunder Bay\, Ontario\, p7b1a6\, Canada
END:VEVENT
BEGIN:VEVENT
DTSTART;TZID=America/Halifax:20251220T210000
DTEND;TZID=America/Halifax:20251220T210000
DTSTAMP:20260420T170001
CREATED:20251219T170351Z
LAST-MODIFIED:20251219T170406Z
UID:7860-1766264400-1766264400@www.waterfrontdistrict.ca
SUMMARY:Mean & Green Holiday Talent Show
DESCRIPTION:
URL:https://www.waterfrontdistrict.ca/event/mean-green-holiday-talent-show/
LOCATION:Black Pirates Pub\, 215 Red River Rd\, Suite 101\, Thunder Bay\, ON\, Canada
END:VEVENT
BEGIN:VEVENT
DTSTART;TZID=America/Halifax:20251220T220000
DTEND;TZID=America/Halifax:20251220T220000
DTSTAMP:20260420T170001
CREATED:20251219T165818Z
LAST-MODIFIED:20251219T165853Z
UID:7856-1766268000-1766268000@www.waterfrontdistrict.ca
SUMMARY:Winter Whiteout
DESCRIPTION:
URL:https://www.waterfrontdistrict.ca/event/winter-whiteout/
LOCATION:NV Music Hall\, 228 Red River Rd\, Thunder Bay\, ON\, Canada
END:VEVENT
END:VCALENDAR