BEGIN:VCALENDAR
VERSION:2.0
PRODID:-//Waterfront District BIA - ECPv6.15.20//NONSGML v1.0//EN
CALSCALE:GREGORIAN
METHOD:PUBLISH
X-WR-CALNAME:Waterfront District BIA
X-ORIGINAL-URL:https://www.waterfrontdistrict.ca
X-WR-CALDESC:Events for Waterfront District BIA
REFRESH-INTERVAL;VALUE=DURATION:PT1H
X-Robots-Tag:noindex
X-PUBLISHED-TTL:PT1H
BEGIN:VTIMEZONE
TZID:America/Halifax
BEGIN:DAYLIGHT
TZOFFSETFROM:-0400
TZOFFSETTO:-0300
TZNAME:ADT
DTSTART:20230312T060000
END:DAYLIGHT
BEGIN:STANDARD
TZOFFSETFROM:-0300
TZOFFSETTO:-0400
TZNAME:AST
DTSTART:20231105T050000
END:STANDARD
BEGIN:DAYLIGHT
TZOFFSETFROM:-0400
TZOFFSETTO:-0300
TZNAME:ADT
DTSTART:20240310T060000
END:DAYLIGHT
BEGIN:STANDARD
TZOFFSETFROM:-0300
TZOFFSETTO:-0400
TZNAME:AST
DTSTART:20241103T050000
END:STANDARD
BEGIN:DAYLIGHT
TZOFFSETFROM:-0400
TZOFFSETTO:-0300
TZNAME:ADT
DTSTART:20250309T060000
END:DAYLIGHT
BEGIN:STANDARD
TZOFFSETFROM:-0300
TZOFFSETTO:-0400
TZNAME:AST
DTSTART:20251102T050000
END:STANDARD
END:VTIMEZONE
BEGIN:VEVENT
DTSTART;TZID=America/Halifax:20241207T100000
DTEND;TZID=America/Halifax:20241207T140000
DTSTAMP:20260419T124812
CREATED:20241101T193538Z
LAST-MODIFIED:20241203T193459Z
UID:6168-1733565600-1733580000@www.waterfrontdistrict.ca
SUMMARY:Photos with The Mean Green Guy
DESCRIPTION:Photos with the Mean Green Guy Sponsored by the Waterfront District and hosted at Goods & Co. Market – by donation!
URL:https://www.waterfrontdistrict.ca/event/photos-with-the-grinch/
LOCATION:Goods and co\, 251 Red River Rd\, Thunder Bay\, Ontario\, P7B 1A7\, Canada
END:VEVENT
BEGIN:VEVENT
DTSTART;VALUE=DATE:20241214
DTEND;VALUE=DATE:20241215
DTSTAMP:20260419T124812
CREATED:20241018T174743Z
LAST-MODIFIED:20241018T174743Z
UID:6164-1734134400-1734220799@www.waterfrontdistrict.ca
SUMMARY:Heart of the Holidays in the Waterfront District Event
DESCRIPTION:Our outdoor holiday event is coming to Red River Road! Get ready for it to transform into a winter wonderland! ❄️ Stay tuned for more details!
URL:https://www.waterfrontdistrict.ca/event/heart-of-the-holidays-in-the-waterfront-district-event/
LOCATION:ON
END:VEVENT
END:VCALENDAR